BEGIN:VCALENDAR
VERSION:2.0
PRODID:-//Neighbur - ECPv6.15.18//NONSGML v1.0//EN
CALSCALE:GREGORIAN
METHOD:PUBLISH
X-ORIGINAL-URL:https://neighbur.net
X-WR-CALDESC:Events for Neighbur
REFRESH-INTERVAL;VALUE=DURATION:PT1H
X-Robots-Tag:noindex
X-PUBLISHED-TTL:PT1H
BEGIN:VTIMEZONE
TZID:America/Toronto
BEGIN:DAYLIGHT
TZOFFSETFROM:-0500
TZOFFSETTO:-0400
TZNAME:EDT
DTSTART:20240310T070000
END:DAYLIGHT
BEGIN:STANDARD
TZOFFSETFROM:-0400
TZOFFSETTO:-0500
TZNAME:EST
DTSTART:20241103T060000
END:STANDARD
BEGIN:DAYLIGHT
TZOFFSETFROM:-0500
TZOFFSETTO:-0400
TZNAME:EDT
DTSTART:20250309T070000
END:DAYLIGHT
BEGIN:STANDARD
TZOFFSETFROM:-0400
TZOFFSETTO:-0500
TZNAME:EST
DTSTART:20251102T060000
END:STANDARD
BEGIN:DAYLIGHT
TZOFFSETFROM:-0500
TZOFFSETTO:-0400
TZNAME:EDT
DTSTART:20260308T070000
END:DAYLIGHT
BEGIN:STANDARD
TZOFFSETFROM:-0400
TZOFFSETTO:-0500
TZNAME:EST
DTSTART:20261101T060000
END:STANDARD
END:VTIMEZONE
BEGIN:VEVENT
DTSTART;TZID=America/Toronto:20250508T080000
DTEND;TZID=America/Toronto:20250531T170000
DTSTAMP:20260420T065701
CREATED:20250508T202342Z
LAST-MODIFIED:20250508T202345Z
UID:10039548-1746691200-1748710800@neighbur.net
SUMMARY:Bloor West Food Bank: Support the CARE & SHARE Campaign
DESCRIPTION:Since 2020\, the Bloor West Food Bank has been working together with local businesses and organizations to combat food insecurity in our community. This May\, we are excited to launch our CARE & SHARE donation campaign—and we’d love for your business to be a part of it!\n\nMay is Hunger Awareness Month\, with Hunger Awareness Week from May 7-11 and World Hunger Day on May 28. Unfortunately\, food insecurity affects many of our neighbours\, but together\, we can make a difference.\n\nHere’s how you can help….Support local businesses and help fight hunger—look for posters\, scan the QR code\, and donate.\n\nAll donations will permit the Bloor West Food Bank to continue to provide a secure source of food for those in our community who require it.
URL:https://neighbur.net/event/bloor-west-food-bank-support-the-care-share-campaign/
LOCATION:Bloor West Village
CATEGORIES:Festival
ATTACH;FMTTYPE=image/png:https://neighbur.net/wp-content/uploads/2025/05/Care-Share-Campaign-May-FINAL-IG-Post.png
END:VEVENT
BEGIN:VEVENT
DTSTART;TZID=America/Toronto:20250529T090000
DTEND;TZID=America/Toronto:20250529T094500
DTSTAMP:20260420T065701
CREATED:20250328T015859Z
LAST-MODIFIED:20250328T015901Z
UID:10038865-1748509200-1748511900@neighbur.net
SUMMARY:Mat Yoga Classes For 55+ At St. Demetrius
DESCRIPTION:Weekly Accessible Yoga Class for Seniors 55+ every Thursday from January 2025\nDescription\nCome join new friends in the Stay Connected Program in our weekly exercises classes! The program is offered to older adults 55+ and is held in person at 123 La Rose Avenue\, or virtually via Zoom. Learn More: www.stdemetrius.ca/community-programs \n— \nJoin Michael for his MAT YOGA classes every Thursday at 9am! Our mat yoga class focuses on increasing range of motion and mobility\, encouraging circulation to relieve stiffness\, and improving breathing mechanics to optimize health. This class will be done standing with support. It’s the next level up from chair yoga – a bit stronger but just as rejuvinating.\n—\n• To register for classes or for more information please call 647-725-0877 or community@stdemetrius.ca. Programming is FREE for members
URL:https://neighbur.net/event/mat-yoga-classes-for-55-at-st-demetrius/2025-05-29/
LOCATION:123 La Rose Ave\, 123 La Rose Ave\, Etobicoke\, M9P 1A6\, Canada
ATTACH;FMTTYPE=image/png:https://neighbur.net/wp-content/uploads/2025/03/Mat-Yoga.png
ORGANIZER;CN="Stay Connected Program":MAILTO:community@stdemetrius.ca
END:VEVENT
BEGIN:VEVENT
DTSTART;TZID=America/Toronto:20250529T090000
DTEND;TZID=America/Toronto:20250529T094500
DTSTAMP:20260420T065701
CREATED:20250328T015926Z
LAST-MODIFIED:20250328T015927Z
UID:10038883-1748509200-1748511900@neighbur.net
SUMMARY:Mat Yoga Classes For 55+ every Thursday At St. Demetrius
DESCRIPTION:Weekly Accessible Yoga Class for Seniors 55+ every Thursday from January 2025\nDescription\nCome join new friends in the Stay Connected Program in our weekly exercises classes! The program is offered to older adults 55+ and is held in person at 123 La Rose Avenue\, or virtually via Zoom. Learn More: www.stdemetrius.ca/community-programs \n— \nJoin Michael for his MAT YOGA classes every Thursday at 9am! Our mat yoga class focuses on increasing range of motion and mobility\, encouraging circulation to relieve stiffness\, and improving breathing mechanics to optimize health. This class will be done standing with support. It’s the next level up from chair yoga – a bit stronger but just as rejuvinating. *Please bring your own mat.*\n—\n• To register for classes or for more information please call 647-725-0877 or community@stdemetrius.ca. Programming is FREE for members
URL:https://neighbur.net/event/mat-yoga-classes-for-55-every-thursday-at-st-demetrius/2025-05-29/
LOCATION:123 La Rose Ave\, 123 La Rose Ave\, Etobicoke\, M9P 1A6\, Canada
ATTACH;FMTTYPE=image/png:https://neighbur.net/wp-content/uploads/2025/03/Mat-Yoga-1.png
ORGANIZER;CN="Stay Connected Program":MAILTO:community@stdemetrius.ca
END:VEVENT
BEGIN:VEVENT
DTSTART;TZID=America/Toronto:20250529T100000
DTEND;TZID=America/Toronto:20250529T104500
DTSTAMP:20260420T065701
CREATED:20250328T015958Z
LAST-MODIFIED:20250328T015959Z
UID:10038901-1748512800-1748515500@neighbur.net
SUMMARY:Chair Yoga Classes  For +55 At St. Demetrius
DESCRIPTION:Come join new friends in the Stay Connected Program in our weekly exercises classes! The program is offered to older adults 55+ and is held in person at 123 La Rose Avenue\, or virtually via Zoom. Learn More: www.stdemetrius.ca/community-programs\n—\nJoin Kassandra for her CHAIR YOGA classes every Thursday at 10am! Our chair yoga classes focus on increasing range of motion and mobility\, encouraging circulation to relieve stiffness\, and improving breathing mechanics to optimize health. This class will be done seated and may include a few standing variations open to those who are interested. This class will leave you feeling rejuvenated\, calm and ready for the day!\n—\n• To register for classes or for more information please call 647-725-0877 or community@stdemetrius.ca. Programming is FREE for members
URL:https://neighbur.net/event/chair-yoga-classes-for-55-at-st-demetrius/2025-05-29/
LOCATION:123 La Rose Ave\, 123 La Rose Ave\, Etobicoke\, M9P 1A6\, Canada
ATTACH;FMTTYPE=image/png:https://neighbur.net/wp-content/uploads/2025/03/Chair-Yoga.png
ORGANIZER;CN="Stay Connected Program":MAILTO:community@stdemetrius.ca
END:VEVENT
BEGIN:VEVENT
DTSTART;TZID=America/Toronto:20250529T200000
DTEND;TZID=America/Toronto:20250529T210000
DTSTAMP:20260420T065701
CREATED:20240515T204256Z
LAST-MODIFIED:20240515T204257Z
UID:10028069-1748548800-1748552400@neighbur.net
SUMMARY:Women's Bollywood Dance Fitness at High Park
DESCRIPTION:Our Women’s and Adult Bollywood Dance Fitness program is a dance workout that combines easy-to-follow dance movements\, functional exercises\, and beautiful rhythms spanning from South Asia to the Middle East.   No dance experience is required. This is a low to moderate-impact class to accommodate all fitness levels and ages. \nThis is a community-based program that runs 3 times per year across 2 locations. \nFor more information on the schedule / to take a class\, please visit our website www.fusioncardiotoronto.com
URL:https://neighbur.net/event/womens-bollywood-dance-fitness-at-high-park/2025-05-29/
LOCATION:Swansea Town Hall\, 95 Lavinia Ave\, Toronto
ATTACH;FMTTYPE=image/jpeg:https://neighbur.net/wp-content/uploads/2024/05/adult_bollywood_dance_fitness_class_in_toronto_fusioncardiotoronto66.jpg
ORGANIZER;CN="Fusion Cardio Toronto":MAILTO:fusioncardiotoronto@gmail.com
END:VEVENT
BEGIN:VEVENT
DTSTART;TZID=America/Toronto:20250529T210000
DTEND;TZID=America/Toronto:20250529T230000
DTSTAMP:20260420T065701
CREATED:20230920T202327Z
LAST-MODIFIED:20230920T202328Z
UID:10018975-1748552400-1748559600@neighbur.net
SUMMARY:A night of NEO Burlesque at MY HOUSE in the Junction……
DESCRIPTION:Step into a glamorous night of Neo Burlesque\, where the atmosphere oozes with seductive allure.  The venue is bathed in low\, sultry lighting\, casting an enchanting glow upon the crowd.  As you take your seat they scent of delectable cuisine wafts through the air.  The menu boasts a fusion of decadent dishes\, from Oysters\, Lamb and Foie Gras to delectable sweets.  Exquisite cocktails\, like the classic Martini and vintage-inspired concoctions\, arrive at your table with an artistic flourish. \nThe show begins with a mesmerizing overture\, the dancers adorned in sequins\, feathers and lace\, each more enchanting than the last.  Their graceful movements and sensual choreography tease and titillate\, leaving the audience spellbound.  As the night unfolds\, the energy in the room sizzles. Applause fills the air\, mingling with laughter and whispered conversations.  The performers\, masters of the art of tease\, captivate with their wit and charisma. \nThe evening unfolds like a beautifully choreographed performance\, a harmonious blend of dance and music.
URL:https://neighbur.net/event/a-night-of-neo-burlesque-at-my-house-in-the-junction/2025-05-29/
LOCATION:2882 Dundas Street West\, 2882 Dundas Street West\, Toronto\, M6P 1Y8
END:VEVENT
END:VCALENDAR