BEGIN:VCALENDAR
VERSION:2.0
PRODID:-//Neighbur - ECPv6.15.18//NONSGML v1.0//EN
CALSCALE:GREGORIAN
METHOD:PUBLISH
X-ORIGINAL-URL:https://neighbur.net
X-WR-CALDESC:Events for Neighbur
REFRESH-INTERVAL;VALUE=DURATION:PT1H
X-Robots-Tag:noindex
X-PUBLISHED-TTL:PT1H
BEGIN:VTIMEZONE
TZID:America/Toronto
BEGIN:DAYLIGHT
TZOFFSETFROM:-0500
TZOFFSETTO:-0400
TZNAME:EDT
DTSTART:20240310T070000
END:DAYLIGHT
BEGIN:STANDARD
TZOFFSETFROM:-0400
TZOFFSETTO:-0500
TZNAME:EST
DTSTART:20241103T060000
END:STANDARD
BEGIN:DAYLIGHT
TZOFFSETFROM:-0500
TZOFFSETTO:-0400
TZNAME:EDT
DTSTART:20250309T070000
END:DAYLIGHT
BEGIN:STANDARD
TZOFFSETFROM:-0400
TZOFFSETTO:-0500
TZNAME:EST
DTSTART:20251102T060000
END:STANDARD
BEGIN:DAYLIGHT
TZOFFSETFROM:-0500
TZOFFSETTO:-0400
TZNAME:EDT
DTSTART:20260308T070000
END:DAYLIGHT
BEGIN:STANDARD
TZOFFSETFROM:-0400
TZOFFSETTO:-0500
TZNAME:EST
DTSTART:20261101T060000
END:STANDARD
END:VTIMEZONE
BEGIN:VEVENT
DTSTART;TZID=America/Toronto:20250601T073000
DTEND;TZID=America/Toronto:20250630T220000
DTSTAMP:20260420T132123
CREATED:20250619T141634Z
LAST-MODIFIED:20250619T141635Z
UID:10039843-1748763000-1751320800@neighbur.net
SUMMARY:Sip & Support at The Broadview Hotel
DESCRIPTION:This Pride Month\, the Broadview Hotel is partnering with LGBT YouthLine –  a youth-led organization providing peer support to 2SLGBTQ+ youth across Ontario – as we come together to celebrate\, support\, and uplift our vibrant community! 🏳️‍🌈\n\nThis month\, we’re serving up our feature cocktail\, Madame Violette  – a bold and beautiful blend of Tanqueray\, violette\, blueberry\, lemon\, and egg white. $1 from every Madame Violette cocktail sold will be donated to LGBT YouthLine to help support their vital work. \n⁠\nTogether\, let’s raise a toast to an organization that’s helping make Toronto an inclusive place this Pride and all year long.
URL:https://neighbur.net/event/sip-support-at-the-broadview-hotel/
LOCATION:The Broadview Hotel\, 106 Broadview Ave\, Toronto\, M4M 2G1
ATTACH;FMTTYPE=image/png:https://neighbur.net/wp-content/uploads/2025/06/Broadview-Hotel-Sip-Support-min.png
ORGANIZER;CN="Touchwood PR":MAILTO:info@arcadiaearth.ca
END:VEVENT
BEGIN:VEVENT
DTSTART;TZID=America/Toronto:20250601T080000
DTEND;TZID=America/Toronto:20250630T220000
DTSTAMP:20260420T132123
CREATED:20250619T141654Z
LAST-MODIFIED:20250619T141655Z
UID:10039847-1748764800-1751320800@neighbur.net
SUMMARY:Sip & Support at Gladstone House
DESCRIPTION:This Pride Month\, the Gladstone Hotel is partnering with LGBT YouthLine\, a youth-led organization offering peer support to 2SLGBTQ+ youth across Ontario 🏳️‍🌈\n\nThis month\, we’re featuring the Never Ending Summer cocktail\, a bold and refreshing mix of mezcal\, whiskey\, ginger liquor\, agave\, and pineapple. For everyone one sold\, $1 will be donated to the LGBT YouthLine to help fund the important work they do!\n\nSip with purpose and join us in celebrating an organization making Toronto a more inclusive and supportive space –  this Pride and beyond.
URL:https://neighbur.net/event/sip-support-at-gladstone-house/
LOCATION:The Gladstone House\, 1214 Queen St W\, Toronto\, ON\, Toronto\, M6J 1J6
ORGANIZER;CN="Touchwood PR":MAILTO:info@arcadiaearth.ca
END:VEVENT
BEGIN:VEVENT
DTSTART;TZID=America/Toronto:20250601T120000
DTEND;TZID=America/Toronto:20250630T170000
DTSTAMP:20260420T132123
CREATED:20250527T204825Z
LAST-MODIFIED:20250527T204827Z
UID:10039670-1748779200-1751302800@neighbur.net
SUMMARY:Sounds of the Ocean at Arcadia Earth!
DESCRIPTION:This June\, Arcadia Earth is inviting you to embark on an extraordinary journey beneath the waves with Sounds of he Ocean in celebration of World Ocean Month. This award-winning\, 10-minute immersive experience will transport guests into the mesmerizing world of the deep blue. \n\nImmerse Yourself: Lounge on soft seating as the ethereal songs and sounds of whales and dolphins surround you\, creating a meditative ocean odyssey.\n\nAct Locally\, Think Globally: Arcadia Earth Toronto is working in collaboration with the Canadian Ocean Literacy Coalition (COLC)\, to share actionable steps to protect our oceans\, seamlessly integrated into the experience.\n\nA Global Phenomenon: Sounds of the Ocean has been showcased in 26 countries\, from high-profile climate events like the United Nation Climate Conference to festivals like Burning Man. Now\, for the first time in Toronto\, this breathtaking experience will inspire local audiences and ignite the conversation on ocean conservation.
URL:https://neighbur.net/event/sounds-of-the-ocean-at-arcadia-earth/
LOCATION:Arcadia Earth\, Arcadia Earth Toronto at The Well\, 486 Front St W Building C\, Toronto\, M5V 0V2
ATTACH;FMTTYPE=image/png:https://neighbur.net/wp-content/uploads/2025/05/AE-Sound-of-the-Ocean-Promo-min.png
ORGANIZER;CN="Touchwood PR":MAILTO:info@arcadiaearth.ca
END:VEVENT
BEGIN:VEVENT
DTSTART;TZID=America/Toronto:20250605T080000
DTEND;TZID=America/Toronto:20250605T170000
DTSTAMP:20260420T132123
CREATED:20250521T225046Z
LAST-MODIFIED:20250521T225047Z
UID:10039566-1749110400-1749142800@neighbur.net
SUMMARY:Let’s Get Grilling Meat Fundraiser
DESCRIPTION:It’s the perfect time to stock up on meats and seafood products for the coming BBQ season! Enjoy top-quality meat and seafood from Macgregors Meat and Seafood — the same products featured in many outstanding restaurants. Now you can enjoy their quality products in your own home. Order online today! To order and get more details: https://islingtonunited.org/lets-get-grilling/
URL:https://neighbur.net/event/lets-get-grilling-meat-fundraiser/
LOCATION:Ontario
ATTACH;FMTTYPE=image/jpeg:https://neighbur.net/wp-content/uploads/2025/05/Grilling_IUC.jpg
ORGANIZER;CN="Islington United Church":MAILTO:valgreenfield50@gmail.com
END:VEVENT
BEGIN:VEVENT
DTSTART;TZID=America/Toronto:20250605T090000
DTEND;TZID=America/Toronto:20250605T094500
DTSTAMP:20260420T132123
CREATED:20250328T015859Z
LAST-MODIFIED:20250328T015901Z
UID:10038866-1749114000-1749116700@neighbur.net
SUMMARY:Mat Yoga Classes For 55+ At St. Demetrius
DESCRIPTION:Weekly Accessible Yoga Class for Seniors 55+ every Thursday from January 2025\nDescription\nCome join new friends in the Stay Connected Program in our weekly exercises classes! The program is offered to older adults 55+ and is held in person at 123 La Rose Avenue\, or virtually via Zoom. Learn More: www.stdemetrius.ca/community-programs \n— \nJoin Michael for his MAT YOGA classes every Thursday at 9am! Our mat yoga class focuses on increasing range of motion and mobility\, encouraging circulation to relieve stiffness\, and improving breathing mechanics to optimize health. This class will be done standing with support. It’s the next level up from chair yoga – a bit stronger but just as rejuvinating.\n—\n• To register for classes or for more information please call 647-725-0877 or community@stdemetrius.ca. Programming is FREE for members
URL:https://neighbur.net/event/mat-yoga-classes-for-55-at-st-demetrius/2025-06-05/
LOCATION:123 La Rose Ave\, 123 La Rose Ave\, Etobicoke\, M9P 1A6\, Canada
ATTACH;FMTTYPE=image/png:https://neighbur.net/wp-content/uploads/2025/03/Mat-Yoga.png
ORGANIZER;CN="Stay Connected Program":MAILTO:community@stdemetrius.ca
END:VEVENT
BEGIN:VEVENT
DTSTART;TZID=America/Toronto:20250605T090000
DTEND;TZID=America/Toronto:20250605T094500
DTSTAMP:20260420T132124
CREATED:20250328T015926Z
LAST-MODIFIED:20250328T015927Z
UID:10038884-1749114000-1749116700@neighbur.net
SUMMARY:Mat Yoga Classes For 55+ every Thursday At St. Demetrius
DESCRIPTION:Weekly Accessible Yoga Class for Seniors 55+ every Thursday from January 2025\nDescription\nCome join new friends in the Stay Connected Program in our weekly exercises classes! The program is offered to older adults 55+ and is held in person at 123 La Rose Avenue\, or virtually via Zoom. Learn More: www.stdemetrius.ca/community-programs \n— \nJoin Michael for his MAT YOGA classes every Thursday at 9am! Our mat yoga class focuses on increasing range of motion and mobility\, encouraging circulation to relieve stiffness\, and improving breathing mechanics to optimize health. This class will be done standing with support. It’s the next level up from chair yoga – a bit stronger but just as rejuvinating. *Please bring your own mat.*\n—\n• To register for classes or for more information please call 647-725-0877 or community@stdemetrius.ca. Programming is FREE for members
URL:https://neighbur.net/event/mat-yoga-classes-for-55-every-thursday-at-st-demetrius/2025-06-05/
LOCATION:123 La Rose Ave\, 123 La Rose Ave\, Etobicoke\, M9P 1A6\, Canada
ATTACH;FMTTYPE=image/png:https://neighbur.net/wp-content/uploads/2025/03/Mat-Yoga-1.png
ORGANIZER;CN="Stay Connected Program":MAILTO:community@stdemetrius.ca
END:VEVENT
BEGIN:VEVENT
DTSTART;TZID=America/Toronto:20250605T100000
DTEND;TZID=America/Toronto:20250605T104500
DTSTAMP:20260420T132124
CREATED:20250328T015958Z
LAST-MODIFIED:20250328T015959Z
UID:10038902-1749117600-1749120300@neighbur.net
SUMMARY:Chair Yoga Classes  For +55 At St. Demetrius
DESCRIPTION:Come join new friends in the Stay Connected Program in our weekly exercises classes! The program is offered to older adults 55+ and is held in person at 123 La Rose Avenue\, or virtually via Zoom. Learn More: www.stdemetrius.ca/community-programs\n—\nJoin Kassandra for her CHAIR YOGA classes every Thursday at 10am! Our chair yoga classes focus on increasing range of motion and mobility\, encouraging circulation to relieve stiffness\, and improving breathing mechanics to optimize health. This class will be done seated and may include a few standing variations open to those who are interested. This class will leave you feeling rejuvenated\, calm and ready for the day!\n—\n• To register for classes or for more information please call 647-725-0877 or community@stdemetrius.ca. Programming is FREE for members
URL:https://neighbur.net/event/chair-yoga-classes-for-55-at-st-demetrius/2025-06-05/
LOCATION:123 La Rose Ave\, 123 La Rose Ave\, Etobicoke\, M9P 1A6\, Canada
ATTACH;FMTTYPE=image/png:https://neighbur.net/wp-content/uploads/2025/03/Chair-Yoga.png
ORGANIZER;CN="Stay Connected Program":MAILTO:community@stdemetrius.ca
END:VEVENT
BEGIN:VEVENT
DTSTART;TZID=America/Toronto:20250605T210000
DTEND;TZID=America/Toronto:20250605T230000
DTSTAMP:20260420T132124
CREATED:20230920T202327Z
LAST-MODIFIED:20230920T202328Z
UID:10018976-1749157200-1749164400@neighbur.net
SUMMARY:A night of NEO Burlesque at MY HOUSE in the Junction……
DESCRIPTION:Step into a glamorous night of Neo Burlesque\, where the atmosphere oozes with seductive allure.  The venue is bathed in low\, sultry lighting\, casting an enchanting glow upon the crowd.  As you take your seat they scent of delectable cuisine wafts through the air.  The menu boasts a fusion of decadent dishes\, from Oysters\, Lamb and Foie Gras to delectable sweets.  Exquisite cocktails\, like the classic Martini and vintage-inspired concoctions\, arrive at your table with an artistic flourish. \nThe show begins with a mesmerizing overture\, the dancers adorned in sequins\, feathers and lace\, each more enchanting than the last.  Their graceful movements and sensual choreography tease and titillate\, leaving the audience spellbound.  As the night unfolds\, the energy in the room sizzles. Applause fills the air\, mingling with laughter and whispered conversations.  The performers\, masters of the art of tease\, captivate with their wit and charisma. \nThe evening unfolds like a beautifully choreographed performance\, a harmonious blend of dance and music.
URL:https://neighbur.net/event/a-night-of-neo-burlesque-at-my-house-in-the-junction/2025-06-05/
LOCATION:2882 Dundas Street West\, 2882 Dundas Street West\, Toronto\, M6P 1Y8
END:VEVENT
END:VCALENDAR