BEGIN:VCALENDAR
VERSION:2.0
PRODID:-//Neighbur - ECPv6.15.18//NONSGML v1.0//EN
CALSCALE:GREGORIAN
METHOD:PUBLISH
X-WR-CALNAME:Neighbur
X-ORIGINAL-URL:https://neighbur.net
X-WR-CALDESC:Events for Neighbur
REFRESH-INTERVAL;VALUE=DURATION:PT1H
X-Robots-Tag:noindex
X-PUBLISHED-TTL:PT1H
BEGIN:VTIMEZONE
TZID:America/Toronto
BEGIN:DAYLIGHT
TZOFFSETFROM:-0500
TZOFFSETTO:-0400
TZNAME:EDT
DTSTART:20240310T070000
END:DAYLIGHT
BEGIN:STANDARD
TZOFFSETFROM:-0400
TZOFFSETTO:-0500
TZNAME:EST
DTSTART:20241103T060000
END:STANDARD
BEGIN:DAYLIGHT
TZOFFSETFROM:-0500
TZOFFSETTO:-0400
TZNAME:EDT
DTSTART:20250309T070000
END:DAYLIGHT
BEGIN:STANDARD
TZOFFSETFROM:-0400
TZOFFSETTO:-0500
TZNAME:EST
DTSTART:20251102T060000
END:STANDARD
BEGIN:DAYLIGHT
TZOFFSETFROM:-0500
TZOFFSETTO:-0400
TZNAME:EDT
DTSTART:20260308T070000
END:DAYLIGHT
BEGIN:STANDARD
TZOFFSETFROM:-0400
TZOFFSETTO:-0500
TZNAME:EST
DTSTART:20261101T060000
END:STANDARD
END:VTIMEZONE
BEGIN:VEVENT
DTSTART;TZID=America/Toronto:20250601T073000
DTEND;TZID=America/Toronto:20250630T220000
DTSTAMP:20260420T144030
CREATED:20250619T141634Z
LAST-MODIFIED:20250619T141635Z
UID:10039843-1748763000-1751320800@neighbur.net
SUMMARY:Sip & Support at The Broadview Hotel
DESCRIPTION:This Pride Month\, the Broadview Hotel is partnering with LGBT YouthLine –  a youth-led organization providing peer support to 2SLGBTQ+ youth across Ontario – as we come together to celebrate\, support\, and uplift our vibrant community! 🏳️‍🌈\n\nThis month\, we’re serving up our feature cocktail\, Madame Violette  – a bold and beautiful blend of Tanqueray\, violette\, blueberry\, lemon\, and egg white. $1 from every Madame Violette cocktail sold will be donated to LGBT YouthLine to help support their vital work. \n⁠\nTogether\, let’s raise a toast to an organization that’s helping make Toronto an inclusive place this Pride and all year long.
URL:https://neighbur.net/event/sip-support-at-the-broadview-hotel/
LOCATION:The Broadview Hotel\, 106 Broadview Ave\, Toronto\, M4M 2G1
ATTACH;FMTTYPE=image/png:https://neighbur.net/wp-content/uploads/2025/06/Broadview-Hotel-Sip-Support-min.png
ORGANIZER;CN="Touchwood PR":MAILTO:info@arcadiaearth.ca
END:VEVENT
BEGIN:VEVENT
DTSTART;TZID=America/Toronto:20250601T080000
DTEND;TZID=America/Toronto:20250630T220000
DTSTAMP:20260420T144030
CREATED:20250619T141654Z
LAST-MODIFIED:20250619T141655Z
UID:10039847-1748764800-1751320800@neighbur.net
SUMMARY:Sip & Support at Gladstone House
DESCRIPTION:This Pride Month\, the Gladstone Hotel is partnering with LGBT YouthLine\, a youth-led organization offering peer support to 2SLGBTQ+ youth across Ontario 🏳️‍🌈\n\nThis month\, we’re featuring the Never Ending Summer cocktail\, a bold and refreshing mix of mezcal\, whiskey\, ginger liquor\, agave\, and pineapple. For everyone one sold\, $1 will be donated to the LGBT YouthLine to help fund the important work they do!\n\nSip with purpose and join us in celebrating an organization making Toronto a more inclusive and supportive space –  this Pride and beyond.
URL:https://neighbur.net/event/sip-support-at-gladstone-house/
LOCATION:The Gladstone House\, 1214 Queen St W\, Toronto\, ON\, Toronto\, M6J 1J6
ORGANIZER;CN="Touchwood PR":MAILTO:info@arcadiaearth.ca
END:VEVENT
BEGIN:VEVENT
DTSTART;TZID=America/Toronto:20250601T120000
DTEND;TZID=America/Toronto:20250630T170000
DTSTAMP:20260420T144030
CREATED:20250527T204825Z
LAST-MODIFIED:20250527T204827Z
UID:10039670-1748779200-1751302800@neighbur.net
SUMMARY:Sounds of the Ocean at Arcadia Earth!
DESCRIPTION:This June\, Arcadia Earth is inviting you to embark on an extraordinary journey beneath the waves with Sounds of he Ocean in celebration of World Ocean Month. This award-winning\, 10-minute immersive experience will transport guests into the mesmerizing world of the deep blue. \n\nImmerse Yourself: Lounge on soft seating as the ethereal songs and sounds of whales and dolphins surround you\, creating a meditative ocean odyssey.\n\nAct Locally\, Think Globally: Arcadia Earth Toronto is working in collaboration with the Canadian Ocean Literacy Coalition (COLC)\, to share actionable steps to protect our oceans\, seamlessly integrated into the experience.\n\nA Global Phenomenon: Sounds of the Ocean has been showcased in 26 countries\, from high-profile climate events like the United Nation Climate Conference to festivals like Burning Man. Now\, for the first time in Toronto\, this breathtaking experience will inspire local audiences and ignite the conversation on ocean conservation.
URL:https://neighbur.net/event/sounds-of-the-ocean-at-arcadia-earth/
LOCATION:Arcadia Earth\, Arcadia Earth Toronto at The Well\, 486 Front St W Building C\, Toronto\, M5V 0V2
ATTACH;FMTTYPE=image/png:https://neighbur.net/wp-content/uploads/2025/05/AE-Sound-of-the-Ocean-Promo-min.png
ORGANIZER;CN="Touchwood PR":MAILTO:info@arcadiaearth.ca
END:VEVENT
BEGIN:VEVENT
DTSTART;TZID=America/Toronto:20250606T100000
DTEND;TZID=America/Toronto:20250606T104500
DTSTAMP:20260420T144030
CREATED:20250328T020040Z
LAST-MODIFIED:20250328T020041Z
UID:10038920-1749204000-1749206700@neighbur.net
SUMMARY:"Stretch & Strength" Fitness Classes For Beginners +55 At St. Demetrius
DESCRIPTION:Come join new friends in the Stay Connected Program in our weekly exercises classes! The program is offered to older adults 55+ and is held in person at 123 La Rose Avenue\, or virtually via Zoom. Learn More: www.stdemetrius.ca/community-programs \n—\nJoin Denise Ho for her STRETCH & STRENGTH class for beginners every Wednesday & Friday at 10am! This class offers movement combinations that target all your major muscle groups. All of the exercises are done seated\, using dumbbell weights and resistance bands. Each class begins with a gentle warm-up\, moving into exercises that train and strengthen your body. We end the class with a series of mindful stretches to maintain and increase flexibility and range of motion.\n—\nTo register for classes or for more information please call 647-725-0877 or community@stdemetrius.ca. Programming is FREE for members.
URL:https://neighbur.net/event/stretch-strength-fitness-classes-for-beginners-55-at-st-demetrius/2025-06-06/
LOCATION:123 La Rose Ave\, 123 La Rose Ave\, Etobicoke\, M9P 1A6\, Canada
ATTACH;FMTTYPE=image/png:https://neighbur.net/wp-content/uploads/2025/03/Stretch-Strength.png
ORGANIZER;CN="Stay Connected Program":MAILTO:community@stdemetrius.ca
END:VEVENT
BEGIN:VEVENT
DTSTART;TZID=America/Toronto:20250606T140000
DTEND;TZID=America/Toronto:20250606T153000
DTSTAMP:20260420T144030
CREATED:20250503T001809Z
LAST-MODIFIED:20250503T001810Z
UID:10039530-1749218400-1749223800@neighbur.net
SUMMARY:Ancestry Library Club At Brentwood Library
DESCRIPTION:Learn basic search techniques to find your ancestors records using the popular genealogy database Ancestry Library Edition. Over the course of this series you will learn the basics of family trees\, search Ancestry for birth\, marriage\, death\, military\, immigration\, and census records\, and experiment with wildcards to improve your searches. Each session you will use what you learned to explore your own genealogy with staff available for support.\n\nThis is an in-person program\, no registration required.\n\nIf you identify as a person with a disability or as a person who is Deaf\, and require accessibility accommodation to participate in this program\, please contact Accessibility Services by email\, accessibleservices@tpl.ca\, or voicemail\, 416-393-7099\, to make a request. Please contact us at least three weeks in advance.
URL:https://neighbur.net/event/ancestry-library-club-at-brentwood-library/
LOCATION:Toronto Public Library – Brentwood Branch\, 36 Brentwood Rd. N.\, Toronto\, M8X 2B5
ATTACH;FMTTYPE=image/png:https://neighbur.net/wp-content/uploads/2025/05/Ancestry-Flyer.png
ORGANIZER;CN="Toronto Public Library - Brentwood Branch":MAILTO:brstaff@tpl.ca
END:VEVENT
BEGIN:VEVENT
DTSTART;TZID=America/Toronto:20250606T200000
DTEND;TZID=America/Toronto:20250606T230000
DTSTAMP:20260420T144030
CREATED:20250606T022847Z
LAST-MODIFIED:20250606T022851Z
UID:10039686-1749240000-1749250800@neighbur.net
SUMMARY:Tanya\, Sara\, and Filthy Rich  - Uno\, Dos\, Tres - Live at La Rev
DESCRIPTION:Uno\, Dos\, Tres! Solos\, duets and trios!\nCome see and hear Tanya Philipovich\, Sara Dishart\, and Filthy Rich share the stage all evening at La Rev for a special night of originals\, covers and smiles.\nNew wave hits\, alt country standards\, rock anthems\, and folk ditties all guaranteed. A little of this and a dash of that. This evening will organically go where it will and we are excited to follow it!\nEnjoy some fabulous authentic Mexican food\, micheladas and margaritas!\nFree to attend. PWYC during show.\n8-11PM
URL:https://neighbur.net/event/tanya-sara-and-filthy-rich-uno-dos-tres-live-at-la-rev-3/
LOCATION:La Rev\, 2848 Dundas St. W\, Toronto\, Ontario\, m6p1y9\, Canada
END:VEVENT
BEGIN:VEVENT
DTSTART;TZID=America/Toronto:20250606T213000
DTEND;TZID=America/Toronto:20250607T020000
DTSTAMP:20260420T144030
CREATED:20240717T132803Z
LAST-MODIFIED:20240717T132804Z
UID:10029563-1749245400-1749261600@neighbur.net
SUMMARY:How about Friday Night\, Karaoke\, Music\, Comic Books?
DESCRIPTION:Offbeat\, fun\, silly\, random karaoke. And sometimes geeky little prizes? Free. Join us Friday 9:30pm to 2:00 am. Oh. We don’t take it too seriously. We just have a good time. I’ve always done this for fun. Why? Because I love seeing people get up there and challenge themselves and express themselves and have fun. That’s everything to me. It’s why I do it. The moment I forget why I’ll stop. I remember being terrified to try karaoke as a teenager and trying to work through the fear.  I love the regulars and I love encouraging them. The moment it feels like work I’ll stop 🙂 Classic rock\, pop\, country\, rock n roll\, R&B\, Showtunes\, try something fun. Oh also the bar has cheap drinks\, pool\, and darts.\n@exilekaraoke \nETOBICOKE LOCAL 2961 Lakeshore Blvd W
URL:https://neighbur.net/event/how-about-friday-night-karaoke-music-comic-books/2025-06-06/
LOCATION:Etobicoke Local\, 2961 Lake Shore Blvd\, Etobicoke\, M8V 1J5
ATTACH;FMTTYPE=image/jpeg:https://neighbur.net/wp-content/uploads/2024/07/Thumbnail-Exile-Karaoke.jpg
END:VEVENT
END:VCALENDAR