BEGIN:VCALENDAR
VERSION:2.0
PRODID:-//Neighbur - ECPv6.15.18//NONSGML v1.0//EN
CALSCALE:GREGORIAN
METHOD:PUBLISH
X-WR-CALNAME:Neighbur
X-ORIGINAL-URL:https://neighbur.net
X-WR-CALDESC:Events for Neighbur
REFRESH-INTERVAL;VALUE=DURATION:PT1H
X-Robots-Tag:noindex
X-PUBLISHED-TTL:PT1H
BEGIN:VTIMEZONE
TZID:America/Toronto
BEGIN:DAYLIGHT
TZOFFSETFROM:-0500
TZOFFSETTO:-0400
TZNAME:EDT
DTSTART:20240310T070000
END:DAYLIGHT
BEGIN:STANDARD
TZOFFSETFROM:-0400
TZOFFSETTO:-0500
TZNAME:EST
DTSTART:20241103T060000
END:STANDARD
BEGIN:DAYLIGHT
TZOFFSETFROM:-0500
TZOFFSETTO:-0400
TZNAME:EDT
DTSTART:20250309T070000
END:DAYLIGHT
BEGIN:STANDARD
TZOFFSETFROM:-0400
TZOFFSETTO:-0500
TZNAME:EST
DTSTART:20251102T060000
END:STANDARD
BEGIN:DAYLIGHT
TZOFFSETFROM:-0500
TZOFFSETTO:-0400
TZNAME:EDT
DTSTART:20260308T070000
END:DAYLIGHT
BEGIN:STANDARD
TZOFFSETFROM:-0400
TZOFFSETTO:-0500
TZNAME:EST
DTSTART:20261101T060000
END:STANDARD
END:VTIMEZONE
BEGIN:VEVENT
DTSTART;TZID=America/Toronto:20250601T073000
DTEND;TZID=America/Toronto:20250630T220000
DTSTAMP:20260420T160159
CREATED:20250619T141634Z
LAST-MODIFIED:20250619T141635Z
UID:10039843-1748763000-1751320800@neighbur.net
SUMMARY:Sip & Support at The Broadview Hotel
DESCRIPTION:This Pride Month\, the Broadview Hotel is partnering with LGBT YouthLine –  a youth-led organization providing peer support to 2SLGBTQ+ youth across Ontario – as we come together to celebrate\, support\, and uplift our vibrant community! 🏳️‍🌈\n\nThis month\, we’re serving up our feature cocktail\, Madame Violette  – a bold and beautiful blend of Tanqueray\, violette\, blueberry\, lemon\, and egg white. $1 from every Madame Violette cocktail sold will be donated to LGBT YouthLine to help support their vital work. \n⁠\nTogether\, let’s raise a toast to an organization that’s helping make Toronto an inclusive place this Pride and all year long.
URL:https://neighbur.net/event/sip-support-at-the-broadview-hotel/
LOCATION:The Broadview Hotel\, 106 Broadview Ave\, Toronto\, M4M 2G1
ATTACH;FMTTYPE=image/png:https://neighbur.net/wp-content/uploads/2025/06/Broadview-Hotel-Sip-Support-min.png
ORGANIZER;CN="Touchwood PR":MAILTO:info@arcadiaearth.ca
END:VEVENT
BEGIN:VEVENT
DTSTART;TZID=America/Toronto:20250601T080000
DTEND;TZID=America/Toronto:20250630T220000
DTSTAMP:20260420T160159
CREATED:20250619T141654Z
LAST-MODIFIED:20250619T141655Z
UID:10039847-1748764800-1751320800@neighbur.net
SUMMARY:Sip & Support at Gladstone House
DESCRIPTION:This Pride Month\, the Gladstone Hotel is partnering with LGBT YouthLine\, a youth-led organization offering peer support to 2SLGBTQ+ youth across Ontario 🏳️‍🌈\n\nThis month\, we’re featuring the Never Ending Summer cocktail\, a bold and refreshing mix of mezcal\, whiskey\, ginger liquor\, agave\, and pineapple. For everyone one sold\, $1 will be donated to the LGBT YouthLine to help fund the important work they do!\n\nSip with purpose and join us in celebrating an organization making Toronto a more inclusive and supportive space –  this Pride and beyond.
URL:https://neighbur.net/event/sip-support-at-gladstone-house/
LOCATION:The Gladstone House\, 1214 Queen St W\, Toronto\, ON\, Toronto\, M6J 1J6
ORGANIZER;CN="Touchwood PR":MAILTO:info@arcadiaearth.ca
END:VEVENT
BEGIN:VEVENT
DTSTART;TZID=America/Toronto:20250601T120000
DTEND;TZID=America/Toronto:20250630T170000
DTSTAMP:20260420T160159
CREATED:20250527T204825Z
LAST-MODIFIED:20250527T204827Z
UID:10039670-1748779200-1751302800@neighbur.net
SUMMARY:Sounds of the Ocean at Arcadia Earth!
DESCRIPTION:This June\, Arcadia Earth is inviting you to embark on an extraordinary journey beneath the waves with Sounds of he Ocean in celebration of World Ocean Month. This award-winning\, 10-minute immersive experience will transport guests into the mesmerizing world of the deep blue. \n\nImmerse Yourself: Lounge on soft seating as the ethereal songs and sounds of whales and dolphins surround you\, creating a meditative ocean odyssey.\n\nAct Locally\, Think Globally: Arcadia Earth Toronto is working in collaboration with the Canadian Ocean Literacy Coalition (COLC)\, to share actionable steps to protect our oceans\, seamlessly integrated into the experience.\n\nA Global Phenomenon: Sounds of the Ocean has been showcased in 26 countries\, from high-profile climate events like the United Nation Climate Conference to festivals like Burning Man. Now\, for the first time in Toronto\, this breathtaking experience will inspire local audiences and ignite the conversation on ocean conservation.
URL:https://neighbur.net/event/sounds-of-the-ocean-at-arcadia-earth/
LOCATION:Arcadia Earth\, Arcadia Earth Toronto at The Well\, 486 Front St W Building C\, Toronto\, M5V 0V2
ATTACH;FMTTYPE=image/png:https://neighbur.net/wp-content/uploads/2025/05/AE-Sound-of-the-Ocean-Promo-min.png
ORGANIZER;CN="Touchwood PR":MAILTO:info@arcadiaearth.ca
END:VEVENT
BEGIN:VEVENT
DTSTART;TZID=America/Toronto:20250607T040000
DTEND;TZID=America/Toronto:20250609T035959
DTSTAMP:20260420T160159
CREATED:20250528T130803Z
LAST-MODIFIED:20250528T130807Z
UID:10039671-1749268800-1749441599@neighbur.net
SUMMARY:York Plays 2025
DESCRIPTION:Come experience The York Corpus Christi Plays as they were performed in 14th-century England!\n\nFree & Open to All Ages (Outdoor event—bring blankets\, folding chairs\, sunhats\, or umbrellas!)\n\nPoculi Ludique Societas (PLS)\, sponsored by the Centre for Renaissance and Reformation Studies (CRRS)\, presents a full-scale recreation of the York Corpus Christi Plays. This day-long event will feature 50 plays performed sequentially by 17 North American theatre groups. Each play—drawn from biblical narratives and medieval devotional texts—will be performed on replica wagon stages\, recreating the mobile staging practices of medieval York (1376–1569).\n\nTravel Back in Time: Watch plays performed on authentic replica wagon stages by costumed actors from across North America.\n\nPerfect for All Ages*: From the Creation of the World to Noah’s Ark to The Last Judgment\, these bite-sized plays\, some funny\, some moving\, are great for kids and adults alike. (*Plays that may not be appropriate for younger children are noted on our website and programme.)\n\nCome & Go as You Please: Plays repeat at three different spots\, so wander between them\, grab a snack\, and enjoy at your own pace. (No need to stay past midnight—unless you want to!)\n\nBring the whole crew and be part of theatre history—grandparents\, classmates\, history buffs\, and future knights & princesses\, all are welcome!\n\nRain Plan: If storms hit Saturday\, we’ll move to Sunday.
URL:https://neighbur.net/event/york-plays-2025/
LOCATION:Ontario
CATEGORIES:Festival
ATTACH;FMTTYPE=image/png:https://neighbur.net/wp-content/uploads/2025/05/Untitled-design-3-1.png
END:VEVENT
BEGIN:VEVENT
DTSTART;TZID=America/Toronto:20250607T090000
DTEND;TZID=America/Toronto:20250607T130000
DTSTAMP:20260420T160159
CREATED:20250317T140843Z
LAST-MODIFIED:20250317T140845Z
UID:10036349-1749286800-1749301200@neighbur.net
SUMMARY:Westway Food Bank Car Boot / Yard Sale Fundraiser
DESCRIPTION:Westway Christian Church Community Car Boot/ Yard Sale Fundraiser\nLots of great vendors!\n50/50 Draw!\nSilent Auction!\nCorner of Kipling & Westway\nRain date: June 14
URL:https://neighbur.net/event/westway-food-bank-car-boot-yard-sale-fundraiser/
LOCATION:Westway Christian Church 6 Kilburn Place Etobicoke ON\, 6 Kilburn Place\, Etobicoke\, Ontario\, M9R 2X5\, Canada
ATTACH;FMTTYPE=image/jpeg:https://neighbur.net/wp-content/uploads/2025/03/20250607_Flyer.jpg
ORGANIZER;CN="Karen Ewing":MAILTO:karena.events@gmail.com
END:VEVENT
BEGIN:VEVENT
DTSTART;TZID=America/Toronto:20250607T090000
DTEND;TZID=America/Toronto:20250607T130000
DTSTAMP:20260420T160159
CREATED:20250403T145803Z
LAST-MODIFIED:20250403T145805Z
UID:10038996-1749286800-1749301200@neighbur.net
SUMMARY:Junction Farmers Market
DESCRIPTION:A weekly Saturday farmers market held in Baird Park (Keele and Humberside) from  May 17 to October 25.  Live music\, Community Corner and special events throughout the season.
URL:https://neighbur.net/event/junction-farmers-market/2025-06-07/
LOCATION:275 Keele Street (Baird Park)\, 275 Keele Street\, Toronto\, M6P 2K5\, Canada
ORGANIZER;CN="Junction Farmers Market Board of Directors":MAILTO:info@junctionmarket.ca
END:VEVENT
BEGIN:VEVENT
DTSTART;TZID=America/Toronto:20250607T090000
DTEND;TZID=America/Toronto:20250607T140000
DTSTAMP:20260420T160159
CREATED:20250423T234024Z
LAST-MODIFIED:20250423T234026Z
UID:10039475-1749286800-1749304800@neighbur.net
SUMMARY:Humber Bay Shores Farmers' Market
DESCRIPTION:Join us in our 13th year every Saturday. May 31st to October 11th at Humber Bay Park West.
URL:https://neighbur.net/event/humber-bay-shores-farmers-market-2/2025-06-07/
LOCATION:Humber Bay Park West\, 2225 Lake Shore Boulevard West\, Etobicoke
ATTACH;FMTTYPE=image/webp:https://neighbur.net/wp-content/uploads/2025/04/aaaaaaaaaa.webp
ORGANIZER;CN="Friends of Humber Bay Park":MAILTO:friendsofhumberbaypark@gmail.com
END:VEVENT
BEGIN:VEVENT
DTSTART;TZID=America/Toronto:20250607T100000
DTEND;TZID=America/Toronto:20250607T150000
DTSTAMP:20260420T160200
CREATED:20250606T023359Z
LAST-MODIFIED:20250606T023403Z
UID:10039692-1749290400-1749308400@neighbur.net
SUMMARY:OAKVILLE SPRING BLOSSOM MARKET
DESCRIPTION:The Oakville Spring Blossom Market is on Saturday\, June 7th at Maple Grove United Church (346 Maple Grove Dr\, Oakville) from 10.00am to 3.00 pm. With 30 local vendors handpicked just for you\, exclusive swag bags for early birds\, and treats for the kids — it’s the perfect spring day out. Bring the whole family and join the fun!  What better way to support local & Canadian !!
URL:https://neighbur.net/event/oakville-spring-blossom-market/
LOCATION:MAPLE GROVE UNITED CHURCH\, 346 Maple Grove Dr\,\, Oakville\, L6J 4V5\, Canada
CATEGORIES:Festival
ATTACH;FMTTYPE=image/png:https://neighbur.net/wp-content/uploads/2025/06/OAKVILLE-SPRING-BLOSSOM-MARKET-4-flyers-1.png
END:VEVENT
BEGIN:VEVENT
DTSTART;TZID=America/Toronto:20250607T110000
DTEND;TZID=America/Toronto:20250607T123000
DTSTAMP:20260420T160200
CREATED:20250413T183002Z
LAST-MODIFIED:20250413T183008Z
UID:10039043-1749294000-1749299400@neighbur.net
SUMMARY:#ExperienceTO: High Park Historical Tour
DESCRIPTION:“In 1837\, architect John George Howard purchased 165 acres west of Toronto as a country estate that he named High Park. In 1876\, he donated his land to the city and\, almost until his death in 1890\, was the primary force behind the planning and development of a natural or forest park that is almost 400 acres in size today.” (Ontario Historical Society)\n\nJoin us for a FREE\, public walking tour that will be a good experience for anyone: whether you’re 8 or 80 years old\, and whether you’re a curious local\, solo traveler\, backpacker\, part of a small groups of friends\, or a newcomer.\n\nABOUT\nBeginning in front of the Hannah’s Cafe and Bakery (1822 Bloor St W\, Toronto\, ON M6P 3K6)\, the interactive tour will be hosted by your guide Alex Rășcanu. The tour will focus on High Park’s history. The historical tour will conclude at a nearby coffee shop.\n\nWHEN\nSaturday\, June 7\, 2025 at 11:00am. The tour will last approximately 90 minutes.\n\nWHERE TO MEET\nThe tour will start in front of Hannah’s Cafe and Bakery (1822 Bloor St W\, Toronto\, ON M6P 3K6).\n\nWHERE IT ENDS\nThis tour will end at a nearby coffee shop\, where you can order coffee/tea/brunch and spend some more time speaking and connecting with fellow historical tour participants.
URL:https://neighbur.net/event/experienceto-high-park-historical-tour/
LOCATION:Ontario
ATTACH;FMTTYPE=image/png:https://neighbur.net/wp-content/uploads/2025/04/2025.06.07-High-Park-Historical-Tour.png
ORGANIZER;CN="Alex R%C4%83%C8%99canu":MAILTO:alex@rascanu.com
END:VEVENT
BEGIN:VEVENT
DTSTART;TZID=America/Toronto:20250607T120000
DTEND;TZID=America/Toronto:20250607T143000
DTSTAMP:20260420T160200
CREATED:20250519T222437Z
LAST-MODIFIED:20250519T222441Z
UID:10039562-1749297600-1749306600@neighbur.net
SUMMARY:From the Curb to the Heart – 'Garbage Day Dad' Book Launch by Eunice Barnes!
DESCRIPTION:Step into a story that’s as funny as it is full of heart.\nJoin us for the official launch of Garbage Day Dad\, a heartfelt and humorous new children’s book by author Eunice Barnes.\n\nThis special event features a meet & greet with the author\, opportunities to purchase both Garbage Day Dad and her beloved earlier titles\, and an uplifting afternoon of stories\, connection\, and community.\n\nEnjoy a beautifully arranged spread of appetizers\, sweet treats\, and refreshments\, all in a warm and welcoming space designed for families\, educators\, book lovers\, and anyone who appreciates meaningful stories told with love and laughter.
URL:https://neighbur.net/event/from-the-curb-to-the-heart-garbage-day-dad-book-launch-by-eunice-barnes/
LOCATION:Get Sold Realty\, 24 Ronson Dr. #3\, Etobicoke\, M9W 1B4
ATTACH;FMTTYPE=image/jpeg:https://neighbur.net/wp-content/uploads/2025/05/copy_eunice_barnes_-_book_event_flyer-scaled.jpg
ORGANIZER;CN="Yonge London Partners":MAILTO:michael@yongelondon.com
END:VEVENT
BEGIN:VEVENT
DTSTART;TZID=America/Toronto:20250607T190000
DTEND;TZID=America/Toronto:20250607T210000
DTSTAMP:20260420T160200
CREATED:20250403T145742Z
LAST-MODIFIED:20250403T145744Z
UID:10038992-1749322800-1749330000@neighbur.net
SUMMARY:Iconique Pride Concert At Koemer Hall
DESCRIPTION:Join us for Iconique\, Singing Out’s spectacular Pride concert on June 7th at 7:00pm\, celebrating the powerful voices of queer icons through song. As Canada’s largest 2SLGBTQQIA+ choir\, we’re proud to showcase our amazing membership with a show filled with anthems from some of the most influential queer artists. You’ll experience breathtaking vocal arrangements\, and come early to see Gayly Forward Marching Band. \n\nTaking place at the renowned Koerner Hall at the TELUS Centre for Performance and Learning\, this official Toronto Pride Affiliate event is a night you won’t want to miss!\n\nTickets: www.rcmusic.com/events-and-performances/singing-out-presents-iconique-a-pride-celebration
URL:https://neighbur.net/event/iconique-pride-concert-at-koemer-hall/
LOCATION:Koerner Hall\, 273 Bloor St. W.\, Toronto\, M5S 1W2
ATTACH;FMTTYPE=image/jpeg:https://neighbur.net/wp-content/uploads/2025/04/koerner-hall.jpg
ORGANIZER;CN="Singing Out":MAILTO:volunteer@singingout.com
END:VEVENT
BEGIN:VEVENT
DTSTART;TZID=America/Toronto:20250607T190000
DTEND;TZID=America/Toronto:20250607T230000
DTSTAMP:20260420T160200
CREATED:20250704T163854Z
LAST-MODIFIED:20250704T163855Z
UID:10041880-1749322800-1749337200@neighbur.net
SUMMARY:Foundation Sunday At Studio M
DESCRIPTION:Foundation Sunday Hosted every Sunday at Studio M \n1672 Eglinton Ave West \nFree admission
URL:https://neighbur.net/event/foundation-sunday-at-studio-m/
LOCATION:Ontario
ATTACH;FMTTYPE=image/jpeg:https://neighbur.net/wp-content/uploads/2025/07/IMG_3757-1.jpeg
END:VEVENT
BEGIN:VEVENT
DTSTART;TZID=America/Toronto:20250607T193000
DTEND;TZID=America/Toronto:20250607T213000
DTSTAMP:20260420T160200
CREATED:20250505T014624Z
LAST-MODIFIED:20250505T014626Z
UID:10039531-1749324600-1749331800@neighbur.net
SUMMARY:ECHOES OF INDIA & NEW VOICES OF CANADA
DESCRIPTION:ECC will present a unique musical program with both global and local connections to wrap up our 2024-2025 season.  The choir will begin by performing a variety of Indian music\, both traditional and contemporary\, in its authentic context of languages\, instruments and performance styles\, led by Hasheel Lodhia\, renowned bansuri player and singer.  The choir will share the stage with an Indian instrument orchestra including Ramona Sylvan on tabla; Dhruv Sodha on sitar and Nathan Khan on keyboard\, along with singer. Anuja Panditrao.  Selections include Bheempalasi Suite\, arranged by Hasheel Lodhia and Barso Re by A.R. Rahman\, arranged by Ethan Sperry. \n\nAND \n\nThis concert marks the premiere of new choral music from the Toronto-based writing team of Henstra and Renglich.  The choir is honoured to showcase these compositions by our Artistic Director\, Henry Renglich and Sarah Henstra\, a Governor General Award-winning author and fellow chorister.  The choir will be accompanied in these new works by an ensemble of piano\, flute\, cello\, clarinet and French horn.  Soloists Mélissa Danis\, soprano; David Finneran\, bass; Hermione Goss\, soprano; Lauren Halasz\, alto; Pete Oundjian\, tenor; Mikhail Shemet\, baritone; Amanda Weatherall\, alto and Adam Wicks\, tenor. \nCome at 7 PM  for an insightful pre-concert chat with our Artistic Director for a behind-the-scenes glimpse into this musical journey.
URL:https://neighbur.net/event/echoes-of-india-new-voices-of-canada/
LOCATION:Runnymede United Church\, 432 Runnymede Road\, Toronto ON  M6S 2Y8
CATEGORIES:Festival
ATTACH;FMTTYPE=image/jpeg:https://neighbur.net/wp-content/uploads/2025/05/ECC_Echoes_India_New_Voices_Poster.jpg
END:VEVENT
BEGIN:VEVENT
DTSTART;TZID=America/Toronto:20250607T200000
DTEND;TZID=America/Toronto:20250607T230000
DTSTAMP:20260420T160200
CREATED:20250606T022745Z
LAST-MODIFIED:20250606T022748Z
UID:10039684-1749326400-1749337200@neighbur.net
SUMMARY:Tanya\, Sara\, and Filthy Rich  - Uno\, Dos\, Tres - Live at La Rev
DESCRIPTION:Uno\, Dos\, Tres! Solos\, duets and trios!\nCome see and hear Tanya Philipovich\, Sara Dishart\, and Filthy Rich share the stage all evening at La Rev for a special night of originals\, covers and smiles.\nNew wave hits\, alt country standards\, rock anthems\, and folk ditties all guaranteed. A little of this and a dash of that. This evening will organically go where it will and we are excited to follow it!\nEnjoy some fabulous authentic Mexican food\, micheladas and margaritas!\nFree to attend. PWYC during show.\n8-11PM See less
URL:https://neighbur.net/event/tanya-sara-and-filthy-rich-uno-dos-tres-live-at-la-rev/
LOCATION:La Rev\, 2848 Dundas St. W\, Toronto\, Ontario\, m6p1y9\, Canada
END:VEVENT
END:VCALENDAR