BEGIN:VCALENDAR
VERSION:2.0
PRODID:-//Neighbur - ECPv6.15.18//NONSGML v1.0//EN
CALSCALE:GREGORIAN
METHOD:PUBLISH
X-WR-CALNAME:Neighbur
X-ORIGINAL-URL:https://neighbur.net
X-WR-CALDESC:Events for Neighbur
REFRESH-INTERVAL;VALUE=DURATION:PT1H
X-Robots-Tag:noindex
X-PUBLISHED-TTL:PT1H
BEGIN:VTIMEZONE
TZID:America/Toronto
BEGIN:DAYLIGHT
TZOFFSETFROM:-0500
TZOFFSETTO:-0400
TZNAME:EDT
DTSTART:20250309T070000
END:DAYLIGHT
BEGIN:STANDARD
TZOFFSETFROM:-0400
TZOFFSETTO:-0500
TZNAME:EST
DTSTART:20251102T060000
END:STANDARD
BEGIN:DAYLIGHT
TZOFFSETFROM:-0500
TZOFFSETTO:-0400
TZNAME:EDT
DTSTART:20260308T070000
END:DAYLIGHT
BEGIN:STANDARD
TZOFFSETFROM:-0400
TZOFFSETTO:-0500
TZNAME:EST
DTSTART:20261101T060000
END:STANDARD
BEGIN:DAYLIGHT
TZOFFSETFROM:-0500
TZOFFSETTO:-0400
TZNAME:EDT
DTSTART:20270314T070000
END:DAYLIGHT
BEGIN:STANDARD
TZOFFSETFROM:-0400
TZOFFSETTO:-0500
TZNAME:EST
DTSTART:20271107T060000
END:STANDARD
END:VTIMEZONE
BEGIN:VEVENT
DTSTART;TZID=America/Toronto:20260419T040000
DTEND;TZID=America/Toronto:20260420T035959
DTSTAMP:20260419T180136
CREATED:20260116T204043Z
LAST-MODIFIED:20260116T204046Z
UID:10053858-1776571200-1776657599@neighbur.net
SUMMARY:Girls Summer Soccer Programs All Ages - Royalyorkfc.com
DESCRIPTION:Get ready for an exciting outdoor soccer experience filled with fun\, learning\, and development on the pitch! Our programs are designed to support players of various ages and skill levels\, with sessions led by experienced coaches who focus on building strong fundamentals. Don’t miss out\, go to www.royalyorkfc.com to register today!
URL:https://neighbur.net/event/girls-summer-soccer-programs-all-ages-royalyorkfc-com/2026-04-19/
LOCATION:Royal York FC
ATTACH;FMTTYPE=image/jpeg:https://neighbur.net/wp-content/uploads/2026/01/generic-summer-programs-1.jpg
END:VEVENT
BEGIN:VEVENT
DTSTART;TZID=America/Toronto:20260419T090000
DTEND;TZID=America/Toronto:20260419T150000
DTSTAMP:20260419T180136
CREATED:20260318T222626Z
LAST-MODIFIED:20260318T222634Z
UID:10056965-1776589200-1776610800@neighbur.net
SUMMARY:Colonel Samuel Smith Park Clean Up
DESCRIPTION:Annual Park Clean Up
URL:https://neighbur.net/event/colonel-samuel-smith-park-clean-up/
LOCATION:Colonel Samuel Smith Park\, 3145 Lakeshore Blvd West\, Etobicoke\, Ontario\, M8V4B6\, Austria
CATEGORIES:Festival
ATTACH;FMTTYPE=image/jpeg:https://neighbur.net/wp-content/uploads/2026/03/IMG_8832-1.jpeg
ORGANIZER;CN="Alan Roy":MAILTO:alan.ace.roy@gmail.com
END:VEVENT
BEGIN:VEVENT
DTSTART;TZID=America/Toronto:20260419T103000
DTEND;TZID=America/Toronto:20260419T113000
DTSTAMP:20260419T180136
CREATED:20240912T130909Z
LAST-MODIFIED:20240912T130910Z
UID:10030737-1776594600-1776598200@neighbur.net
SUMMARY:Sunday worship at Humbercrest United Church
DESCRIPTION:Join Rev. Diane Mugambi and the congregation of Humbercrest United Church for inclusive\, forward-thinking Christian worship. All are welcome! Come grow with us. 16 Baby Point Road – one block west of Jane and Annette Streets.
URL:https://neighbur.net/event/sunday-worship-at-humbercrest-united-church/2026-04-19/
LOCATION:Humbercrest United Church\, 16 Baby Point Road\, Toronto
ATTACH;FMTTYPE=image/jpeg:https://neighbur.net/wp-content/uploads/2024/09/HUC-Church-service-flyer-1.jpg
ORGANIZER;CN="Humbercrest":MAILTO:info@humbercrest.ca
END:VEVENT
END:VCALENDAR