BEGIN:VCALENDAR
VERSION:2.0
PRODID:-//Neighbur - ECPv6.15.18//NONSGML v1.0//EN
CALSCALE:GREGORIAN
METHOD:PUBLISH
X-WR-CALNAME:Neighbur
X-ORIGINAL-URL:https://neighbur.net
X-WR-CALDESC:Events for Neighbur
REFRESH-INTERVAL;VALUE=DURATION:PT1H
X-Robots-Tag:noindex
X-PUBLISHED-TTL:PT1H
BEGIN:VTIMEZONE
TZID:America/Toronto
BEGIN:DAYLIGHT
TZOFFSETFROM:-0500
TZOFFSETTO:-0400
TZNAME:EDT
DTSTART:20250309T070000
END:DAYLIGHT
BEGIN:STANDARD
TZOFFSETFROM:-0400
TZOFFSETTO:-0500
TZNAME:EST
DTSTART:20251102T060000
END:STANDARD
BEGIN:DAYLIGHT
TZOFFSETFROM:-0500
TZOFFSETTO:-0400
TZNAME:EDT
DTSTART:20260308T070000
END:DAYLIGHT
BEGIN:STANDARD
TZOFFSETFROM:-0400
TZOFFSETTO:-0500
TZNAME:EST
DTSTART:20261101T060000
END:STANDARD
BEGIN:DAYLIGHT
TZOFFSETFROM:-0500
TZOFFSETTO:-0400
TZNAME:EDT
DTSTART:20270314T070000
END:DAYLIGHT
BEGIN:STANDARD
TZOFFSETFROM:-0400
TZOFFSETTO:-0500
TZNAME:EST
DTSTART:20271107T060000
END:STANDARD
END:VTIMEZONE
BEGIN:VEVENT
DTSTART;TZID=America/Toronto:20260421T040000
DTEND;TZID=America/Toronto:20260422T035959
DTSTAMP:20260421T015941
CREATED:20260116T204315Z
LAST-MODIFIED:20260206T174714Z
UID:10053873-1776744000-1776830399@neighbur.net
SUMMARY:Summer Camps Ages 6-13 Co-ed - Royalyorkfc.com
DESCRIPTION:It might be cold outside\, but Royal York FC is gearing up for our 2026 Summer Soccer Camps! Last year’s sold out camps were packed with high energy activities\, skill building\, and lots of laughs. Registration is open NOW and spots are filling up fast. Don’t miss out\, go to www.royalyorkfc.com to register today!
URL:https://neighbur.net/event/summer-camps-ages-6-13-co-ed-royalyorkfc-com/2026-04-21/
LOCATION:Royal York FC
ATTACH;FMTTYPE=image/jpeg:https://neighbur.net/wp-content/uploads/2026/02/Royal-York-Football-Club_quarterV_FEB26-01.jpg
END:VEVENT
BEGIN:VEVENT
DTSTART;TZID=America/Toronto:20260421T091500
DTEND;TZID=America/Toronto:20260421T100000
DTSTAMP:20260421T015941
CREATED:20251212T214309Z
LAST-MODIFIED:20251212T214401Z
UID:10053222-1776762900-1776765600@neighbur.net
SUMMARY:Dynamic Power & Strength Classes for Adults +55 At St. Demetrius
DESCRIPTION:Come join new friends in the Stay Connected Program in our weekly exercises classes! The program is offered to older adults 55+ and is held in person at 123 La Rose Avenue\, or virtually via Zoom. Learn More: www.stdemetrius.ca/community-programs\n— \nCome prepared to move and generate body heat.  In this class you will foster functional power and strength. It is suited to those who already have a good foundation of mobility and balance and who can move from standing into moderate/modified squats and/or onto the mat.  Dynamic Power & Strength is designed to foster muscle power\, overall strength and freedom of movement.\nThe class will included four sections: warm up\, modified plyometrics\, dynamic strength conditioning and cool down.\nModified plyometrics are low-impact exercises that activate the stretch-shortening cycle in our muscles to increase strength and performance. Modified plyometrics can enhance functional fitness\, increase ease of daily activities and help improve balance\, coordination\, and bone density\, for sustaining an independent lifestyle.\nThe dynamic strength section of this class will focus on muscular endurance through eccentric (elongated) and concentric (contracted) muscle conditioning.\nParticipants can look forward to a paced\, yet challenging class that will leave them feeling strong and invigorated.\n—\n To register for classes or for more information please call 647-725-0877 or community@stdemetrius.ca
URL:https://neighbur.net/event/dynamic-power-strength-classes-for-adults-55-at-st-demetrius/2026-04-21/
LOCATION:123 La Rose Ave\, 123 La Rose Ave\, Etobicoke\, M9P 1A6\, Canada
ATTACH;FMTTYPE=image/png:https://neighbur.net/wp-content/uploads/2025/12/Dynamic-Power-Strength.png
ORGANIZER;CN="Stay Connected Program":MAILTO:community@stdemetrius.ca
END:VEVENT
BEGIN:VEVENT
DTSTART;TZID=America/Toronto:20260421T094500
DTEND;TZID=America/Toronto:20260421T130000
DTSTAMP:20260421T015941
CREATED:20260401T132738Z
LAST-MODIFIED:20260401T132843Z
UID:10057343-1776764700-1776776400@neighbur.net
SUMMARY:Senior Community Bus Tour With Delmanor
DESCRIPTION:Explore vibrant retirement living options designed for comfort\, connection\, and care.  Join us for a guided bus tour of local senior living communities\, including Barclay Terrace Condos\, Delmanor West Village\, and Delmanor Prince Edward. Enjoy tours\, refreshments\, and expert insights on independent\, assisted\, and in-home care options.\n\nIt’s an easy\, enjoyable way to explore different lifestyles\, neighbourhoods\, and care choices – empowering you for the future.\nSeating is limited – email hello@onwardrealestategroup.ca to register or call 416 580-2596.
URL:https://neighbur.net/event/senior-community-bus-tour-with-delmanor/
LOCATION:Ontario
ATTACH;FMTTYPE=image/png:https://neighbur.net/wp-content/uploads/2026/03/Senior-Community-Bus-Tour-April-21-4.png
ORGANIZER;CN="Onward Real Estate Group":MAILTO:hello@onwardrealestategroup.ca
END:VEVENT
BEGIN:VEVENT
DTSTART;TZID=America/Toronto:20260421T100000
DTEND;TZID=America/Toronto:20260421T110000
DTSTAMP:20260421T015941
CREATED:20260416T220949Z
LAST-MODIFIED:20260416T220952Z
UID:10057504-1776765600-1776769200@neighbur.net
SUMMARY:Gigong At Humber Valley United Church
DESCRIPTION:This class blends slow\, flowing movements with focused breathing to improve physical\, mental and spiritual well being. Suitable for all fitness levels.
URL:https://neighbur.net/event/gigong-at-humber-valley-united-church/2026-04-21/
LOCATION:Humber Valley United Church\, 76 Anglesey Blvd\, Etobicoke
ATTACH;FMTTYPE=image/jpeg:https://neighbur.net/wp-content/uploads/2026/04/church.jpg
END:VEVENT
BEGIN:VEVENT
DTSTART;TZID=America/Toronto:20260421T101500
DTEND;TZID=America/Toronto:20260421T110000
DTSTAMP:20260421T015941
CREATED:20251212T214433Z
LAST-MODIFIED:20251212T214440Z
UID:10053287-1776766500-1776769200@neighbur.net
SUMMARY:Breath and Core Strength (All Levels) Classes for Adults +55 At St. Demetrius
DESCRIPTION:Come join new friends in the Stay Connected Program in our weekly exercises classes! The program is offered to older adults 55+ and is held in person at 123 La Rose Avenue\, or virtually via Zoom. Learn More: www.stdemetrius.ca/community-programs\n—\nCore strength is the ability of the muscles in your trunk—including your abdomen\, back\, and pelvis—to stabilize your spine and pelvis\, which is crucial for balance and good posture.  They support your spine and can help protect you from injuries such as those that lead to back pain.\nCore exercises train the muscles of your torso to work in in coordination with the breath and in overall harmony. This type of training leads to better balance and steadiness. Whether you are lifting\, bending\, or seated to watch your favorite show\, your core muscles enable you to perform everyday activities with greater ease.\nThis class format is accessible to all\, whether you wish to work while seated or standing. We will utilize breath patterns and range of movement exercises to strengthen and mobilize the entire core body.\nBreath and Core Strength will leave you feeling solid and ready to take on your day with greater core stability.\n—\nTo register for classes or for more information please call 647-725-0877 or community@stdemetrius.ca
URL:https://neighbur.net/event/breath-and-core-strength-all-levels-classes-for-adults-55-at-st-demetrius/2026-04-21/
LOCATION:123 La Rose Ave\, 123 La Rose Ave\, Etobicoke\, M9P 1A6\, Canada
ATTACH;FMTTYPE=image/png:https://neighbur.net/wp-content/uploads/2025/12/Your-paragraph-text-1-1.png
ORGANIZER;CN="St. Demetrius Development Corporation":MAILTO:ado@stdemetrius.ca
END:VEVENT
BEGIN:VEVENT
DTSTART;TZID=America/Toronto:20260421T150000
DTEND;TZID=America/Toronto:20260421T170000
DTSTAMP:20260421T015941
CREATED:20260102T183052Z
LAST-MODIFIED:20260102T183053Z
UID:10053566-1776783600-1776790800@neighbur.net
SUMMARY:Free Homework Help for Newcomer Students (Ages 12+)
DESCRIPTION:Are you new to Canada and finding homework challenging? \nWe at Polycultural Immigrant & Community Services are excited to invite newcomer students aged 12 and up to join our free afterschool homework help program! \nOur friendly tutors provide support in English\, Math\, Science\, and more to help you adjust and thrive academically. We’ll guide you through your assignments\, answer your questions\, and help you feel confident in class. \nWhy join?\n✔ Improve your grades\n✔ Get personalized help\n✔ Meet other newcomer students \nProgram Details:\n📅 Tuesdays\, 3:00 PM – 5:00 PM\n📍 3363 Bloor Street West \nFor Newcomers Only \nTo register or learn more\, please contact:\nGabriela\n📞 416-233-0055 ext. 1231\n📧 ggubikova@polycultural.org\n🌐 www.polycultural.org \nWe look forward to seeing you there!
URL:https://neighbur.net/event/free-homework-help-for-newcomer-students-ages-12/2026-04-21/
LOCATION:Polycultural Immigrant and Community Services\, 3363 Bloor St W\, Toronto\, M8X 1G2
ATTACH;FMTTYPE=image/jpeg:https://neighbur.net/wp-content/uploads/2026/01/Homework-club-flyer_Etobicoke_December-2-2025-1-scaled.jpg
ORGANIZER;CN="Polycultural Immigrant and Community Services":MAILTO:ggubikova@polycultural.org
END:VEVENT
BEGIN:VEVENT
DTSTART;TZID=America/Toronto:20260421T170000
DTEND;TZID=America/Toronto:20260421T180000
DTSTAMP:20260421T015941
CREATED:20260416T220946Z
LAST-MODIFIED:20260416T220950Z
UID:10057515-1776790800-1776794400@neighbur.net
SUMMARY:Drum Fit At Humber Valley United Church
DESCRIPTION:We use chairs and yoga balls as our drums\, min in some fun moves\, music and the beat goes on! Drum Fit is suitable for all levels of ability.
URL:https://neighbur.net/event/drum-fit-at-humber-valley-united-church/2026-04-21/
LOCATION:Humber Valley United Church\, 76 Anglesey Blvd\, Etobicoke
ATTACH;FMTTYPE=image/jpeg:https://neighbur.net/wp-content/uploads/2026/04/church-1.jpg
ORGANIZER;CN="Humber Valley United Church":MAILTO:anne@hvuc.ca
END:VEVENT
BEGIN:VEVENT
DTSTART;TZID=America/Toronto:20260421T170000
DTEND;TZID=America/Toronto:20260421T200000
DTSTAMP:20260421T015941
CREATED:20260417T134614Z
LAST-MODIFIED:20260417T134617Z
UID:10057557-1776790800-1776801600@neighbur.net
SUMMARY:Art Showing At Ed's Real Scoop
DESCRIPTION:Leslie Becker Artist showing art through the decades at Ed’s Real Scoop
URL:https://neighbur.net/event/art-showing-at-eds-real-scoop/2026-04-21/
LOCATION:Ed’s Real Scoop\, 189 Roncesvalles Ave.\, Toronto\, M6K 3A8\, Canada
CATEGORIES:Festival
ATTACH;FMTTYPE=image/png:https://neighbur.net/wp-content/uploads/2026/04/New-Poster-for-Eds-art-show-1.png
ORGANIZER;CN="Leslie":MAILTO:leslieannleadfoot@gmail.com
END:VEVENT
BEGIN:VEVENT
DTSTART;TZID=America/Toronto:20260422T020000
DTEND;TZID=America/Toronto:20260422T180000
DTSTAMP:20260421T015941
CREATED:20260323T130628Z
LAST-MODIFIED:20260323T130630Z
UID:10057003-1776823200-1776880800@neighbur.net
SUMMARY:Montgomery's Inn Indoor Farmers Market
DESCRIPTION:Join us every Wednesday from 2pm to 6pm
URL:https://neighbur.net/event/montgomerys-inn-indoor-farmers-market/2026-04-22/
LOCATION:Montgomery Inn\, 4709 Dundas Street West\, Etobicoke
ATTACH;FMTTYPE=image/png:https://neighbur.net/wp-content/uploads/2026/03/Screenshot-2026-03-23-at-8.58.13-AM-1.png
END:VEVENT
END:VCALENDAR