BEGIN:VCALENDAR
VERSION:2.0
PRODID:-//Neighbur - ECPv6.15.20//NONSGML v1.0//EN
CALSCALE:GREGORIAN
METHOD:PUBLISH
X-WR-CALNAME:Neighbur
X-ORIGINAL-URL:https://neighbur.net
X-WR-CALDESC:Events for Neighbur
REFRESH-INTERVAL;VALUE=DURATION:PT1H
X-Robots-Tag:noindex
X-PUBLISHED-TTL:PT1H
BEGIN:VTIMEZONE
TZID:America/Toronto
BEGIN:DAYLIGHT
TZOFFSETFROM:-0500
TZOFFSETTO:-0400
TZNAME:EDT
DTSTART:20250309T070000
END:DAYLIGHT
BEGIN:STANDARD
TZOFFSETFROM:-0400
TZOFFSETTO:-0500
TZNAME:EST
DTSTART:20251102T060000
END:STANDARD
BEGIN:DAYLIGHT
TZOFFSETFROM:-0500
TZOFFSETTO:-0400
TZNAME:EDT
DTSTART:20260308T070000
END:DAYLIGHT
BEGIN:STANDARD
TZOFFSETFROM:-0400
TZOFFSETTO:-0500
TZNAME:EST
DTSTART:20261101T060000
END:STANDARD
BEGIN:DAYLIGHT
TZOFFSETFROM:-0500
TZOFFSETTO:-0400
TZNAME:EDT
DTSTART:20270314T070000
END:DAYLIGHT
BEGIN:STANDARD
TZOFFSETFROM:-0400
TZOFFSETTO:-0500
TZNAME:EST
DTSTART:20271107T060000
END:STANDARD
END:VTIMEZONE
BEGIN:VEVENT
DTSTART;TZID=America/Toronto:20260422T040000
DTEND;TZID=America/Toronto:20260424T035959
DTSTAMP:20260423T074020
CREATED:20260412T225029Z
LAST-MODIFIED:20260415T192257Z
UID:10057474-1776830400-1777003199@neighbur.net
SUMMARY:Grand Opening Special – Stretch Zone The Kingsway
DESCRIPTION:We’re celebrating our Grand Opening with a special you won’t want to miss\, available all day\, every Wednesday! \nDiscover how just one personalized stretching session at Stretch Zone can help relieve stiffness\, improve range of motion\, and enhance overall performance. Using our patented strapping system\, our trained practitioners deliver a targeted stretch experience designed to help you feel better from your very first visit. \nStretch Zone is for every body\, whether you’re looking to boost athletic performance\, ease everyday tension\, or simply feel younger and more mobile. \nStart your journey to moving better\, sleeping better\, and feeling more energized. \nLocation: 3036 Bloor Street West\, Etobicoke\, ON M8X 1C4\nPhone number: 647-250-3948\nWebsite: https://stretchzone.ca/ \nBook your session and experience the difference today.
URL:https://neighbur.net/event/grand-opening-special-stretch-zone-bloor-west/2026-04-22/
ATTACH;FMTTYPE=image/png:https://neighbur.net/wp-content/uploads/2026/04/Canada-Logo-V3_no-tag-1.png
END:VEVENT
BEGIN:VEVENT
DTSTART;TZID=America/Toronto:20260423T170000
DTEND;TZID=America/Toronto:20260423T180000
DTSTAMP:20260423T074020
CREATED:20260416T221048Z
LAST-MODIFIED:20260416T221057Z
UID:10057526-1776963600-1776967200@neighbur.net
SUMMARY:Line Dancing At Humber Valley United Church
DESCRIPTION:It’s fun! It’s social! Come out and learn new moves at our very popular Line Dancing class. This is for beginners and all levels.
URL:https://neighbur.net/event/line-dancing-at-humber-valley-united-church/2026-04-23/
LOCATION:Humber Valley United Church\, 76 Anglesey Blvd\, Etobicoke
ATTACH;FMTTYPE=image/jpeg:https://neighbur.net/wp-content/uploads/2026/04/Line_Dancing2.jpg
ORGANIZER;CN="Humber Valley United Church":MAILTO:anne@hvuc.ca
END:VEVENT
BEGIN:VEVENT
DTSTART;TZID=America/Toronto:20260423T210000
DTEND;TZID=America/Toronto:20260423T230000
DTSTAMP:20260423T074020
CREATED:20230920T202327Z
LAST-MODIFIED:20230920T202328Z
UID:10019022-1776978000-1776985200@neighbur.net
SUMMARY:A night of NEO Burlesque at MY HOUSE in the Junction……
DESCRIPTION:Step into a glamorous night of Neo Burlesque\, where the atmosphere oozes with seductive allure.  The venue is bathed in low\, sultry lighting\, casting an enchanting glow upon the crowd.  As you take your seat they scent of delectable cuisine wafts through the air.  The menu boasts a fusion of decadent dishes\, from Oysters\, Lamb and Foie Gras to delectable sweets.  Exquisite cocktails\, like the classic Martini and vintage-inspired concoctions\, arrive at your table with an artistic flourish. \nThe show begins with a mesmerizing overture\, the dancers adorned in sequins\, feathers and lace\, each more enchanting than the last.  Their graceful movements and sensual choreography tease and titillate\, leaving the audience spellbound.  As the night unfolds\, the energy in the room sizzles. Applause fills the air\, mingling with laughter and whispered conversations.  The performers\, masters of the art of tease\, captivate with their wit and charisma. \nThe evening unfolds like a beautifully choreographed performance\, a harmonious blend of dance and music.
URL:https://neighbur.net/event/a-night-of-neo-burlesque-at-my-house-in-the-junction/2026-04-23/
LOCATION:2882 Dundas Street West\, 2882 Dundas Street West\, Toronto\, M6P 1Y8
END:VEVENT
END:VCALENDAR