BEGIN:VCALENDAR
VERSION:2.0
PRODID:-//Neighbur - ECPv6.15.20//NONSGML v1.0//EN
CALSCALE:GREGORIAN
METHOD:PUBLISH
X-WR-CALNAME:Neighbur
X-ORIGINAL-URL:https://neighbur.net
X-WR-CALDESC:Events for Neighbur
REFRESH-INTERVAL;VALUE=DURATION:PT1H
X-Robots-Tag:noindex
X-PUBLISHED-TTL:PT1H
BEGIN:VTIMEZONE
TZID:America/Toronto
BEGIN:DAYLIGHT
TZOFFSETFROM:-0500
TZOFFSETTO:-0400
TZNAME:EDT
DTSTART:20250309T070000
END:DAYLIGHT
BEGIN:STANDARD
TZOFFSETFROM:-0400
TZOFFSETTO:-0500
TZNAME:EST
DTSTART:20251102T060000
END:STANDARD
BEGIN:DAYLIGHT
TZOFFSETFROM:-0500
TZOFFSETTO:-0400
TZNAME:EDT
DTSTART:20260308T070000
END:DAYLIGHT
BEGIN:STANDARD
TZOFFSETFROM:-0400
TZOFFSETTO:-0500
TZNAME:EST
DTSTART:20261101T060000
END:STANDARD
BEGIN:DAYLIGHT
TZOFFSETFROM:-0500
TZOFFSETTO:-0400
TZNAME:EDT
DTSTART:20270314T070000
END:DAYLIGHT
BEGIN:STANDARD
TZOFFSETFROM:-0400
TZOFFSETTO:-0500
TZNAME:EST
DTSTART:20271107T060000
END:STANDARD
END:VTIMEZONE
BEGIN:VEVENT
DTSTART;TZID=America/Toronto:20260424T040000
DTEND;TZID=America/Toronto:20260425T035959
DTSTAMP:20260424T022134
CREATED:20260116T203627Z
LAST-MODIFIED:20260116T203630Z
UID:10053844-1777003200-1777089599@neighbur.net
SUMMARY:Boys Summer Soccer Programs All Ages Royalyorkfc.com
DESCRIPTION:Get ready for an exciting outdoor soccer experience filled with fun\, learning\, and development on the pitch! Our programs are designed to support players of various ages and skill levels\, with sessions led by experienced coaches who focus on building strong fundamentals. Don’t miss out\, go to www.royalyorkfc.com to register today!
URL:https://neighbur.net/event/boys-summer-soccer-programs-all-ages-royalyorkfc-com/2026-04-24/
LOCATION:Royal York FC
ATTACH;FMTTYPE=image/jpeg:https://neighbur.net/wp-content/uploads/2026/01/generic-summer-programs.jpg
END:VEVENT
BEGIN:VEVENT
DTSTART;TZID=America/Toronto:20260424T080000
DTEND;TZID=America/Toronto:20260424T170000
DTSTAMP:20260424T022134
CREATED:20260403T131728Z
LAST-MODIFIED:20260403T131909Z
UID:10057415-1777017600-1777050000@neighbur.net
SUMMARY:Classic Comedy at Village Players
DESCRIPTION:The true meaning of fate\, identity\, and marriage are called into question as a surprising\, hilarious web of secrets unravels in this ridiculous – potentially murderous – uncharacteristically feminist\, 1923 tale of sex\, betrayal\, and oh yes\, love.
URL:https://neighbur.net/event/classic-comedy-at-village-players/2026-04-24/1/
ATTACH;FMTTYPE=image/jpeg:https://neighbur.net/wp-content/uploads/2026/04/The-Cottage-postcard-FRONT-A.jpg
END:VEVENT
BEGIN:VEVENT
DTSTART;TZID=America/Toronto:20260424T090000
DTEND;TZID=America/Toronto:20260424T233000
DTSTAMP:20260424T022134
CREATED:20260323T130232Z
LAST-MODIFIED:20260323T130237Z
UID:10056997-1777021200-1777073400@neighbur.net
SUMMARY:We Love Disco Concert at Timothy's Pub
DESCRIPTION:Jin us on Saturday\, April 24th from 9pm till midnight with the popular “We Love Disco” band. $10 cover
URL:https://neighbur.net/event/we-love-disco-concert-at-timothys-pub/
LOCATION:Timothy’s Pub\, 344 Brown's Line\, Etobicoke
ATTACH;FMTTYPE=image/jpeg:https://neighbur.net/wp-content/uploads/2026/03/Timothys-Pub_lineup_APR26-01-1.jpg
END:VEVENT
BEGIN:VEVENT
DTSTART;TZID=America/Toronto:20260424T190000
DTEND;TZID=America/Toronto:20260424T220000
DTSTAMP:20260424T022134
CREATED:20260119T232946Z
LAST-MODIFIED:20260119T232948Z
UID:10053879-1777057200-1777068000@neighbur.net
SUMMARY:Jazz at Durbar: Rebecca Enkin on vocals with Matt Pines Trio
DESCRIPTION:Swinging jazz and delicious Indian food at Bloor West Village’s best Indian restaurant on Bloor at Jane. Reserve a table for dinner or come by for a drink at the bar. Family-friendly and no cover. Call 416-762-4441. www.durbar.ca.
URL:https://neighbur.net/event/jazz-at-durbar-rebecca-enkin-on-vocals-with-matt-pines-trio/2026-04-24/
LOCATION:Durbar Indian Restaurant\, 2469 Bloor St. West\, 416-762-4441\, Durbar Indian Cuisine\, 2469 Bloor St W\, Toronto\, M6S 1P7
ATTACH;FMTTYPE=image/jpeg:https://neighbur.net/wp-content/uploads/2026/01/Jazz-at-Durbar-January-23-2026-2.jpg
END:VEVENT
BEGIN:VEVENT
DTSTART;TZID=America/Toronto:20260424T200000
DTEND;TZID=America/Toronto:20260516T170000
DTSTAMP:20260424T022134
CREATED:20260403T131728Z
LAST-MODIFIED:20260403T131909Z
UID:10057416-1777060800-1778950800@neighbur.net
SUMMARY:Classic Comedy at Village Players
DESCRIPTION:The true meaning of fate\, identity\, and marriage are called into question as a surprising\, hilarious web of secrets unravels in this ridiculous – potentially murderous – uncharacteristically feminist\, 1923 tale of sex\, betrayal\, and oh yes\, love.
URL:https://neighbur.net/event/classic-comedy-at-village-players/2026-04-24/2/
ATTACH;FMTTYPE=image/jpeg:https://neighbur.net/wp-content/uploads/2026/04/The-Cottage-postcard-FRONT-A.jpg
END:VEVENT
END:VCALENDAR