BEGIN:VCALENDAR
VERSION:2.0
PRODID:-//Neighbur - ECPv6.15.20//NONSGML v1.0//EN
CALSCALE:GREGORIAN
METHOD:PUBLISH
X-ORIGINAL-URL:https://neighbur.net
X-WR-CALDESC:Events for Neighbur
REFRESH-INTERVAL;VALUE=DURATION:PT1H
X-Robots-Tag:noindex
X-PUBLISHED-TTL:PT1H
BEGIN:VTIMEZONE
TZID:America/Toronto
BEGIN:DAYLIGHT
TZOFFSETFROM:-0500
TZOFFSETTO:-0400
TZNAME:EDT
DTSTART:20250309T070000
END:DAYLIGHT
BEGIN:STANDARD
TZOFFSETFROM:-0400
TZOFFSETTO:-0500
TZNAME:EST
DTSTART:20251102T060000
END:STANDARD
BEGIN:DAYLIGHT
TZOFFSETFROM:-0500
TZOFFSETTO:-0400
TZNAME:EDT
DTSTART:20260308T070000
END:DAYLIGHT
BEGIN:STANDARD
TZOFFSETFROM:-0400
TZOFFSETTO:-0500
TZNAME:EST
DTSTART:20261101T060000
END:STANDARD
BEGIN:DAYLIGHT
TZOFFSETFROM:-0500
TZOFFSETTO:-0400
TZNAME:EDT
DTSTART:20270314T070000
END:DAYLIGHT
BEGIN:STANDARD
TZOFFSETFROM:-0400
TZOFFSETTO:-0500
TZNAME:EST
DTSTART:20271107T060000
END:STANDARD
END:VTIMEZONE
BEGIN:VEVENT
DTSTART;TZID=America/Toronto:20260920T103000
DTEND;TZID=America/Toronto:20260920T113000
DTSTAMP:20260425T074704
CREATED:20240912T130909Z
LAST-MODIFIED:20240912T130910Z
UID:10030759-1789900200-1789903800@neighbur.net
SUMMARY:Sunday worship at Humbercrest United Church
DESCRIPTION:Join Rev. Diane Mugambi and the congregation of Humbercrest United Church for inclusive\, forward-thinking Christian worship. All are welcome! Come grow with us. 16 Baby Point Road – one block west of Jane and Annette Streets.
URL:https://neighbur.net/event/sunday-worship-at-humbercrest-united-church/2026-09-20/
LOCATION:Humbercrest United Church\, 16 Baby Point Road\, Toronto
ATTACH;FMTTYPE=image/jpeg:https://neighbur.net/wp-content/uploads/2024/09/HUC-Church-service-flyer-1.jpg
ORGANIZER;CN="Humbercrest":MAILTO:info@humbercrest.ca
END:VEVENT
END:VCALENDAR