BEGIN:VCALENDAR
VERSION:2.0
PRODID:-//Neighbur - ECPv6.15.20//NONSGML v1.0//EN
CALSCALE:GREGORIAN
METHOD:PUBLISH
X-WR-CALNAME:Neighbur
X-ORIGINAL-URL:https://neighbur.net
X-WR-CALDESC:Events for Neighbur
REFRESH-INTERVAL;VALUE=DURATION:PT1H
X-Robots-Tag:noindex
X-PUBLISHED-TTL:PT1H
BEGIN:VTIMEZONE
TZID:America/Toronto
BEGIN:DAYLIGHT
TZOFFSETFROM:-0500
TZOFFSETTO:-0400
TZNAME:EDT
DTSTART:20250309T070000
END:DAYLIGHT
BEGIN:STANDARD
TZOFFSETFROM:-0400
TZOFFSETTO:-0500
TZNAME:EST
DTSTART:20251102T060000
END:STANDARD
BEGIN:DAYLIGHT
TZOFFSETFROM:-0500
TZOFFSETTO:-0400
TZNAME:EDT
DTSTART:20260308T070000
END:DAYLIGHT
BEGIN:STANDARD
TZOFFSETFROM:-0400
TZOFFSETTO:-0500
TZNAME:EST
DTSTART:20261101T060000
END:STANDARD
BEGIN:DAYLIGHT
TZOFFSETFROM:-0500
TZOFFSETTO:-0400
TZNAME:EDT
DTSTART:20270314T070000
END:DAYLIGHT
BEGIN:STANDARD
TZOFFSETFROM:-0400
TZOFFSETTO:-0500
TZNAME:EST
DTSTART:20271107T060000
END:STANDARD
END:VTIMEZONE
BEGIN:VEVENT
DTSTART;TZID=America/Toronto:20260926T040000
DTEND;TZID=America/Toronto:20260928T035959
DTSTAMP:20260425T074606
CREATED:20260416T220846Z
LAST-MODIFIED:20260416T220850Z
UID:10057502-1790395200-1790567999@neighbur.net
SUMMARY:Puck Cancer Charity Hockey Tournament Set for September 27
DESCRIPTION:A new philanthropic initiative\, Puck Cancer Charity Hockey Tournament\, will debut as a two-day event on September 26–27\, 2026\, bringing together leaders from the business and hockey communities in support of cancer and diabetes initiatives.\n\nFounded by cancer survivor Paul Lonergan\, Puck Cancer was created as a purpose-driven platform rooted in personal experience and community impact. What began as a tribute inspired by lived experience and loss has evolved into a growing\, community-led effort focused on raising awareness\, supporting families\, and funding critical care and research.\n\nProceeds from the event will support a group of leading organizations\, including Brain Cancer Canada\, Princess Margaret Cancer Foundation\, Mt. Sinai Hospital\, Breakthrough T1D\, and Diabetes Canada\, funding initiatives that span research\, patient care\, and family support.\n\nPositioned at the intersection of sport\, philanthropy\, and community leadership\, Puck Cancer aims to build a lasting platform that mobilizes support and delivers meaningful impact in the fight against life-altering diseases.\n\nA limited number of team entries and sponsorship opportunities remain available.\n\nFor more information\, visit: https://puckcanceranddiabetes.com
URL:https://neighbur.net/event/puck-cancer-charity-hockey-tournament-set-for-september-27/
LOCATION:george bell arena\, 215 Ryding ave\, Toronto
ATTACH;FMTTYPE=image/png:https://neighbur.net/wp-content/uploads/2026/04/PCLOGO.png
END:VEVENT
BEGIN:VEVENT
DTSTART;TZID=America/Toronto:20260926T090000
DTEND;TZID=America/Toronto:20260926T130000
DTSTAMP:20260425T074606
CREATED:20260424T144324Z
LAST-MODIFIED:20260424T144327Z
UID:10057684-1790413200-1790427600@neighbur.net
SUMMARY:Junction Farmers Market at Baird Park
DESCRIPTION:A new season is upon us with the Junction Farmers Market restarts up on Saturday\, May 16th and runs every Saturday until October 31st. Come and enjoy. Located at Baird Park at 275 Keele Street
URL:https://neighbur.net/event/junction-farmers-market-at-baird-park/2026-09-26/
LOCATION:Baird Park\, 275 Keele Street\, Toronto\, Ontario\, Canada
ATTACH;FMTTYPE=image/jpeg:https://neighbur.net/wp-content/uploads/2026/04/IMG_4757.jpg
ORGANIZER;CN="Junction Farmers Market Board of Directors":MAILTO:info@junctionmarket.ca
END:VEVENT
END:VCALENDAR