BEGIN:VCALENDAR
VERSION:2.0
PRODID:-//Neighbur - ECPv6.15.18//NONSGML v1.0//EN
CALSCALE:GREGORIAN
METHOD:PUBLISH
X-WR-CALNAME:Neighbur
X-ORIGINAL-URL:https://neighbur.net
X-WR-CALDESC:Events for Neighbur
REFRESH-INTERVAL;VALUE=DURATION:PT1H
X-Robots-Tag:noindex
X-PUBLISHED-TTL:PT1H
BEGIN:VTIMEZONE
TZID:America/Toronto
BEGIN:DAYLIGHT
TZOFFSETFROM:-0500
TZOFFSETTO:-0400
TZNAME:EDT
DTSTART:20250309T070000
END:DAYLIGHT
BEGIN:STANDARD
TZOFFSETFROM:-0400
TZOFFSETTO:-0500
TZNAME:EST
DTSTART:20251102T060000
END:STANDARD
BEGIN:DAYLIGHT
TZOFFSETFROM:-0500
TZOFFSETTO:-0400
TZNAME:EDT
DTSTART:20260308T070000
END:DAYLIGHT
BEGIN:STANDARD
TZOFFSETFROM:-0400
TZOFFSETTO:-0500
TZNAME:EST
DTSTART:20261101T060000
END:STANDARD
BEGIN:DAYLIGHT
TZOFFSETFROM:-0500
TZOFFSETTO:-0400
TZNAME:EDT
DTSTART:20270314T070000
END:DAYLIGHT
BEGIN:STANDARD
TZOFFSETFROM:-0400
TZOFFSETTO:-0500
TZNAME:EST
DTSTART:20271107T060000
END:STANDARD
END:VTIMEZONE
BEGIN:VEVENT
DTSTART;TZID=America/Toronto:20260303T100000
DTEND;TZID=America/Toronto:20260303T120000
DTSTAMP:20260420T104752
CREATED:20251029T033245Z
LAST-MODIFIED:20260219T205449Z
UID:10048685-1772532000-1772539200@neighbur.net
SUMMARY:Smart Sorting: What's Worth Selling and Where
DESCRIPTION:This engaging\, hands-on workshop at the Fairfield Seniors Centre on Tuesday\, March 3rd at 10:00am is designed for homeowners who want to understand how reverse mortgages can strategically support downsizing\, lifestyle flexibility\, and long‑term planning.  \nGuided by expert mortgage brokers Greg Johnston and Maria Pezza\, attendees will explore how to unlock home equity without selling\, expand housing options at their own pace\, and balance personal needs with family and legacy goals. With clear\, practical insights into when a reverse mortgage makes sense—and what to consider before taking next steps—this session empowers seniors to make confident\, informed decisions.  \nPlus\, everyone who attends has a chance to win a $25 gift card\, making it an even more inviting opportunity to learn\, connect\, and plan ahead.
URL:https://neighbur.net/event/smart-sorting-whats-worth-selling-and-where/
LOCATION:Fairfield Seniors Centre\, 80 Lothian Ave.\, Etobicoke\, M8Z 4K5
CATEGORIES:Festival
ATTACH;FMTTYPE=image/jpeg:https://neighbur.net/wp-content/uploads/2025/10/March-3-Event.jpg
END:VEVENT
BEGIN:VEVENT
DTSTART;TZID=America/Toronto:20260304T200000
DTEND;TZID=America/Toronto:20260304T213000
DTSTAMP:20260420T104752
CREATED:20260206T013620Z
LAST-MODIFIED:20260206T013621Z
UID:10056014-1772654400-1772659800@neighbur.net
SUMMARY:Wednesdays Grande Soirees - Gags and Grog Hosted by Trevor Burnett
DESCRIPTION:Each Wednesday evening\, guests are invited to enjoy a relaxed midweek dinner experience paired with rotating interactive entertainment. From trivia and bingo to playful game-show formats\, every night brings a different way to unwind\, connect\, and enjoy the evening — all hosted with warmth\, humour\, and a refined sense of fun. \nEnjoy Gags & Grog\, a comedy-forward night filled with sharp humour\, crowd interaction\, and nonstop laughter.\nEnjoy a special three‑course dinner\, lively entertainment\, and performances from guest stand‑up comedians — all for $85 plus gratuity and tax\, paid the night of the event. It’s an evening of big laughs\, great food\, and grog‑fueled good times. \nTrevor Burnett began his journey in show business on the iconic stage of Toronto’s Second City Theatre\, where he refined his craft in live improv comedy. His career soon expanded far beyond the city\, performing aboard luxury cruise ships across six continents\, entertaining audiences in more than 30 countries and 130 cities as both an entertainer and guest lecturer.
URL:https://neighbur.net/event/wednesdays-grande-soirees-gags-and-grog-hosted-by-trevor-burnett/2026-03-04/
LOCATION:Old Mill Toronto\, 21 Old Mill Road\, Toronto\, M8X 1G5
CATEGORIES:Festival
ATTACH;FMTTYPE=image/png:https://neighbur.net/wp-content/uploads/2026/02/GagsGrog.png
END:VEVENT
BEGIN:VEVENT
DTSTART;TZID=America/Toronto:20260308T190000
DTEND;TZID=America/Toronto:20260308T220000
DTSTAMP:20260420T104752
CREATED:20260305T133622Z
LAST-MODIFIED:20260305T133630Z
UID:10056921-1772996400-1773007200@neighbur.net
SUMMARY:Girl’s Night Out at Powder Room Yorkville
DESCRIPTION:This one’s for the girls! Powder Room Yorkville invites you and the women who elevate your world to gather this Sunday\, March 8 for an intimate and electric night out to indulge in $25 bottomless bubbles and artful sweet treats like banana splits and cheesecake pearls\, with live music by Avery Raquel. \n\nDate: March 8th\, 2026\nTime: Live music starts at 7 p.m.\nAddress: 129 Yorkville Ave\, Toronto\, ON M5R 1B9
URL:https://neighbur.net/event/girls-night-out-at-powder-room-yorkville-2/
LOCATION:Powder Room Yorkville\, 129 Yorkville Ave\, Toronto\, ON M5R 1B9\, Toronto\, M5R 1B9
CATEGORIES:Festival
ATTACH;FMTTYPE=image/jpeg:https://neighbur.net/wp-content/uploads/2026/03/powderroomyorkville_1772472600_3844101471202107712_75842930728-1.jpg
END:VEVENT
BEGIN:VEVENT
DTSTART;TZID=America/Toronto:20260311T200000
DTEND;TZID=America/Toronto:20260311T213000
DTSTAMP:20260420T104752
CREATED:20260206T012859Z
LAST-MODIFIED:20260206T012901Z
UID:10056011-1773259200-1773264600@neighbur.net
SUMMARY:Weekly Wednesdays Grande Soirees Hosted by Trevor Burnett - Boozy Bingo
DESCRIPTION:Each Wednesday evening\, guests are invited to enjoy a relaxed midweek dinner experience paired with rotating interactive entertainment. From trivia and bingo to playful game-show formats\, every night brings a different way to unwind\, connect\, and enjoy the evening — all hosted with warmth\, humour\, and a refined sense of fun. \nJoin us for Boozy Bingo\, a lively evening where classic bingo meets playful competition\, quick wit\, and plenty of laughs.\nEnjoy a special three-course dinner\, lively entertainment\, and two bingo tickets to kick off the fun.\nWant even more chances to win? You’ll receive one additional bingo ticket with each alcoholic beverage ordered. Bold\, boozy\, and delicious\, this is one of the most entertaining bingo nights in town. \nTrevor Burnett began his journey in show business on the iconic stage of Toronto’s Second City Theatre\, where he refined his craft in live improv comedy. His career soon expanded far beyond the city\, performing aboard luxury cruise ships across six continents\, entertaining audiences in more than 30 countries and 130 cities as both an entertainer and guest lecturer.
URL:https://neighbur.net/event/weekly-wednesdays-grande-soirees-hosted-by-trevor-burnett-boozy-bingo/2026-03-11/
LOCATION:Old Mill Toronto\, 21 Old Mill Road\, Toronto\, M8X 1G5
CATEGORIES:Festival
ATTACH;FMTTYPE=image/png:https://neighbur.net/wp-content/uploads/2026/02/Boozy-Bingo.png
END:VEVENT
BEGIN:VEVENT
DTSTART;TZID=America/Toronto:20260314T200000
DTEND;TZID=America/Toronto:20260314T220000
DTSTAMP:20260420T104752
CREATED:20260206T021610Z
LAST-MODIFIED:20260206T021612Z
UID:10056016-1773518400-1773525600@neighbur.net
SUMMARY:Prince: A Tribute presented by Purple Funkadelica
DESCRIPTION:Purple Funkadelica is a fully immersive Prince tribute experience — bold\, soulful\, and unmistakably purple.\n\nThis immersive dinner and dancing event in Toronto invites guests to enjoy an elevated evening of live music\, refined dining\, and an elegant dance floor experience inspired by the legendary sound and spirit of Prince.\n\nDrawing from iconic hits\, rare B‑sides\, and deep cuts\, the performance explores the full depth of Prince’s musical universe\, bringing the Minneapolis sound vividly to life; blending electrifying funk energy with the intimate\, interactive atmosphere of Prince’s legendary after‑parties\, Purple Funkadelica offers an experience that goes far beyond a typical tribute performance.\n\nFearlessly fronted by seasoned recording artist Chris Rouse\, alongside Jenna O\, whose expressive performances honor Prince protégés from Sheila E. to Sinéad O’Connor\, the show delivers a dynamic and sophisticated celebration of Prince’s musical genius — immersive\, stylish\, and deeply engaging.\n\nScheduled to perform are \nChris Rouse — Vocals\, Guitar\, Keys\nJenna O — Vocals\, Dance\, Choreography\nPaul Antonio Rochester — Drums\nCatherine (CAT) Hull — Guitar\nRon Miller — Bass\nLindsay Clark — Keys
URL:https://neighbur.net/event/prince-a-tribute-presented-by-purple-funkadelica/
LOCATION:Old Mill Toronto\, 21 Old Mill Road\, Toronto\, M8X 1G5
CATEGORIES:Festival
ATTACH;FMTTYPE=image/jpeg:https://neighbur.net/wp-content/uploads/2026/02/Chris-Rouse_Purple_Funkadelica.jpg
END:VEVENT
BEGIN:VEVENT
DTSTART;TZID=America/Toronto:20260324T100000
DTEND;TZID=America/Toronto:20260324T120000
DTSTAMP:20260420T104752
CREATED:20251029T033336Z
LAST-MODIFIED:20260219T210708Z
UID:10048686-1774346400-1774353600@neighbur.net
SUMMARY:Aging in Place: Thriving as you Grow Older
DESCRIPTION:Brick & Bloom Real Estate Group host guest speaker Renee Henriques from ComForcare. They will provide a comprehensive overview of what it means to age in place and how to plan for continued independence and quality of life.\nKey topics covered will include:\n•Benefits of Aging in Place: Discover the health\, emotional\, and financial advantages of staying in your own home\, including improved quality of life\, social connectedness\, and reduced healthcare costs.\n•Common Challenges and Solutions: Learn about the obstacles older adults often face-such as declining mobility\, home maintenance\, and risk of injury-and explore proven strategies and resources to overcome them.\n•Home Modifications and Accessibility: Understand which home adaptations can make daily living safer and more comfortable\, from bathroom upgrades to improved lighting and single-floor living arrangements.\n•Support Services and Community Resources: Get introduced to a range of in-home support options\, from personal care and medical services to meal delivery and transportation\, as well as community programs that foster engagement and well-being.\n•Planning for Future Needs: Learn how to anticipate changes in health or mobility and budget for possible home modifications or additional services\, ensuring you can continue to thrive at home for years to come.\n•Engaging Family and Care Partners: Explore the importance of involving family members and care partners in your planning\, keeping them informed and engaged in supporting your goals for independence and safety.
URL:https://neighbur.net/event/aging-in-place-thriving-as-you-grow-older/
LOCATION:Fairfield Seniors Centre\, 80 Lothian Ave.\, Etobicoke\, M8Z 4K5
CATEGORIES:Festival
ATTACH;FMTTYPE=image/jpeg:https://neighbur.net/wp-content/uploads/2025/10/Fairfield-March-24th-Flyer.jpg
END:VEVENT
BEGIN:VEVENT
DTSTART;TZID=America/Toronto:20260325T200000
DTEND;TZID=America/Toronto:20260325T213000
DTSTAMP:20260420T104752
CREATED:20260206T013620Z
LAST-MODIFIED:20260206T013621Z
UID:10056015-1774468800-1774474200@neighbur.net
SUMMARY:Wednesdays Grande Soirees - Gags and Grog Hosted by Trevor Burnett
DESCRIPTION:Each Wednesday evening\, guests are invited to enjoy a relaxed midweek dinner experience paired with rotating interactive entertainment. From trivia and bingo to playful game-show formats\, every night brings a different way to unwind\, connect\, and enjoy the evening — all hosted with warmth\, humour\, and a refined sense of fun. \nEnjoy Gags & Grog\, a comedy-forward night filled with sharp humour\, crowd interaction\, and nonstop laughter.\nEnjoy a special three‑course dinner\, lively entertainment\, and performances from guest stand‑up comedians — all for $85 plus gratuity and tax\, paid the night of the event. It’s an evening of big laughs\, great food\, and grog‑fueled good times. \nTrevor Burnett began his journey in show business on the iconic stage of Toronto’s Second City Theatre\, where he refined his craft in live improv comedy. His career soon expanded far beyond the city\, performing aboard luxury cruise ships across six continents\, entertaining audiences in more than 30 countries and 130 cities as both an entertainer and guest lecturer.
URL:https://neighbur.net/event/wednesdays-grande-soirees-gags-and-grog-hosted-by-trevor-burnett/2026-03-25/
LOCATION:Old Mill Toronto\, 21 Old Mill Road\, Toronto\, M8X 1G5
CATEGORIES:Festival
ATTACH;FMTTYPE=image/png:https://neighbur.net/wp-content/uploads/2026/02/GagsGrog.png
END:VEVENT
END:VCALENDAR