BEGIN:VCALENDAR
VERSION:2.0
PRODID:-//Neighbur - ECPv6.15.18//NONSGML v1.0//EN
CALSCALE:GREGORIAN
METHOD:PUBLISH
X-WR-CALNAME:Neighbur
X-ORIGINAL-URL:https://neighbur.net
X-WR-CALDESC:Events for Neighbur
REFRESH-INTERVAL;VALUE=DURATION:PT1H
X-Robots-Tag:noindex
X-PUBLISHED-TTL:PT1H
BEGIN:VTIMEZONE
TZID:America/Toronto
BEGIN:DAYLIGHT
TZOFFSETFROM:-0500
TZOFFSETTO:-0400
TZNAME:EDT
DTSTART:20250309T070000
END:DAYLIGHT
BEGIN:STANDARD
TZOFFSETFROM:-0400
TZOFFSETTO:-0500
TZNAME:EST
DTSTART:20251102T060000
END:STANDARD
BEGIN:DAYLIGHT
TZOFFSETFROM:-0500
TZOFFSETTO:-0400
TZNAME:EDT
DTSTART:20260308T070000
END:DAYLIGHT
BEGIN:STANDARD
TZOFFSETFROM:-0400
TZOFFSETTO:-0500
TZNAME:EST
DTSTART:20261101T060000
END:STANDARD
BEGIN:DAYLIGHT
TZOFFSETFROM:-0500
TZOFFSETTO:-0400
TZNAME:EDT
DTSTART:20270314T070000
END:DAYLIGHT
BEGIN:STANDARD
TZOFFSETFROM:-0400
TZOFFSETTO:-0500
TZNAME:EST
DTSTART:20271107T060000
END:STANDARD
END:VTIMEZONE
BEGIN:VEVENT
DTSTART;TZID=America/Toronto:20260213T200000
DTEND;TZID=America/Toronto:20260213T220000
DTSTAMP:20260420T133806
CREATED:20260206T011423Z
LAST-MODIFIED:20260206T011425Z
UID:10056005-1771012800-1771020000@neighbur.net
SUMMARY:Blackburn Brothers — Pre-Valentine’s Day Blues Night
DESCRIPTION:Enjoy a memorable pre-Valentine’s Day dinner at The Old Mill Toronto\, accompanied by an evening of blues\, soul\, and funk with the Blackburn Brothers. Set in a warm and intimate atmosphere\, the night brings together refined dining\, thoughtfully crafted drinks\, and rich\, soulful sound—creating the perfect setting for a romantic and relaxed evening out. \nDrawing from a powerful musical legacy spanning four generations\, the Blackburn Brothers offer more than a performance—they bring stories of resilience\, heritage\, and emotion to the table. Blending classic blues with modern soul and funk\, their music adds depth and warmth to the dining experience\, setting the tone for Valentine’s Day with rhythm\, feeling\, and timeless style. \nDoors Open: 6:00 PM\nLive Entertainment Begins: 8:00 PM
URL:https://neighbur.net/event/blackburn-brothers-pre-valentines-day-blues-night/
LOCATION:Old Mill Toronto\, 21 Old Mill Road\, Toronto\, M8X 1G5
CATEGORIES:Festival
ATTACH;FMTTYPE=image/png:https://neighbur.net/wp-content/uploads/2026/02/Blackburn-Brothers-Jazz.png
END:VEVENT
END:VCALENDAR