BEGIN:VCALENDAR
VERSION:2.0
PRODID:-//Neighbur - ECPv6.15.18//NONSGML v1.0//EN
CALSCALE:GREGORIAN
METHOD:PUBLISH
X-ORIGINAL-URL:https://neighbur.net
X-WR-CALDESC:Events for Neighbur
REFRESH-INTERVAL;VALUE=DURATION:PT1H
X-Robots-Tag:noindex
X-PUBLISHED-TTL:PT1H
BEGIN:VTIMEZONE
TZID:America/Toronto
BEGIN:DAYLIGHT
TZOFFSETFROM:-0500
TZOFFSETTO:-0400
TZNAME:EDT
DTSTART:20250309T070000
END:DAYLIGHT
BEGIN:STANDARD
TZOFFSETFROM:-0400
TZOFFSETTO:-0500
TZNAME:EST
DTSTART:20251102T060000
END:STANDARD
BEGIN:DAYLIGHT
TZOFFSETFROM:-0500
TZOFFSETTO:-0400
TZNAME:EDT
DTSTART:20260308T070000
END:DAYLIGHT
BEGIN:STANDARD
TZOFFSETFROM:-0400
TZOFFSETTO:-0500
TZNAME:EST
DTSTART:20261101T060000
END:STANDARD
BEGIN:DAYLIGHT
TZOFFSETFROM:-0500
TZOFFSETTO:-0400
TZNAME:EDT
DTSTART:20270314T070000
END:DAYLIGHT
BEGIN:STANDARD
TZOFFSETFROM:-0400
TZOFFSETTO:-0500
TZNAME:EST
DTSTART:20271107T060000
END:STANDARD
END:VTIMEZONE
BEGIN:VEVENT
DTSTART;TZID=America/Toronto:20260304T200000
DTEND;TZID=America/Toronto:20260304T213000
DTSTAMP:20260420T120925
CREATED:20260206T013620Z
LAST-MODIFIED:20260206T013621Z
UID:10056014-1772654400-1772659800@neighbur.net
SUMMARY:Wednesdays Grande Soirees - Gags and Grog Hosted by Trevor Burnett
DESCRIPTION:Each Wednesday evening\, guests are invited to enjoy a relaxed midweek dinner experience paired with rotating interactive entertainment. From trivia and bingo to playful game-show formats\, every night brings a different way to unwind\, connect\, and enjoy the evening — all hosted with warmth\, humour\, and a refined sense of fun. \nEnjoy Gags & Grog\, a comedy-forward night filled with sharp humour\, crowd interaction\, and nonstop laughter.\nEnjoy a special three‑course dinner\, lively entertainment\, and performances from guest stand‑up comedians — all for $85 plus gratuity and tax\, paid the night of the event. It’s an evening of big laughs\, great food\, and grog‑fueled good times. \nTrevor Burnett began his journey in show business on the iconic stage of Toronto’s Second City Theatre\, where he refined his craft in live improv comedy. His career soon expanded far beyond the city\, performing aboard luxury cruise ships across six continents\, entertaining audiences in more than 30 countries and 130 cities as both an entertainer and guest lecturer.
URL:https://neighbur.net/event/wednesdays-grande-soirees-gags-and-grog-hosted-by-trevor-burnett/2026-03-04/
LOCATION:Old Mill Toronto\, 21 Old Mill Road\, Toronto\, M8X 1G5
CATEGORIES:Festival
ATTACH;FMTTYPE=image/png:https://neighbur.net/wp-content/uploads/2026/02/GagsGrog.png
END:VEVENT
END:VCALENDAR