BEGIN:VCALENDAR
VERSION:2.0
PRODID:-//Neighbur - ECPv6.15.18//NONSGML v1.0//EN
CALSCALE:GREGORIAN
METHOD:PUBLISH
X-WR-CALNAME:Neighbur
X-ORIGINAL-URL:https://neighbur.net
X-WR-CALDESC:Events for Neighbur
REFRESH-INTERVAL;VALUE=DURATION:PT1H
X-Robots-Tag:noindex
X-PUBLISHED-TTL:PT1H
BEGIN:VTIMEZONE
TZID:America/Toronto
BEGIN:DAYLIGHT
TZOFFSETFROM:-0500
TZOFFSETTO:-0400
TZNAME:EDT
DTSTART:20250309T070000
END:DAYLIGHT
BEGIN:STANDARD
TZOFFSETFROM:-0400
TZOFFSETTO:-0500
TZNAME:EST
DTSTART:20251102T060000
END:STANDARD
BEGIN:DAYLIGHT
TZOFFSETFROM:-0500
TZOFFSETTO:-0400
TZNAME:EDT
DTSTART:20260308T070000
END:DAYLIGHT
BEGIN:STANDARD
TZOFFSETFROM:-0400
TZOFFSETTO:-0500
TZNAME:EST
DTSTART:20261101T060000
END:STANDARD
BEGIN:DAYLIGHT
TZOFFSETFROM:-0500
TZOFFSETTO:-0400
TZNAME:EDT
DTSTART:20270314T070000
END:DAYLIGHT
BEGIN:STANDARD
TZOFFSETFROM:-0400
TZOFFSETTO:-0500
TZNAME:EST
DTSTART:20271107T060000
END:STANDARD
END:VTIMEZONE
BEGIN:VEVENT
DTSTART;TZID=America/Toronto:20260314T200000
DTEND;TZID=America/Toronto:20260314T220000
DTSTAMP:20260420T120815
CREATED:20260206T021610Z
LAST-MODIFIED:20260206T021612Z
UID:10056016-1773518400-1773525600@neighbur.net
SUMMARY:Prince: A Tribute presented by Purple Funkadelica
DESCRIPTION:Purple Funkadelica is a fully immersive Prince tribute experience — bold\, soulful\, and unmistakably purple.\n\nThis immersive dinner and dancing event in Toronto invites guests to enjoy an elevated evening of live music\, refined dining\, and an elegant dance floor experience inspired by the legendary sound and spirit of Prince.\n\nDrawing from iconic hits\, rare B‑sides\, and deep cuts\, the performance explores the full depth of Prince’s musical universe\, bringing the Minneapolis sound vividly to life; blending electrifying funk energy with the intimate\, interactive atmosphere of Prince’s legendary after‑parties\, Purple Funkadelica offers an experience that goes far beyond a typical tribute performance.\n\nFearlessly fronted by seasoned recording artist Chris Rouse\, alongside Jenna O\, whose expressive performances honor Prince protégés from Sheila E. to Sinéad O’Connor\, the show delivers a dynamic and sophisticated celebration of Prince’s musical genius — immersive\, stylish\, and deeply engaging.\n\nScheduled to perform are \nChris Rouse — Vocals\, Guitar\, Keys\nJenna O — Vocals\, Dance\, Choreography\nPaul Antonio Rochester — Drums\nCatherine (CAT) Hull — Guitar\nRon Miller — Bass\nLindsay Clark — Keys
URL:https://neighbur.net/event/prince-a-tribute-presented-by-purple-funkadelica/
LOCATION:Old Mill Toronto\, 21 Old Mill Road\, Toronto\, M8X 1G5
CATEGORIES:Festival
ATTACH;FMTTYPE=image/jpeg:https://neighbur.net/wp-content/uploads/2026/02/Chris-Rouse_Purple_Funkadelica.jpg
END:VEVENT
END:VCALENDAR