BEGIN:VCALENDAR
VERSION:2.0
PRODID:-//Neighbur - ECPv6.15.18//NONSGML v1.0//EN
CALSCALE:GREGORIAN
METHOD:PUBLISH
X-ORIGINAL-URL:https://neighbur.net
X-WR-CALDESC:Events for Neighbur
REFRESH-INTERVAL;VALUE=DURATION:PT1H
X-Robots-Tag:noindex
X-PUBLISHED-TTL:PT1H
BEGIN:VTIMEZONE
TZID:America/Toronto
BEGIN:DAYLIGHT
TZOFFSETFROM:-0500
TZOFFSETTO:-0400
TZNAME:EDT
DTSTART:20250309T070000
END:DAYLIGHT
BEGIN:STANDARD
TZOFFSETFROM:-0400
TZOFFSETTO:-0500
TZNAME:EST
DTSTART:20251102T060000
END:STANDARD
BEGIN:DAYLIGHT
TZOFFSETFROM:-0500
TZOFFSETTO:-0400
TZNAME:EDT
DTSTART:20260308T070000
END:DAYLIGHT
BEGIN:STANDARD
TZOFFSETFROM:-0400
TZOFFSETTO:-0500
TZNAME:EST
DTSTART:20261101T060000
END:STANDARD
BEGIN:DAYLIGHT
TZOFFSETFROM:-0500
TZOFFSETTO:-0400
TZNAME:EDT
DTSTART:20270314T070000
END:DAYLIGHT
BEGIN:STANDARD
TZOFFSETFROM:-0400
TZOFFSETTO:-0500
TZNAME:EST
DTSTART:20271107T060000
END:STANDARD
END:VTIMEZONE
BEGIN:VEVENT
DTSTART;TZID=America/Toronto:20260404T110000
DTEND;TZID=America/Toronto:20260404T160000
DTSTAMP:20260420T105040
CREATED:20260313T011854Z
LAST-MODIFIED:20260313T011859Z
UID:10056939-1775300400-1775318400@neighbur.net
SUMMARY:4th annual Easter MRKT in Mimico Square
DESCRIPTION:Join us for our fourth annual Easter MRKT. We’re back for another series in mimico square with small business vendors\, food\, baked goods\, handmade artisans and more. Easter Bunny visit from 12pm-2pm. This a free event to attend.
URL:https://neighbur.net/event/4th-annual-easter-mrkt-in-mimico-square/
LOCATION:Amos Waites Park\, 2441 Lake Shore Blvd West\, Etobicoke\, M8V 1C5
CATEGORIES:Festival
ATTACH;FMTTYPE=image/jpeg:https://neighbur.net/wp-content/uploads/2026/03/easter-mrkt.jpg
ORGANIZER;CN="Local MRKT":MAILTO:shoplocalmrkt@gmail.com
END:VEVENT
BEGIN:VEVENT
DTSTART;TZID=America/Toronto:20260404T143000
DTEND;TZID=America/Toronto:20260404T173000
DTSTAMP:20260420T105040
CREATED:20260304T191006Z
LAST-MODIFIED:20260304T191009Z
UID:10056919-1775313000-1775323800@neighbur.net
SUMMARY:St. John’s Passion by J.S. Bach  Baroque Sacred Passion Oratorio
DESCRIPTION:J.S. Bach’s\nSt. John Passion\, first performed in 1724\, is a dramatic musical retelling of the arrest\, trial\, and crucifixion of Jesus Christ based on John 18 and 19. It focuses on Christ as a divine\, triumphant figure rather than just a suffering human\, featuring a tenor Evangelist\, intense choir-driven crowd scenes\, and reflective chorales\n\nThe Saugeen Bach Chorale is a heart-stirring community choir that weaves together the rigour of classical masterpieces with the rustic\, authentic charm of rural Ontario. Known for their evocative performances at Glencoloton Farms\, the group performs a one-hour version of Handel’s Messiah with the milking cows there each year at The Christkindl Market. As well\,  they have presented choral classics like Haydn’s\, The Creation\, Mozart’s Requiem and many works by Bach both locally and internationally. Under the steady direction of maestro Michael Schmidt\, the chorale strives for democratic artistic excellence and spiritual enrichment\, as well as mentorship and education. This is their first foray into the magical world of Bach’s St. John Passion. We hope you enjoy it as much as we do.\n\n\n\n\n\n\n\nWe share our vision\, our sound\, and our love for choral music with the world and each time we do this\, life expands into the heavenly realms.
URL:https://neighbur.net/event/st-johns-passion-by-j-s-bach-baroque-sacred-passion-oratorio/
CATEGORIES:Festival
END:VEVENT
END:VCALENDAR