BEGIN:VCALENDAR
VERSION:2.0
PRODID:-//Neighbur - ECPv6.15.18//NONSGML v1.0//EN
CALSCALE:GREGORIAN
METHOD:PUBLISH
X-ORIGINAL-URL:https://neighbur.net
X-WR-CALDESC:Events for Neighbur
REFRESH-INTERVAL;VALUE=DURATION:PT1H
X-Robots-Tag:noindex
X-PUBLISHED-TTL:PT1H
BEGIN:VTIMEZONE
TZID:America/Toronto
BEGIN:DAYLIGHT
TZOFFSETFROM:-0500
TZOFFSETTO:-0400
TZNAME:EDT
DTSTART:20250309T070000
END:DAYLIGHT
BEGIN:STANDARD
TZOFFSETFROM:-0400
TZOFFSETTO:-0500
TZNAME:EST
DTSTART:20251102T060000
END:STANDARD
BEGIN:DAYLIGHT
TZOFFSETFROM:-0500
TZOFFSETTO:-0400
TZNAME:EDT
DTSTART:20260308T070000
END:DAYLIGHT
BEGIN:STANDARD
TZOFFSETFROM:-0400
TZOFFSETTO:-0500
TZNAME:EST
DTSTART:20261101T060000
END:STANDARD
BEGIN:DAYLIGHT
TZOFFSETFROM:-0500
TZOFFSETTO:-0400
TZNAME:EDT
DTSTART:20270314T070000
END:DAYLIGHT
BEGIN:STANDARD
TZOFFSETFROM:-0400
TZOFFSETTO:-0500
TZNAME:EST
DTSTART:20271107T060000
END:STANDARD
END:VTIMEZONE
BEGIN:VEVENT
DTSTART;TZID=America/Toronto:20260425T080000
DTEND;TZID=America/Toronto:20260425T130000
DTSTAMP:20260420T105121
CREATED:20260302T180322Z
LAST-MODIFIED:20260302T180326Z
UID:10056914-1777104000-1777122000@neighbur.net
SUMMARY:Kingsway-Lambton Charity Flea Market
DESCRIPTION:Our fabulous Flea Market is back for 2026! Now in its 62nd year\, our sale will feature thousands of items priced to sell\, both inside and outside the church. See the auditorium full of books\, fine china\, crystal\, antiques and treasures\, framed art\, and records/DVDs; a gymnasium packed with household items and electronics; rooms devoted to women’s\, men’s and children’s clothes; areas dedicated to jewelry and accessories; plus games\, toys and puzzles; and tents and tables on the lawn filled with pictures\, glassware\, baskets\, sports\, and more. We also offer areas to have BBQ\, coffee and refreshments. Free admission\, rain or shine\, and wheelchair accessible. Money raised supports over 20 charities. For more information (and regarding donations of sale items)\, see Flea Market event page\, with downloadable flyer\, at www.kingswaylambton.ca; or view details on Facebook at Kingsway-Lambton United Church or on Instagram @klambtonunited.
URL:https://neighbur.net/event/kingsway-lambton-charity-flea-market/
LOCATION:Kingsway-Lambton United Church\, 85 The Kingsway\, Toronto\, M8X 2T6
CATEGORIES:Festival
ATTACH;FMTTYPE=image/jpeg:https://neighbur.net/wp-content/uploads/2026/03/Flea-Market-Fyler-For-Neighbur-2026.jpg
ORGANIZER;CN="Kingsway-Lambton United Church Flea Market":MAILTO:ncutcliffe@rogers.com
END:VEVENT
END:VCALENDAR