BEGIN:VCALENDAR
VERSION:2.0
PRODID:-//Neighbur - ECPv6.15.18//NONSGML v1.0//EN
CALSCALE:GREGORIAN
METHOD:PUBLISH
X-ORIGINAL-URL:https://neighbur.net
X-WR-CALDESC:Events for Neighbur
REFRESH-INTERVAL;VALUE=DURATION:PT1H
X-Robots-Tag:noindex
X-PUBLISHED-TTL:PT1H
BEGIN:VTIMEZONE
TZID:America/Toronto
BEGIN:DAYLIGHT
TZOFFSETFROM:-0500
TZOFFSETTO:-0400
TZNAME:EDT
DTSTART:20250309T070000
END:DAYLIGHT
BEGIN:STANDARD
TZOFFSETFROM:-0400
TZOFFSETTO:-0500
TZNAME:EST
DTSTART:20251102T060000
END:STANDARD
BEGIN:DAYLIGHT
TZOFFSETFROM:-0500
TZOFFSETTO:-0400
TZNAME:EDT
DTSTART:20260308T070000
END:DAYLIGHT
BEGIN:STANDARD
TZOFFSETFROM:-0400
TZOFFSETTO:-0500
TZNAME:EST
DTSTART:20261101T060000
END:STANDARD
BEGIN:DAYLIGHT
TZOFFSETFROM:-0500
TZOFFSETTO:-0400
TZNAME:EDT
DTSTART:20270314T070000
END:DAYLIGHT
BEGIN:STANDARD
TZOFFSETFROM:-0400
TZOFFSETTO:-0500
TZNAME:EST
DTSTART:20271107T060000
END:STANDARD
END:VTIMEZONE
BEGIN:VEVENT
DTSTART;TZID=America/Toronto:20260601T080000
DTEND;TZID=America/Toronto:20260713T170000
DTSTAMP:20260421T020530
CREATED:20260412T225115Z
LAST-MODIFIED:20260412T225222Z
UID:10057486-1780300800-1783962000@neighbur.net
SUMMARY:Carpe Diem by Rita Hisar Art Exhibit
DESCRIPTION:Enjoy the uplifting and energetic art of established Bloor West Artist Rita Hisar\, at The Coffee Tree Roastery\, 2412 Bloor Street West from June 1-July 13\, 2026.\n\nCarpe Diem or Seize the Moment\, describes the colourful energy of her paintings.  Vibrant animal\, still life and portraits are displayed in the relaxing Coffee Tree Roastery atmosphere.  Enjoy a cup of coffee surrounded by Contemporary art that leaves a lasting impression.\n\nRita Hisar has shown her work in Miami\, New York\, London\, Barcelona and the Caribbean.
URL:https://neighbur.net/event/carpe-diem-by-rita-hisar-art-exhibit/
CATEGORIES:Festival
ATTACH;FMTTYPE=image/jpeg:https://neighbur.net/wp-content/uploads/2026/04/Rita-Hisar-Artist-1.jpg
END:VEVENT
END:VCALENDAR