BEGIN:VCALENDAR
VERSION:2.0
PRODID:-//Neighbur - ECPv6.15.18//NONSGML v1.0//EN
CALSCALE:GREGORIAN
METHOD:PUBLISH
X-WR-CALNAME:Neighbur
X-ORIGINAL-URL:https://neighbur.net
X-WR-CALDESC:Events for Neighbur
REFRESH-INTERVAL;VALUE=DURATION:PT1H
X-Robots-Tag:noindex
X-PUBLISHED-TTL:PT1H
BEGIN:VTIMEZONE
TZID:America/Toronto
BEGIN:DAYLIGHT
TZOFFSETFROM:-0500
TZOFFSETTO:-0400
TZNAME:EDT
DTSTART:20250309T070000
END:DAYLIGHT
BEGIN:STANDARD
TZOFFSETFROM:-0400
TZOFFSETTO:-0500
TZNAME:EST
DTSTART:20251102T060000
END:STANDARD
BEGIN:DAYLIGHT
TZOFFSETFROM:-0500
TZOFFSETTO:-0400
TZNAME:EDT
DTSTART:20260308T070000
END:DAYLIGHT
BEGIN:STANDARD
TZOFFSETFROM:-0400
TZOFFSETTO:-0500
TZNAME:EST
DTSTART:20261101T060000
END:STANDARD
BEGIN:DAYLIGHT
TZOFFSETFROM:-0500
TZOFFSETTO:-0400
TZNAME:EDT
DTSTART:20270314T070000
END:DAYLIGHT
BEGIN:STANDARD
TZOFFSETFROM:-0400
TZOFFSETTO:-0500
TZNAME:EST
DTSTART:20271107T060000
END:STANDARD
END:VTIMEZONE
BEGIN:VEVENT
DTSTART;TZID=America/Toronto:20260422T140000
DTEND;TZID=America/Toronto:20260422T160000
DTSTAMP:20260419T203454
CREATED:20251215T164548Z
LAST-MODIFIED:20251215T164609Z
UID:10053352-1776866400-1776873600@neighbur.net
SUMMARY:Join the Seniors’ Group at Polycultural
DESCRIPTION:Are you 55+ and looking to make new friends\, stay active\, and enjoy various social activities? We would love to welcome you and your friends to our community. Come for educational presentations\, exercise sessions\, museum visits\, neighborhood explorations\, and so much more—all for FREE! Join us every Wednesday from 2 pm to 4 pm for engaging events and fun activities! For more information please contact Gabriela: ggubikova@polycultural.org\, 416-233-0055 ext. 1231 Or visit our location at 3363 Bloor St W\, Etobicoke
URL:https://neighbur.net/event/join-the-seniors-group-at-polycultural-3/2026-04-22/
LOCATION:Polycultural Immigrant and Community Services\, 3363 Bloor St W\, Toronto\, M8X 1G2
ATTACH;FMTTYPE=image/png:https://neighbur.net/wp-content/uploads/2025/12/Seniors-2025.png
ORGANIZER;CN="Polycultural Immigrant and Community Services":MAILTO:ggubikova@polycultural.org
END:VEVENT
BEGIN:VEVENT
DTSTART;TZID=America/Toronto:20260429T140000
DTEND;TZID=America/Toronto:20260429T160000
DTSTAMP:20260419T203454
CREATED:20251215T164548Z
LAST-MODIFIED:20251215T164609Z
UID:10053353-1777471200-1777478400@neighbur.net
SUMMARY:Join the Seniors’ Group at Polycultural
DESCRIPTION:Are you 55+ and looking to make new friends\, stay active\, and enjoy various social activities? We would love to welcome you and your friends to our community. Come for educational presentations\, exercise sessions\, museum visits\, neighborhood explorations\, and so much more—all for FREE! Join us every Wednesday from 2 pm to 4 pm for engaging events and fun activities! For more information please contact Gabriela: ggubikova@polycultural.org\, 416-233-0055 ext. 1231 Or visit our location at 3363 Bloor St W\, Etobicoke
URL:https://neighbur.net/event/join-the-seniors-group-at-polycultural-3/2026-04-29/
LOCATION:Polycultural Immigrant and Community Services\, 3363 Bloor St W\, Toronto\, M8X 1G2
ATTACH;FMTTYPE=image/png:https://neighbur.net/wp-content/uploads/2025/12/Seniors-2025.png
ORGANIZER;CN="Polycultural Immigrant and Community Services":MAILTO:ggubikova@polycultural.org
END:VEVENT
BEGIN:VEVENT
DTSTART;TZID=America/Toronto:20260506T140000
DTEND;TZID=America/Toronto:20260506T160000
DTSTAMP:20260419T203454
CREATED:20251215T164548Z
LAST-MODIFIED:20251215T164609Z
UID:10053354-1778076000-1778083200@neighbur.net
SUMMARY:Join the Seniors’ Group at Polycultural
DESCRIPTION:Are you 55+ and looking to make new friends\, stay active\, and enjoy various social activities? We would love to welcome you and your friends to our community. Come for educational presentations\, exercise sessions\, museum visits\, neighborhood explorations\, and so much more—all for FREE! Join us every Wednesday from 2 pm to 4 pm for engaging events and fun activities! For more information please contact Gabriela: ggubikova@polycultural.org\, 416-233-0055 ext. 1231 Or visit our location at 3363 Bloor St W\, Etobicoke
URL:https://neighbur.net/event/join-the-seniors-group-at-polycultural-3/2026-05-06/
LOCATION:Polycultural Immigrant and Community Services\, 3363 Bloor St W\, Toronto\, M8X 1G2
ATTACH;FMTTYPE=image/png:https://neighbur.net/wp-content/uploads/2025/12/Seniors-2025.png
ORGANIZER;CN="Polycultural Immigrant and Community Services":MAILTO:ggubikova@polycultural.org
END:VEVENT
BEGIN:VEVENT
DTSTART;TZID=America/Toronto:20260513T140000
DTEND;TZID=America/Toronto:20260513T160000
DTSTAMP:20260419T203454
CREATED:20251215T164548Z
LAST-MODIFIED:20251215T164609Z
UID:10053355-1778680800-1778688000@neighbur.net
SUMMARY:Join the Seniors’ Group at Polycultural
DESCRIPTION:Are you 55+ and looking to make new friends\, stay active\, and enjoy various social activities? We would love to welcome you and your friends to our community. Come for educational presentations\, exercise sessions\, museum visits\, neighborhood explorations\, and so much more—all for FREE! Join us every Wednesday from 2 pm to 4 pm for engaging events and fun activities! For more information please contact Gabriela: ggubikova@polycultural.org\, 416-233-0055 ext. 1231 Or visit our location at 3363 Bloor St W\, Etobicoke
URL:https://neighbur.net/event/join-the-seniors-group-at-polycultural-3/2026-05-13/
LOCATION:Polycultural Immigrant and Community Services\, 3363 Bloor St W\, Toronto\, M8X 1G2
ATTACH;FMTTYPE=image/png:https://neighbur.net/wp-content/uploads/2025/12/Seniors-2025.png
ORGANIZER;CN="Polycultural Immigrant and Community Services":MAILTO:ggubikova@polycultural.org
END:VEVENT
BEGIN:VEVENT
DTSTART;TZID=America/Toronto:20260520T140000
DTEND;TZID=America/Toronto:20260520T160000
DTSTAMP:20260419T203454
CREATED:20251215T164548Z
LAST-MODIFIED:20251215T164609Z
UID:10053356-1779285600-1779292800@neighbur.net
SUMMARY:Join the Seniors’ Group at Polycultural
DESCRIPTION:Are you 55+ and looking to make new friends\, stay active\, and enjoy various social activities? We would love to welcome you and your friends to our community. Come for educational presentations\, exercise sessions\, museum visits\, neighborhood explorations\, and so much more—all for FREE! Join us every Wednesday from 2 pm to 4 pm for engaging events and fun activities! For more information please contact Gabriela: ggubikova@polycultural.org\, 416-233-0055 ext. 1231 Or visit our location at 3363 Bloor St W\, Etobicoke
URL:https://neighbur.net/event/join-the-seniors-group-at-polycultural-3/2026-05-20/
LOCATION:Polycultural Immigrant and Community Services\, 3363 Bloor St W\, Toronto\, M8X 1G2
ATTACH;FMTTYPE=image/png:https://neighbur.net/wp-content/uploads/2025/12/Seniors-2025.png
ORGANIZER;CN="Polycultural Immigrant and Community Services":MAILTO:ggubikova@polycultural.org
END:VEVENT
BEGIN:VEVENT
DTSTART;TZID=America/Toronto:20260527T140000
DTEND;TZID=America/Toronto:20260527T160000
DTSTAMP:20260419T203454
CREATED:20251215T164548Z
LAST-MODIFIED:20251215T164609Z
UID:10053357-1779890400-1779897600@neighbur.net
SUMMARY:Join the Seniors’ Group at Polycultural
DESCRIPTION:Are you 55+ and looking to make new friends\, stay active\, and enjoy various social activities? We would love to welcome you and your friends to our community. Come for educational presentations\, exercise sessions\, museum visits\, neighborhood explorations\, and so much more—all for FREE! Join us every Wednesday from 2 pm to 4 pm for engaging events and fun activities! For more information please contact Gabriela: ggubikova@polycultural.org\, 416-233-0055 ext. 1231 Or visit our location at 3363 Bloor St W\, Etobicoke
URL:https://neighbur.net/event/join-the-seniors-group-at-polycultural-3/2026-05-27/
LOCATION:Polycultural Immigrant and Community Services\, 3363 Bloor St W\, Toronto\, M8X 1G2
ATTACH;FMTTYPE=image/png:https://neighbur.net/wp-content/uploads/2025/12/Seniors-2025.png
ORGANIZER;CN="Polycultural Immigrant and Community Services":MAILTO:ggubikova@polycultural.org
END:VEVENT
BEGIN:VEVENT
DTSTART;TZID=America/Toronto:20260603T140000
DTEND;TZID=America/Toronto:20260603T160000
DTSTAMP:20260419T203454
CREATED:20251215T164548Z
LAST-MODIFIED:20251215T164609Z
UID:10053358-1780495200-1780502400@neighbur.net
SUMMARY:Join the Seniors’ Group at Polycultural
DESCRIPTION:Are you 55+ and looking to make new friends\, stay active\, and enjoy various social activities? We would love to welcome you and your friends to our community. Come for educational presentations\, exercise sessions\, museum visits\, neighborhood explorations\, and so much more—all for FREE! Join us every Wednesday from 2 pm to 4 pm for engaging events and fun activities! For more information please contact Gabriela: ggubikova@polycultural.org\, 416-233-0055 ext. 1231 Or visit our location at 3363 Bloor St W\, Etobicoke
URL:https://neighbur.net/event/join-the-seniors-group-at-polycultural-3/2026-06-03/
LOCATION:Polycultural Immigrant and Community Services\, 3363 Bloor St W\, Toronto\, M8X 1G2
ATTACH;FMTTYPE=image/png:https://neighbur.net/wp-content/uploads/2025/12/Seniors-2025.png
ORGANIZER;CN="Polycultural Immigrant and Community Services":MAILTO:ggubikova@polycultural.org
END:VEVENT
BEGIN:VEVENT
DTSTART;TZID=America/Toronto:20260610T140000
DTEND;TZID=America/Toronto:20260610T160000
DTSTAMP:20260419T203454
CREATED:20251215T164548Z
LAST-MODIFIED:20251215T164609Z
UID:10053359-1781100000-1781107200@neighbur.net
SUMMARY:Join the Seniors’ Group at Polycultural
DESCRIPTION:Are you 55+ and looking to make new friends\, stay active\, and enjoy various social activities? We would love to welcome you and your friends to our community. Come for educational presentations\, exercise sessions\, museum visits\, neighborhood explorations\, and so much more—all for FREE! Join us every Wednesday from 2 pm to 4 pm for engaging events and fun activities! For more information please contact Gabriela: ggubikova@polycultural.org\, 416-233-0055 ext. 1231 Or visit our location at 3363 Bloor St W\, Etobicoke
URL:https://neighbur.net/event/join-the-seniors-group-at-polycultural-3/2026-06-10/
LOCATION:Polycultural Immigrant and Community Services\, 3363 Bloor St W\, Toronto\, M8X 1G2
ATTACH;FMTTYPE=image/png:https://neighbur.net/wp-content/uploads/2025/12/Seniors-2025.png
ORGANIZER;CN="Polycultural Immigrant and Community Services":MAILTO:ggubikova@polycultural.org
END:VEVENT
BEGIN:VEVENT
DTSTART;TZID=America/Toronto:20260617T140000
DTEND;TZID=America/Toronto:20260617T160000
DTSTAMP:20260419T203454
CREATED:20251215T164548Z
LAST-MODIFIED:20251215T164609Z
UID:10053360-1781704800-1781712000@neighbur.net
SUMMARY:Join the Seniors’ Group at Polycultural
DESCRIPTION:Are you 55+ and looking to make new friends\, stay active\, and enjoy various social activities? We would love to welcome you and your friends to our community. Come for educational presentations\, exercise sessions\, museum visits\, neighborhood explorations\, and so much more—all for FREE! Join us every Wednesday from 2 pm to 4 pm for engaging events and fun activities! For more information please contact Gabriela: ggubikova@polycultural.org\, 416-233-0055 ext. 1231 Or visit our location at 3363 Bloor St W\, Etobicoke
URL:https://neighbur.net/event/join-the-seniors-group-at-polycultural-3/2026-06-17/
LOCATION:Polycultural Immigrant and Community Services\, 3363 Bloor St W\, Toronto\, M8X 1G2
ATTACH;FMTTYPE=image/png:https://neighbur.net/wp-content/uploads/2025/12/Seniors-2025.png
ORGANIZER;CN="Polycultural Immigrant and Community Services":MAILTO:ggubikova@polycultural.org
END:VEVENT
BEGIN:VEVENT
DTSTART;TZID=America/Toronto:20260624T140000
DTEND;TZID=America/Toronto:20260624T160000
DTSTAMP:20260419T203454
CREATED:20251215T164548Z
LAST-MODIFIED:20251215T164609Z
UID:10053361-1782309600-1782316800@neighbur.net
SUMMARY:Join the Seniors’ Group at Polycultural
DESCRIPTION:Are you 55+ and looking to make new friends\, stay active\, and enjoy various social activities? We would love to welcome you and your friends to our community. Come for educational presentations\, exercise sessions\, museum visits\, neighborhood explorations\, and so much more—all for FREE! Join us every Wednesday from 2 pm to 4 pm for engaging events and fun activities! For more information please contact Gabriela: ggubikova@polycultural.org\, 416-233-0055 ext. 1231 Or visit our location at 3363 Bloor St W\, Etobicoke
URL:https://neighbur.net/event/join-the-seniors-group-at-polycultural-3/2026-06-24/
LOCATION:Polycultural Immigrant and Community Services\, 3363 Bloor St W\, Toronto\, M8X 1G2
ATTACH;FMTTYPE=image/png:https://neighbur.net/wp-content/uploads/2025/12/Seniors-2025.png
ORGANIZER;CN="Polycultural Immigrant and Community Services":MAILTO:ggubikova@polycultural.org
END:VEVENT
END:VCALENDAR