BEGIN:VCALENDAR
VERSION:2.0
PRODID:-//Neighbur - ECPv6.15.20//NONSGML v1.0//EN
CALSCALE:GREGORIAN
METHOD:PUBLISH
X-WR-CALNAME:Neighbur
X-ORIGINAL-URL:https://neighbur.net
X-WR-CALDESC:Events for Neighbur
REFRESH-INTERVAL;VALUE=DURATION:PT1H
X-Robots-Tag:noindex
X-PUBLISHED-TTL:PT1H
BEGIN:VTIMEZONE
TZID:America/Toronto
BEGIN:DAYLIGHT
TZOFFSETFROM:-0500
TZOFFSETTO:-0400
TZNAME:EDT
DTSTART:20250309T070000
END:DAYLIGHT
BEGIN:STANDARD
TZOFFSETFROM:-0400
TZOFFSETTO:-0500
TZNAME:EST
DTSTART:20251102T060000
END:STANDARD
BEGIN:DAYLIGHT
TZOFFSETFROM:-0500
TZOFFSETTO:-0400
TZNAME:EDT
DTSTART:20260308T070000
END:DAYLIGHT
BEGIN:STANDARD
TZOFFSETFROM:-0400
TZOFFSETTO:-0500
TZNAME:EST
DTSTART:20261101T060000
END:STANDARD
BEGIN:DAYLIGHT
TZOFFSETFROM:-0500
TZOFFSETTO:-0400
TZNAME:EDT
DTSTART:20270314T070000
END:DAYLIGHT
BEGIN:STANDARD
TZOFFSETFROM:-0400
TZOFFSETTO:-0500
TZNAME:EST
DTSTART:20271107T060000
END:STANDARD
END:VTIMEZONE
BEGIN:VEVENT
DTSTART;TZID=America/Toronto:20260505T091500
DTEND;TZID=America/Toronto:20260505T100000
DTSTAMP:20260423T195909
CREATED:20260423T205617Z
LAST-MODIFIED:20260423T205628Z
UID:10057604-1777972500-1777975200@neighbur.net
SUMMARY:Dynamic Power & Strength Classes for Adults +55 At St. Demetrius
DESCRIPTION:Come join new friends in the St. Demetrius Community Programs and Services in our weekly exercises classes! The program is offered to older adults 55+ and is held in person at 123 La Rose Avenue\, or virtually via Zoom. Learn More: https://stdemetrius.getcommunal.com/parent_programs \n— \nCome prepared to move and generate body heat. In this class you will foster functional power and strength. It is suited to those who already have a good foundation of mobility and balance and who can move from standing into moderate/modified squats and/or onto the mat. Dynamic Power & Strength is designed to foster muscle power\, overall strength and freedom of movement.\nThe class will included four sections: warm up\, modified plyometrics\, dynamic strength conditioning and cool down.\nModified plyometrics are low-impact exercises that activate the stretch-shortening cycle in our muscles to increase strength and performance. Modified plyometrics can enhance functional fitness\, increase ease of daily activities and help improve balance\, coordination\, and bone density\, for sustaining an independent lifestyle.\nThe dynamic strength section of this class will focus on muscular endurance through eccentric (elongated) and concentric (contracted) muscle conditioning.\nParticipants can look forward to a paced\, yet challenging class that will leave them feeling strong and invigorated..\nThe session held every Tuesday at 9:15 AM \n—\nTo register for classes or for more information please call 647-725-0877 or community@stdemetrius.ca
URL:https://neighbur.net/event/dynamic-power-strength-classes-for-adults-55-at-st-demetrius-2/2026-05-05/
LOCATION:123 La Rose Ave\, 123 La Rose Ave\, Etobicoke\, M9P 1A6\, Canada
ATTACH;FMTTYPE=image/png:https://neighbur.net/wp-content/uploads/2026/04/Dynamic-Power-Strength.png
ORGANIZER;CN="St Demetrius Corporation":MAILTO:community@stdemetrius.ca
END:VEVENT
BEGIN:VEVENT
DTSTART;TZID=America/Toronto:20260512T091500
DTEND;TZID=America/Toronto:20260512T100000
DTSTAMP:20260423T195909
CREATED:20260423T205617Z
LAST-MODIFIED:20260423T205628Z
UID:10057605-1778577300-1778580000@neighbur.net
SUMMARY:Dynamic Power & Strength Classes for Adults +55 At St. Demetrius
DESCRIPTION:Come join new friends in the St. Demetrius Community Programs and Services in our weekly exercises classes! The program is offered to older adults 55+ and is held in person at 123 La Rose Avenue\, or virtually via Zoom. Learn More: https://stdemetrius.getcommunal.com/parent_programs \n— \nCome prepared to move and generate body heat. In this class you will foster functional power and strength. It is suited to those who already have a good foundation of mobility and balance and who can move from standing into moderate/modified squats and/or onto the mat. Dynamic Power & Strength is designed to foster muscle power\, overall strength and freedom of movement.\nThe class will included four sections: warm up\, modified plyometrics\, dynamic strength conditioning and cool down.\nModified plyometrics are low-impact exercises that activate the stretch-shortening cycle in our muscles to increase strength and performance. Modified plyometrics can enhance functional fitness\, increase ease of daily activities and help improve balance\, coordination\, and bone density\, for sustaining an independent lifestyle.\nThe dynamic strength section of this class will focus on muscular endurance through eccentric (elongated) and concentric (contracted) muscle conditioning.\nParticipants can look forward to a paced\, yet challenging class that will leave them feeling strong and invigorated..\nThe session held every Tuesday at 9:15 AM \n—\nTo register for classes or for more information please call 647-725-0877 or community@stdemetrius.ca
URL:https://neighbur.net/event/dynamic-power-strength-classes-for-adults-55-at-st-demetrius-2/2026-05-12/
LOCATION:123 La Rose Ave\, 123 La Rose Ave\, Etobicoke\, M9P 1A6\, Canada
ATTACH;FMTTYPE=image/png:https://neighbur.net/wp-content/uploads/2026/04/Dynamic-Power-Strength.png
ORGANIZER;CN="St Demetrius Corporation":MAILTO:community@stdemetrius.ca
END:VEVENT
BEGIN:VEVENT
DTSTART;TZID=America/Toronto:20260519T091500
DTEND;TZID=America/Toronto:20260519T100000
DTSTAMP:20260423T195909
CREATED:20260423T205617Z
LAST-MODIFIED:20260423T205628Z
UID:10057606-1779182100-1779184800@neighbur.net
SUMMARY:Dynamic Power & Strength Classes for Adults +55 At St. Demetrius
DESCRIPTION:Come join new friends in the St. Demetrius Community Programs and Services in our weekly exercises classes! The program is offered to older adults 55+ and is held in person at 123 La Rose Avenue\, or virtually via Zoom. Learn More: https://stdemetrius.getcommunal.com/parent_programs \n— \nCome prepared to move and generate body heat. In this class you will foster functional power and strength. It is suited to those who already have a good foundation of mobility and balance and who can move from standing into moderate/modified squats and/or onto the mat. Dynamic Power & Strength is designed to foster muscle power\, overall strength and freedom of movement.\nThe class will included four sections: warm up\, modified plyometrics\, dynamic strength conditioning and cool down.\nModified plyometrics are low-impact exercises that activate the stretch-shortening cycle in our muscles to increase strength and performance. Modified plyometrics can enhance functional fitness\, increase ease of daily activities and help improve balance\, coordination\, and bone density\, for sustaining an independent lifestyle.\nThe dynamic strength section of this class will focus on muscular endurance through eccentric (elongated) and concentric (contracted) muscle conditioning.\nParticipants can look forward to a paced\, yet challenging class that will leave them feeling strong and invigorated..\nThe session held every Tuesday at 9:15 AM \n—\nTo register for classes or for more information please call 647-725-0877 or community@stdemetrius.ca
URL:https://neighbur.net/event/dynamic-power-strength-classes-for-adults-55-at-st-demetrius-2/2026-05-19/
LOCATION:123 La Rose Ave\, 123 La Rose Ave\, Etobicoke\, M9P 1A6\, Canada
ATTACH;FMTTYPE=image/png:https://neighbur.net/wp-content/uploads/2026/04/Dynamic-Power-Strength.png
ORGANIZER;CN="St Demetrius Corporation":MAILTO:community@stdemetrius.ca
END:VEVENT
BEGIN:VEVENT
DTSTART;TZID=America/Toronto:20260526T091500
DTEND;TZID=America/Toronto:20260526T100000
DTSTAMP:20260423T195909
CREATED:20260423T205617Z
LAST-MODIFIED:20260423T205628Z
UID:10057607-1779786900-1779789600@neighbur.net
SUMMARY:Dynamic Power & Strength Classes for Adults +55 At St. Demetrius
DESCRIPTION:Come join new friends in the St. Demetrius Community Programs and Services in our weekly exercises classes! The program is offered to older adults 55+ and is held in person at 123 La Rose Avenue\, or virtually via Zoom. Learn More: https://stdemetrius.getcommunal.com/parent_programs \n— \nCome prepared to move and generate body heat. In this class you will foster functional power and strength. It is suited to those who already have a good foundation of mobility and balance and who can move from standing into moderate/modified squats and/or onto the mat. Dynamic Power & Strength is designed to foster muscle power\, overall strength and freedom of movement.\nThe class will included four sections: warm up\, modified plyometrics\, dynamic strength conditioning and cool down.\nModified plyometrics are low-impact exercises that activate the stretch-shortening cycle in our muscles to increase strength and performance. Modified plyometrics can enhance functional fitness\, increase ease of daily activities and help improve balance\, coordination\, and bone density\, for sustaining an independent lifestyle.\nThe dynamic strength section of this class will focus on muscular endurance through eccentric (elongated) and concentric (contracted) muscle conditioning.\nParticipants can look forward to a paced\, yet challenging class that will leave them feeling strong and invigorated..\nThe session held every Tuesday at 9:15 AM \n—\nTo register for classes or for more information please call 647-725-0877 or community@stdemetrius.ca
URL:https://neighbur.net/event/dynamic-power-strength-classes-for-adults-55-at-st-demetrius-2/2026-05-26/
LOCATION:123 La Rose Ave\, 123 La Rose Ave\, Etobicoke\, M9P 1A6\, Canada
ATTACH;FMTTYPE=image/png:https://neighbur.net/wp-content/uploads/2026/04/Dynamic-Power-Strength.png
ORGANIZER;CN="St Demetrius Corporation":MAILTO:community@stdemetrius.ca
END:VEVENT
END:VCALENDAR