BEGIN:VCALENDAR
VERSION:2.0
PRODID:-//Neighbur - ECPv6.15.20//NONSGML v1.0//EN
CALSCALE:GREGORIAN
METHOD:PUBLISH
X-WR-CALNAME:Neighbur
X-ORIGINAL-URL:https://neighbur.net
X-WR-CALDESC:Events for Neighbur
REFRESH-INTERVAL;VALUE=DURATION:PT1H
X-Robots-Tag:noindex
X-PUBLISHED-TTL:PT1H
BEGIN:VTIMEZONE
TZID:America/Toronto
BEGIN:DAYLIGHT
TZOFFSETFROM:-0500
TZOFFSETTO:-0400
TZNAME:EDT
DTSTART:20250309T070000
END:DAYLIGHT
BEGIN:STANDARD
TZOFFSETFROM:-0400
TZOFFSETTO:-0500
TZNAME:EST
DTSTART:20251102T060000
END:STANDARD
BEGIN:DAYLIGHT
TZOFFSETFROM:-0500
TZOFFSETTO:-0400
TZNAME:EDT
DTSTART:20260308T070000
END:DAYLIGHT
BEGIN:STANDARD
TZOFFSETFROM:-0400
TZOFFSETTO:-0500
TZNAME:EST
DTSTART:20261101T060000
END:STANDARD
BEGIN:DAYLIGHT
TZOFFSETFROM:-0500
TZOFFSETTO:-0400
TZNAME:EDT
DTSTART:20270314T070000
END:DAYLIGHT
BEGIN:STANDARD
TZOFFSETFROM:-0400
TZOFFSETTO:-0500
TZNAME:EST
DTSTART:20271107T060000
END:STANDARD
END:VTIMEZONE
BEGIN:VEVENT
DTSTART;TZID=America/Toronto:20260504T101500
DTEND;TZID=America/Toronto:20260504T110000
DTSTAMP:20260423T195907
CREATED:20260423T205609Z
LAST-MODIFIED:20260423T205613Z
UID:10057608-1777889700-1777892400@neighbur.net
SUMMARY:Chair Yoga Classes for Adults +55 At St. Demetrius
DESCRIPTION:Come join new friends in the St. Demetrius Community Programs and Services in our weekly exercises classes! The program is offered to older adults 55+ and is held in person at 123 La Rose Avenue\, or virtually via Zoom. Learn More: www.stdemetrius.ca/community-programs \n— \nChair yoga is a gentle form of movement and stretching that uses seated and supported postures to improve mobility\, balance\, and overall well‑being. This class focuses on slow\, controlled movements\, mindful breathing\, and safe joint engagement to increase flexibility\, stability\, and body awareness. Participants can expect seated warm‑ups to release tension\, supported standing poses to build strength and balance\, and guided breathing to promote relaxation and circulation.\nThe session held every Monday and Thursday at 10:15 AM \n—\nTo register for classes or for more information please call 647-725-0877 or community@stdemetrius.ca
URL:https://neighbur.net/event/chair-yoga-classes-for-adults-55-at-st-demetrius-2/2026-05-04/
LOCATION:123 La Rose Ave\, 123 La Rose Ave\, Etobicoke\, M9P 1A6\, Canada
ATTACH;FMTTYPE=image/png:https://neighbur.net/wp-content/uploads/2026/04/Chair-Yoga.png
ORGANIZER;CN="St. Demetrius Development Corporation":MAILTO:ado@stdemetrius.ca
END:VEVENT
BEGIN:VEVENT
DTSTART;TZID=America/Toronto:20260507T101500
DTEND;TZID=America/Toronto:20260507T110000
DTSTAMP:20260423T195907
CREATED:20260423T205609Z
LAST-MODIFIED:20260423T205613Z
UID:10057609-1778148900-1778151600@neighbur.net
SUMMARY:Chair Yoga Classes for Adults +55 At St. Demetrius
DESCRIPTION:Come join new friends in the St. Demetrius Community Programs and Services in our weekly exercises classes! The program is offered to older adults 55+ and is held in person at 123 La Rose Avenue\, or virtually via Zoom. Learn More: www.stdemetrius.ca/community-programs \n— \nChair yoga is a gentle form of movement and stretching that uses seated and supported postures to improve mobility\, balance\, and overall well‑being. This class focuses on slow\, controlled movements\, mindful breathing\, and safe joint engagement to increase flexibility\, stability\, and body awareness. Participants can expect seated warm‑ups to release tension\, supported standing poses to build strength and balance\, and guided breathing to promote relaxation and circulation.\nThe session held every Monday and Thursday at 10:15 AM \n—\nTo register for classes or for more information please call 647-725-0877 or community@stdemetrius.ca
URL:https://neighbur.net/event/chair-yoga-classes-for-adults-55-at-st-demetrius-2/2026-05-07/
LOCATION:123 La Rose Ave\, 123 La Rose Ave\, Etobicoke\, M9P 1A6\, Canada
ATTACH;FMTTYPE=image/png:https://neighbur.net/wp-content/uploads/2026/04/Chair-Yoga.png
ORGANIZER;CN="St. Demetrius Development Corporation":MAILTO:ado@stdemetrius.ca
END:VEVENT
BEGIN:VEVENT
DTSTART;TZID=America/Toronto:20260511T101500
DTEND;TZID=America/Toronto:20260511T110000
DTSTAMP:20260423T195907
CREATED:20260423T205609Z
LAST-MODIFIED:20260423T205613Z
UID:10057610-1778494500-1778497200@neighbur.net
SUMMARY:Chair Yoga Classes for Adults +55 At St. Demetrius
DESCRIPTION:Come join new friends in the St. Demetrius Community Programs and Services in our weekly exercises classes! The program is offered to older adults 55+ and is held in person at 123 La Rose Avenue\, or virtually via Zoom. Learn More: www.stdemetrius.ca/community-programs \n— \nChair yoga is a gentle form of movement and stretching that uses seated and supported postures to improve mobility\, balance\, and overall well‑being. This class focuses on slow\, controlled movements\, mindful breathing\, and safe joint engagement to increase flexibility\, stability\, and body awareness. Participants can expect seated warm‑ups to release tension\, supported standing poses to build strength and balance\, and guided breathing to promote relaxation and circulation.\nThe session held every Monday and Thursday at 10:15 AM \n—\nTo register for classes or for more information please call 647-725-0877 or community@stdemetrius.ca
URL:https://neighbur.net/event/chair-yoga-classes-for-adults-55-at-st-demetrius-2/2026-05-11/
LOCATION:123 La Rose Ave\, 123 La Rose Ave\, Etobicoke\, M9P 1A6\, Canada
ATTACH;FMTTYPE=image/png:https://neighbur.net/wp-content/uploads/2026/04/Chair-Yoga.png
ORGANIZER;CN="St. Demetrius Development Corporation":MAILTO:ado@stdemetrius.ca
END:VEVENT
BEGIN:VEVENT
DTSTART;TZID=America/Toronto:20260514T101500
DTEND;TZID=America/Toronto:20260514T110000
DTSTAMP:20260423T195907
CREATED:20260423T205609Z
LAST-MODIFIED:20260423T205613Z
UID:10057611-1778753700-1778756400@neighbur.net
SUMMARY:Chair Yoga Classes for Adults +55 At St. Demetrius
DESCRIPTION:Come join new friends in the St. Demetrius Community Programs and Services in our weekly exercises classes! The program is offered to older adults 55+ and is held in person at 123 La Rose Avenue\, or virtually via Zoom. Learn More: www.stdemetrius.ca/community-programs \n— \nChair yoga is a gentle form of movement and stretching that uses seated and supported postures to improve mobility\, balance\, and overall well‑being. This class focuses on slow\, controlled movements\, mindful breathing\, and safe joint engagement to increase flexibility\, stability\, and body awareness. Participants can expect seated warm‑ups to release tension\, supported standing poses to build strength and balance\, and guided breathing to promote relaxation and circulation.\nThe session held every Monday and Thursday at 10:15 AM \n—\nTo register for classes or for more information please call 647-725-0877 or community@stdemetrius.ca
URL:https://neighbur.net/event/chair-yoga-classes-for-adults-55-at-st-demetrius-2/2026-05-14/
LOCATION:123 La Rose Ave\, 123 La Rose Ave\, Etobicoke\, M9P 1A6\, Canada
ATTACH;FMTTYPE=image/png:https://neighbur.net/wp-content/uploads/2026/04/Chair-Yoga.png
ORGANIZER;CN="St. Demetrius Development Corporation":MAILTO:ado@stdemetrius.ca
END:VEVENT
BEGIN:VEVENT
DTSTART;TZID=America/Toronto:20260518T101500
DTEND;TZID=America/Toronto:20260518T110000
DTSTAMP:20260423T195907
CREATED:20260423T205609Z
LAST-MODIFIED:20260423T205613Z
UID:10057612-1779099300-1779102000@neighbur.net
SUMMARY:Chair Yoga Classes for Adults +55 At St. Demetrius
DESCRIPTION:Come join new friends in the St. Demetrius Community Programs and Services in our weekly exercises classes! The program is offered to older adults 55+ and is held in person at 123 La Rose Avenue\, or virtually via Zoom. Learn More: www.stdemetrius.ca/community-programs \n— \nChair yoga is a gentle form of movement and stretching that uses seated and supported postures to improve mobility\, balance\, and overall well‑being. This class focuses on slow\, controlled movements\, mindful breathing\, and safe joint engagement to increase flexibility\, stability\, and body awareness. Participants can expect seated warm‑ups to release tension\, supported standing poses to build strength and balance\, and guided breathing to promote relaxation and circulation.\nThe session held every Monday and Thursday at 10:15 AM \n—\nTo register for classes or for more information please call 647-725-0877 or community@stdemetrius.ca
URL:https://neighbur.net/event/chair-yoga-classes-for-adults-55-at-st-demetrius-2/2026-05-18/
LOCATION:123 La Rose Ave\, 123 La Rose Ave\, Etobicoke\, M9P 1A6\, Canada
ATTACH;FMTTYPE=image/png:https://neighbur.net/wp-content/uploads/2026/04/Chair-Yoga.png
ORGANIZER;CN="St. Demetrius Development Corporation":MAILTO:ado@stdemetrius.ca
END:VEVENT
BEGIN:VEVENT
DTSTART;TZID=America/Toronto:20260521T101500
DTEND;TZID=America/Toronto:20260521T110000
DTSTAMP:20260423T195907
CREATED:20260423T205609Z
LAST-MODIFIED:20260423T205613Z
UID:10057613-1779358500-1779361200@neighbur.net
SUMMARY:Chair Yoga Classes for Adults +55 At St. Demetrius
DESCRIPTION:Come join new friends in the St. Demetrius Community Programs and Services in our weekly exercises classes! The program is offered to older adults 55+ and is held in person at 123 La Rose Avenue\, or virtually via Zoom. Learn More: www.stdemetrius.ca/community-programs \n— \nChair yoga is a gentle form of movement and stretching that uses seated and supported postures to improve mobility\, balance\, and overall well‑being. This class focuses on slow\, controlled movements\, mindful breathing\, and safe joint engagement to increase flexibility\, stability\, and body awareness. Participants can expect seated warm‑ups to release tension\, supported standing poses to build strength and balance\, and guided breathing to promote relaxation and circulation.\nThe session held every Monday and Thursday at 10:15 AM \n—\nTo register for classes or for more information please call 647-725-0877 or community@stdemetrius.ca
URL:https://neighbur.net/event/chair-yoga-classes-for-adults-55-at-st-demetrius-2/2026-05-21/
LOCATION:123 La Rose Ave\, 123 La Rose Ave\, Etobicoke\, M9P 1A6\, Canada
ATTACH;FMTTYPE=image/png:https://neighbur.net/wp-content/uploads/2026/04/Chair-Yoga.png
ORGANIZER;CN="St. Demetrius Development Corporation":MAILTO:ado@stdemetrius.ca
END:VEVENT
BEGIN:VEVENT
DTSTART;TZID=America/Toronto:20260525T101500
DTEND;TZID=America/Toronto:20260525T110000
DTSTAMP:20260423T195907
CREATED:20260423T205609Z
LAST-MODIFIED:20260423T205613Z
UID:10057614-1779704100-1779706800@neighbur.net
SUMMARY:Chair Yoga Classes for Adults +55 At St. Demetrius
DESCRIPTION:Come join new friends in the St. Demetrius Community Programs and Services in our weekly exercises classes! The program is offered to older adults 55+ and is held in person at 123 La Rose Avenue\, or virtually via Zoom. Learn More: www.stdemetrius.ca/community-programs \n— \nChair yoga is a gentle form of movement and stretching that uses seated and supported postures to improve mobility\, balance\, and overall well‑being. This class focuses on slow\, controlled movements\, mindful breathing\, and safe joint engagement to increase flexibility\, stability\, and body awareness. Participants can expect seated warm‑ups to release tension\, supported standing poses to build strength and balance\, and guided breathing to promote relaxation and circulation.\nThe session held every Monday and Thursday at 10:15 AM \n—\nTo register for classes or for more information please call 647-725-0877 or community@stdemetrius.ca
URL:https://neighbur.net/event/chair-yoga-classes-for-adults-55-at-st-demetrius-2/2026-05-25/
LOCATION:123 La Rose Ave\, 123 La Rose Ave\, Etobicoke\, M9P 1A6\, Canada
ATTACH;FMTTYPE=image/png:https://neighbur.net/wp-content/uploads/2026/04/Chair-Yoga.png
ORGANIZER;CN="St. Demetrius Development Corporation":MAILTO:ado@stdemetrius.ca
END:VEVENT
BEGIN:VEVENT
DTSTART;TZID=America/Toronto:20260528T101500
DTEND;TZID=America/Toronto:20260528T110000
DTSTAMP:20260423T195907
CREATED:20260423T205609Z
LAST-MODIFIED:20260423T205613Z
UID:10057615-1779963300-1779966000@neighbur.net
SUMMARY:Chair Yoga Classes for Adults +55 At St. Demetrius
DESCRIPTION:Come join new friends in the St. Demetrius Community Programs and Services in our weekly exercises classes! The program is offered to older adults 55+ and is held in person at 123 La Rose Avenue\, or virtually via Zoom. Learn More: www.stdemetrius.ca/community-programs \n— \nChair yoga is a gentle form of movement and stretching that uses seated and supported postures to improve mobility\, balance\, and overall well‑being. This class focuses on slow\, controlled movements\, mindful breathing\, and safe joint engagement to increase flexibility\, stability\, and body awareness. Participants can expect seated warm‑ups to release tension\, supported standing poses to build strength and balance\, and guided breathing to promote relaxation and circulation.\nThe session held every Monday and Thursday at 10:15 AM \n—\nTo register for classes or for more information please call 647-725-0877 or community@stdemetrius.ca
URL:https://neighbur.net/event/chair-yoga-classes-for-adults-55-at-st-demetrius-2/2026-05-28/
LOCATION:123 La Rose Ave\, 123 La Rose Ave\, Etobicoke\, M9P 1A6\, Canada
ATTACH;FMTTYPE=image/png:https://neighbur.net/wp-content/uploads/2026/04/Chair-Yoga.png
ORGANIZER;CN="St. Demetrius Development Corporation":MAILTO:ado@stdemetrius.ca
END:VEVENT
END:VCALENDAR