BEGIN:VCALENDAR
VERSION:2.0
PRODID:-//Neighbur - ECPv6.15.20//NONSGML v1.0//EN
CALSCALE:GREGORIAN
METHOD:PUBLISH
X-WR-CALNAME:Neighbur
X-ORIGINAL-URL:https://neighbur.net
X-WR-CALDESC:Events for Neighbur
REFRESH-INTERVAL;VALUE=DURATION:PT1H
X-Robots-Tag:noindex
X-PUBLISHED-TTL:PT1H
BEGIN:VTIMEZONE
TZID:America/Toronto
BEGIN:DAYLIGHT
TZOFFSETFROM:-0500
TZOFFSETTO:-0400
TZNAME:EDT
DTSTART:20250309T070000
END:DAYLIGHT
BEGIN:STANDARD
TZOFFSETFROM:-0400
TZOFFSETTO:-0500
TZNAME:EST
DTSTART:20251102T060000
END:STANDARD
BEGIN:DAYLIGHT
TZOFFSETFROM:-0500
TZOFFSETTO:-0400
TZNAME:EDT
DTSTART:20260308T070000
END:DAYLIGHT
BEGIN:STANDARD
TZOFFSETFROM:-0400
TZOFFSETTO:-0500
TZNAME:EST
DTSTART:20261101T060000
END:STANDARD
BEGIN:DAYLIGHT
TZOFFSETFROM:-0500
TZOFFSETTO:-0400
TZNAME:EDT
DTSTART:20270314T070000
END:DAYLIGHT
BEGIN:STANDARD
TZOFFSETFROM:-0400
TZOFFSETTO:-0500
TZNAME:EST
DTSTART:20271107T060000
END:STANDARD
END:VTIMEZONE
BEGIN:VEVENT
DTSTART;TZID=America/Toronto:20260501T103000
DTEND;TZID=America/Toronto:20260501T170000
DTSTAMP:20260424T185419
CREATED:20260424T195015Z
LAST-MODIFIED:20260424T195026Z
UID:10057690-1777631400-1777654800@neighbur.net
SUMMARY:Metro Coin Expo at Toronto Reference Library
DESCRIPTION:Come and take part in the annual Spring Metro Coin Expo at the Toronto Public Library. \nThe Toronto Coin Expo is Canada’s premier coin and bank note collectible show\, located in downtown Toronto in the Toronto Reference Library. Featuring 40+ internationally renowned coin & banknote dealers\, representing Canada\, United States\, and World collectible currencies. \nThe Toronto coin Expo is excited to announce the launch of our new YouTube channel. Together with Geoffrey Bell auctions our first videos are available now and we hope become a trusted source for all things numismatic in Canada for years to come. Please take a look and like and subscribe while you are there.
URL:https://neighbur.net/event/metro-coin-expo-at-toronto-reference-library-2/2026-05-01/
LOCATION:The Toronto Reference Library\, 789 Yonge Street\, Toronto
ATTACH;FMTTYPE=image/jpeg:https://neighbur.net/wp-content/uploads/2026/04/Metro-Coin_calendar_APR26-01.jpg
END:VEVENT
BEGIN:VEVENT
DTSTART;TZID=America/Toronto:20260502T103000
DTEND;TZID=America/Toronto:20260502T170000
DTSTAMP:20260424T185419
CREATED:20260424T195015Z
LAST-MODIFIED:20260424T195026Z
UID:10057691-1777717800-1777741200@neighbur.net
SUMMARY:Metro Coin Expo at Toronto Reference Library
DESCRIPTION:Come and take part in the annual Spring Metro Coin Expo at the Toronto Public Library. \nThe Toronto Coin Expo is Canada’s premier coin and bank note collectible show\, located in downtown Toronto in the Toronto Reference Library. Featuring 40+ internationally renowned coin & banknote dealers\, representing Canada\, United States\, and World collectible currencies. \nThe Toronto coin Expo is excited to announce the launch of our new YouTube channel. Together with Geoffrey Bell auctions our first videos are available now and we hope become a trusted source for all things numismatic in Canada for years to come. Please take a look and like and subscribe while you are there.
URL:https://neighbur.net/event/metro-coin-expo-at-toronto-reference-library-2/2026-05-02/
LOCATION:The Toronto Reference Library\, 789 Yonge Street\, Toronto
ATTACH;FMTTYPE=image/jpeg:https://neighbur.net/wp-content/uploads/2026/04/Metro-Coin_calendar_APR26-01.jpg
END:VEVENT
END:VCALENDAR