BEGIN:VCALENDAR
VERSION:2.0
PRODID:-//Neighbur - ECPv6.15.20//NONSGML v1.0//EN
CALSCALE:GREGORIAN
METHOD:PUBLISH
X-ORIGINAL-URL:https://neighbur.net
X-WR-CALDESC:Events for Neighbur
REFRESH-INTERVAL;VALUE=DURATION:PT1H
X-Robots-Tag:noindex
X-PUBLISHED-TTL:PT1H
BEGIN:VTIMEZONE
TZID:America/Toronto
BEGIN:DAYLIGHT
TZOFFSETFROM:-0500
TZOFFSETTO:-0400
TZNAME:EDT
DTSTART:20240310T070000
END:DAYLIGHT
BEGIN:STANDARD
TZOFFSETFROM:-0400
TZOFFSETTO:-0500
TZNAME:EST
DTSTART:20241103T060000
END:STANDARD
BEGIN:DAYLIGHT
TZOFFSETFROM:-0500
TZOFFSETTO:-0400
TZNAME:EDT
DTSTART:20250309T070000
END:DAYLIGHT
BEGIN:STANDARD
TZOFFSETFROM:-0400
TZOFFSETTO:-0500
TZNAME:EST
DTSTART:20251102T060000
END:STANDARD
BEGIN:DAYLIGHT
TZOFFSETFROM:-0500
TZOFFSETTO:-0400
TZNAME:EDT
DTSTART:20260308T070000
END:DAYLIGHT
BEGIN:STANDARD
TZOFFSETFROM:-0400
TZOFFSETTO:-0500
TZNAME:EST
DTSTART:20261101T060000
END:STANDARD
END:VTIMEZONE
BEGIN:VEVENT
DTSTART;TZID=America/Toronto:20251010T080000
DTEND;TZID=America/Toronto:20251031T233000
DTSTAMP:20260424T035730
CREATED:20251013T031137Z
LAST-MODIFIED:20251013T031139Z
UID:10047651-1760083200-1761953400@neighbur.net
SUMMARY:EXTENDED: STUDENT DISCOVERY DAYS AT ARCADIA EARTH
DESCRIPTION:50% OFF ARCADIA EARTH TICKETS FOR ONTARIO UNIVERSITY & COLLEGE STUDENTS\n\nYou asked\, we delivered: We’re extending our Student Discovery Days discount due to popular demand! Through the month of October\, Ontario students will continue to get 50% off Regular Tickets when they show their valid student IDs— don’t miss your chance to visit before exams!\n\nOffer valid from September 1 – October 31\, 2025\nOffer Details:\n50% off general admission for currently enrolled college and university students in Ontario\nShow your valid student ID in person at Arcadia Earth Toronto in order to qualify\nValid until October 31\, 2025\nAvailable in-person only\nArcadia Earth Toronto is kicking off the school year with a limited-time offer for all currently enrolled University and College students in Ontario: enjoy 50% off general admission now through October 31\, 2025. Cannot be combined with other offers or discounted ticket prices.\nThis is more than just a student discount… it’s your chance to experience one of Toronto’s most unique immersive exhibits at half the price! Arcadia Earth combines large-scale art installations\, cutting-edge projection mapping\, and interactive technology to explore some of the most pressing environmental issues of our time.\nThe perfect back-to-school adventure:\nReconnect with your curiosity and creativity before the semester ramps up\nExplore sustainability and innovation through a completely new lens\nShare an unforgettable experience with friends and classmates\nCapture stunning visuals and photo-ops along the way\nWhether you’re studying environmental science\, design\, tech\, or just need a moment of awe between classes\, Arcadia Earth Toronto is the ideal place to reset\, refocus\, and get inspired.
URL:https://neighbur.net/event/extended-student-discovery-days-at-arcadia-earth/
LOCATION:Arcadia Earth\, Arcadia Earth Toronto at The Well\, 486 Front St W Building C\, Toronto\, M5V 0V2
ATTACH;FMTTYPE=image/png:https://neighbur.net/wp-content/uploads/2025/10/image-19.png
ORGANIZER;CN="Arcadia Earth":MAILTO:info@arcadia.earth
END:VEVENT
END:VCALENDAR