BEGIN:VCALENDAR
VERSION:2.0
PRODID:-//Neighbur - ECPv6.15.20//NONSGML v1.0//EN
CALSCALE:GREGORIAN
METHOD:PUBLISH
X-WR-CALNAME:Neighbur
X-ORIGINAL-URL:https://neighbur.net
X-WR-CALDESC:Events for Neighbur
REFRESH-INTERVAL;VALUE=DURATION:PT1H
X-Robots-Tag:noindex
X-PUBLISHED-TTL:PT1H
BEGIN:VTIMEZONE
TZID:America/Toronto
BEGIN:DAYLIGHT
TZOFFSETFROM:-0500
TZOFFSETTO:-0400
TZNAME:EDT
DTSTART:20240310T070000
END:DAYLIGHT
BEGIN:STANDARD
TZOFFSETFROM:-0400
TZOFFSETTO:-0500
TZNAME:EST
DTSTART:20241103T060000
END:STANDARD
BEGIN:DAYLIGHT
TZOFFSETFROM:-0500
TZOFFSETTO:-0400
TZNAME:EDT
DTSTART:20250309T070000
END:DAYLIGHT
BEGIN:STANDARD
TZOFFSETFROM:-0400
TZOFFSETTO:-0500
TZNAME:EST
DTSTART:20251102T060000
END:STANDARD
BEGIN:DAYLIGHT
TZOFFSETFROM:-0500
TZOFFSETTO:-0400
TZNAME:EDT
DTSTART:20260308T070000
END:DAYLIGHT
BEGIN:STANDARD
TZOFFSETFROM:-0400
TZOFFSETTO:-0500
TZNAME:EST
DTSTART:20261101T060000
END:STANDARD
END:VTIMEZONE
BEGIN:VEVENT
DTSTART;TZID=America/Toronto:20251121T080000
DTEND;TZID=America/Toronto:20251223T170000
DTSTAMP:20260424T022643
CREATED:20251106T141327Z
LAST-MODIFIED:20251106T141330Z
UID:10048702-1763712000-1766509200@neighbur.net
SUMMARY:People's Thrift Christmas Market 2025
DESCRIPTION:Hello U Neighbur\,                                                                                                                                                         \nPeople’s Thrift is hosting an Online Christmas Market dedicated to supporting small businesses and ethical makers — giving shoppers a real alternative to Amazon. We’re seeking vendors who share our values: sustainable\, artisanal\, and handcrafted products made with purpose.
URL:https://neighbur.net/event/peoples-thrift-christmas-market-2025/
LOCATION:https://www.peoplesthrift.ca/
CATEGORIES:Festival
ATTACH;FMTTYPE=image/jpeg:https://neighbur.net/wp-content/uploads/2025/11/PT_Online_Christmas_Market_1080x130_5-scaled.jpg
ORGANIZER;CN="People's Thrift":MAILTO:hello@peoplesthrift.ca
END:VEVENT
BEGIN:VEVENT
DTSTART;TZID=America/Toronto:20251220T140000
DTEND;TZID=America/Toronto:20251220T180000
DTSTAMP:20260424T022643
CREATED:20251119T174747Z
LAST-MODIFIED:20251119T174751Z
UID:10049135-1766239200-1766253600@neighbur.net
SUMMARY:Drop & Shop Camp At Code Ninjas South Etobicoke
DESCRIPTION:Join us for our Holiday Drop & Shop Camp! Kids will enjoy a fun-filled day of coding\, creative projects\, and festive activities\, all designed to keep them engaged and entertained.
URL:https://neighbur.net/event/drop-shop-camp-at-code-ninjas-south-etobicoke/
LOCATION:Code Ninjas South Etobicoke\, 742 The Queensway\, Etobicoke\, M8Y 1L5
ATTACH;FMTTYPE=image/png:https://neighbur.net/wp-content/uploads/2025/11/Drop-Shop-Camp-7-2.png
ORGANIZER;CN="Code Ninjas South Etobicoke":MAILTO:southetobicokeonca@codeninjas.com
END:VEVENT
BEGIN:VEVENT
DTSTART;TZID=America/Toronto:20251220T143000
DTEND;TZID=America/Toronto:20251220T153000
DTSTAMP:20260424T022643
CREATED:20251106T141443Z
LAST-MODIFIED:20251106T141444Z
UID:10048706-1766241000-1766244600@neighbur.net
SUMMARY:Tasty Tours Holiday Chocolate Express
DESCRIPTION:Step into the magic of the season aboard our Holiday Chocolate Express\, a decadent chocolate tasting inside a vintage train car. As rich aromas fill the air\, your chocolate expert will teach you how to savor each creation and uncover the fascinating stories behind them. You’ll leave with your own tasting tools\, extra chocolate to share\, and a heart full of holiday spirit. Celebrate the warmth and wonder of the holidays – from Christmas to Hanukkah and everything joyful in between – with this once-a-year experience that blends nostalgia\, indulgence\, and delight. \nNote that this event focuses on the darker spectrum of chocolate and is best for those who appreciate quality dark chocolate or are open to broadening their horizons beyond the standard supermarket brands like Lindt and Nestle!
URL:https://neighbur.net/event/tasty-tours-holiday-chocolate-express/2025-12-20/
LOCATION:Toronto Railway Museum\, 255 Bremner Blvd\, Toronto\, M5V 3M9
ATTACH;FMTTYPE=image/jpeg:https://neighbur.net/wp-content/uploads/2025/11/Chocolate-Express-scaled.jpg
END:VEVENT
END:VCALENDAR