BEGIN:VCALENDAR
VERSION:2.0
PRODID:-//Neighbur - ECPv6.15.18//NONSGML v1.0//EN
CALSCALE:GREGORIAN
METHOD:PUBLISH
X-WR-CALNAME:Neighbur
X-ORIGINAL-URL:https://neighbur.net
X-WR-CALDESC:Events for Neighbur
REFRESH-INTERVAL;VALUE=DURATION:PT1H
X-Robots-Tag:noindex
X-PUBLISHED-TTL:PT1H
BEGIN:VTIMEZONE
TZID:America/Toronto
BEGIN:DAYLIGHT
TZOFFSETFROM:-0500
TZOFFSETTO:-0400
TZNAME:EDT
DTSTART:20250309T070000
END:DAYLIGHT
BEGIN:STANDARD
TZOFFSETFROM:-0400
TZOFFSETTO:-0500
TZNAME:EST
DTSTART:20251102T060000
END:STANDARD
BEGIN:DAYLIGHT
TZOFFSETFROM:-0500
TZOFFSETTO:-0400
TZNAME:EDT
DTSTART:20260308T070000
END:DAYLIGHT
BEGIN:STANDARD
TZOFFSETFROM:-0400
TZOFFSETTO:-0500
TZNAME:EST
DTSTART:20261101T060000
END:STANDARD
BEGIN:DAYLIGHT
TZOFFSETFROM:-0500
TZOFFSETTO:-0400
TZNAME:EDT
DTSTART:20270314T070000
END:DAYLIGHT
BEGIN:STANDARD
TZOFFSETFROM:-0400
TZOFFSETTO:-0500
TZNAME:EST
DTSTART:20271107T060000
END:STANDARD
END:VTIMEZONE
BEGIN:VEVENT
DTSTART;TZID=America/Toronto:20260430T060000
DTEND;TZID=America/Toronto:20260430T200000
DTSTAMP:20260420T191246
CREATED:20260420T164608Z
LAST-MODIFIED:20260420T164618Z
UID:10057582-1777528800-1777579200@neighbur.net
SUMMARY:Guerlain Spa Wellness Event
DESCRIPTION:Taking place this spring at Hotel X Toronto\, Guerlain Spa and 10XTO Athletic Club are coming together for an intimate evening of wellness renewal.\n\nSet in New Fort Hall\, the experience is designed for a seasonal reset\, blending fragrance\, skincare\, and mindful movement in a calm\, elevated setting. \n\nWhat to expect:\n– Guided olfactory journey through Guerlain’s L’Art & La Matiere collection\n– Skin self-message workshop\n– Restorative flow and singing bowl meditation\n– Personalized skin and fragrance consultation with take-home gifts. \n\nTake part in a gentle reset for spring. Tickets are $50 at https://www.spa.hotelxtoronto.com/wellness-event-toronto
URL:https://neighbur.net/event/guerlain-spa-wellness-event/
LOCATION:Guerlain Spa\, 111 Princes' Boulevard\, Toronto\, ON\, M6K 3C3
END:VEVENT
END:VCALENDAR