BEGIN:VCALENDAR
VERSION:2.0
PRODID:-//Neighbur - ECPv6.15.20//NONSGML v1.0//EN
CALSCALE:GREGORIAN
METHOD:PUBLISH
X-ORIGINAL-URL:https://neighbur.net
X-WR-CALDESC:Events for Neighbur
REFRESH-INTERVAL;VALUE=DURATION:PT1H
X-Robots-Tag:noindex
X-PUBLISHED-TTL:PT1H
BEGIN:VTIMEZONE
TZID:America/Toronto
BEGIN:DAYLIGHT
TZOFFSETFROM:-0500
TZOFFSETTO:-0400
TZNAME:EDT
DTSTART:20230312T070000
END:DAYLIGHT
BEGIN:STANDARD
TZOFFSETFROM:-0400
TZOFFSETTO:-0500
TZNAME:EST
DTSTART:20231105T060000
END:STANDARD
BEGIN:DAYLIGHT
TZOFFSETFROM:-0500
TZOFFSETTO:-0400
TZNAME:EDT
DTSTART:20240310T070000
END:DAYLIGHT
BEGIN:STANDARD
TZOFFSETFROM:-0400
TZOFFSETTO:-0500
TZNAME:EST
DTSTART:20241103T060000
END:STANDARD
BEGIN:DAYLIGHT
TZOFFSETFROM:-0500
TZOFFSETTO:-0400
TZNAME:EDT
DTSTART:20250309T070000
END:DAYLIGHT
BEGIN:STANDARD
TZOFFSETFROM:-0400
TZOFFSETTO:-0500
TZNAME:EST
DTSTART:20251102T060000
END:STANDARD
BEGIN:DAYLIGHT
TZOFFSETFROM:-0500
TZOFFSETTO:-0400
TZNAME:EDT
DTSTART:20260308T070000
END:DAYLIGHT
BEGIN:STANDARD
TZOFFSETFROM:-0400
TZOFFSETTO:-0500
TZNAME:EST
DTSTART:20261101T060000
END:STANDARD
END:VTIMEZONE
BEGIN:VEVENT
DTSTART;TZID=America/Toronto:20250426T080000
DTEND;TZID=America/Toronto:20250426T130000
DTSTAMP:20260424T102219
CREATED:20250308T034450Z
LAST-MODIFIED:20250308T034452Z
UID:10035951-1745654400-1745672400@neighbur.net
SUMMARY:Kingsway-Lambton Flea Market
DESCRIPTION:Our fabulous Flea Market is back for 2025! Now in its 61st year\, our sale will feature thousands of items priced to sell\, both inside and outside the church. See the auditorium full of books\, fine china\, crystal\, antiques and treasures\, framed art\, and records/DVDs; a gymnasium packed with household items and electronics; rooms devoted to women’s\, men’s and children’s clothes\, jewelry and accessories\, games and toys; and tents and tables on the lawn filled with pictures\, glassware\, baskets\, sports\, and more. We also offer areas to have BBQ\, coffee and refreshments. Free admission\, rain or shine\, and wheelchair accessible. Money raised supports over 20 charities. For more information (and regarding donations of sale items)\, see Flea Market event page\, with downloadable flyer\, at www.kingswaylambton.ca; or view details on Facebook at Kingsway-Lambton United Church or on Instagram @klambtonunited.
URL:https://neighbur.net/event/kingsway-lambton-flea-market-3/
LOCATION:Kingsway -Lambton United Church\, 85 The Kingsway\, Etobicoke\, M8X 2T6
CATEGORIES:Festival
ATTACH;FMTTYPE=image/png:https://neighbur.net/wp-content/uploads/2025/03/Slide1.png
ORGANIZER;CN="Kingsway-Lambton United Church Flea Market":MAILTO:ncutcliffe@rogers.com
END:VEVENT
BEGIN:VEVENT
DTSTART;TZID=America/Toronto:20240427T080000
DTEND;TZID=America/Toronto:20240427T130000
DTSTAMP:20260424T102219
CREATED:20240311T193353Z
LAST-MODIFIED:20240313T194150Z
UID:10027519-1714204800-1714222800@neighbur.net
SUMMARY:Kingsway-Lambton Flea Market
DESCRIPTION:Our beloved Flea Market is back for 2024! Now in its 60th year\, our sale will feature thousands of items priced to sell\, both inside and outside the church. Join us at 85 The Kingsway\, Etobicoke\, M8X 2T6 (corner of The Kingsway and Prince Edward Dr.)  See the auditorium full of books\, fine china\, crystal\, antiques and treasures\, framed art\, and records/DVDs; a gymnasium packed with household items and electronics; rooms devoted to women’s\, men’s and children’s clothes\, jewelry and accessories\, games and toys; and tents and tables on the lawn filled with pictures\, glassware\, baskets\, sports\, and more. We also offer areas to have coffee\, scones\, or BBQ lunch. Free admission\, rain or shine\, and wheelchair accessible. Money raised supports over 20 charities. For more information (and regarding donations of sale items)\, see Flea Market event page\, with downloadable flyer\, at www.kingswaylambton.ca/events; or view details on Facebook at Kingsway-Lambton United Church or on Instagram @klambtonunited.
URL:https://neighbur.net/event/kingsway-lambton-flea-market-2/
LOCATION:Kingsway-Lambton United Church\, 85 The Kingsway\, Toronto\, M8X 2T6
ATTACH;FMTTYPE=image/jpeg:https://neighbur.net/wp-content/uploads/2024/03/Flea-Market-Flyer-2024-Mar-5.jpg
ORGANIZER;CN="Kingsway-Lambton United Church Flea Market":MAILTO:ncutcliffe@rogers.com
END:VEVENT
END:VCALENDAR