BEGIN:VCALENDAR
VERSION:2.0
PRODID:-//Neighbur - ECPv6.15.20//NONSGML v1.0//EN
CALSCALE:GREGORIAN
METHOD:PUBLISH
X-ORIGINAL-URL:https://neighbur.net
X-WR-CALDESC:Events for Neighbur
REFRESH-INTERVAL;VALUE=DURATION:PT1H
X-Robots-Tag:noindex
X-PUBLISHED-TTL:PT1H
BEGIN:VTIMEZONE
TZID:America/Toronto
BEGIN:DAYLIGHT
TZOFFSETFROM:-0500
TZOFFSETTO:-0400
TZNAME:EDT
DTSTART:20220313T070000
END:DAYLIGHT
BEGIN:STANDARD
TZOFFSETFROM:-0400
TZOFFSETTO:-0500
TZNAME:EST
DTSTART:20221106T060000
END:STANDARD
BEGIN:DAYLIGHT
TZOFFSETFROM:-0500
TZOFFSETTO:-0400
TZNAME:EDT
DTSTART:20230312T070000
END:DAYLIGHT
BEGIN:STANDARD
TZOFFSETFROM:-0400
TZOFFSETTO:-0500
TZNAME:EST
DTSTART:20231105T060000
END:STANDARD
BEGIN:DAYLIGHT
TZOFFSETFROM:-0500
TZOFFSETTO:-0400
TZNAME:EDT
DTSTART:20240310T070000
END:DAYLIGHT
BEGIN:STANDARD
TZOFFSETFROM:-0400
TZOFFSETTO:-0500
TZNAME:EST
DTSTART:20241103T060000
END:STANDARD
END:VTIMEZONE
BEGIN:VEVENT
DTSTART;TZID=America/Toronto:20230531T080000
DTEND;TZID=America/Toronto:20230531T170000
DTSTAMP:20260424T115842
CREATED:20230423T014216Z
LAST-MODIFIED:20230423T014217Z
UID:10014861-1685520000-1685552400@neighbur.net
SUMMARY:Wellness Wednesday
DESCRIPTION:Join us on Wednesday May 17\, 24\, and 31 for Wellness Wednesdays at LAMP CHC! Brighten your day in a healthy way with wellness coach Natasha Saddleback from 1:30 to 2:30\, and stick around for virtual meditation with mindfulness instructor Corin de Sousa from 3:00 to 4:00 PM. For more information and to register\, contact brig@lampchc.org or phone 416-252-6471 ext. 308.
URL:https://neighbur.net/event/wellness-wednesday/2023-05-31/
LOCATION:LAMP Community Health Centre\, 185 Fifth Street\, Etobicoke\, Ontario\, M8V 2Z5\, Canada
ORGANIZER;CN="LAMP Community Health Centre":MAILTO:BriG@lampchc.org
END:VEVENT
BEGIN:VEVENT
DTSTART;TZID=America/Toronto:20230524T080000
DTEND;TZID=America/Toronto:20230524T170000
DTSTAMP:20260424T115843
CREATED:20230423T014216Z
LAST-MODIFIED:20230423T014217Z
UID:10014860-1684915200-1684947600@neighbur.net
SUMMARY:Wellness Wednesday
DESCRIPTION:Join us on Wednesday May 17\, 24\, and 31 for Wellness Wednesdays at LAMP CHC! Brighten your day in a healthy way with wellness coach Natasha Saddleback from 1:30 to 2:30\, and stick around for virtual meditation with mindfulness instructor Corin de Sousa from 3:00 to 4:00 PM. For more information and to register\, contact brig@lampchc.org or phone 416-252-6471 ext. 308.
URL:https://neighbur.net/event/wellness-wednesday/2023-05-24/
LOCATION:LAMP Community Health Centre\, 185 Fifth Street\, Etobicoke\, Ontario\, M8V 2Z5\, Canada
ORGANIZER;CN="LAMP Community Health Centre":MAILTO:BriG@lampchc.org
END:VEVENT
BEGIN:VEVENT
DTSTART;TZID=America/Toronto:20230517T080000
DTEND;TZID=America/Toronto:20230517T170000
DTSTAMP:20260424T115843
CREATED:20230423T014216Z
LAST-MODIFIED:20230423T014217Z
UID:10014859-1684310400-1684342800@neighbur.net
SUMMARY:Wellness Wednesday
DESCRIPTION:Join us on Wednesday May 17\, 24\, and 31 for Wellness Wednesdays at LAMP CHC! Brighten your day in a healthy way with wellness coach Natasha Saddleback from 1:30 to 2:30\, and stick around for virtual meditation with mindfulness instructor Corin de Sousa from 3:00 to 4:00 PM. For more information and to register\, contact brig@lampchc.org or phone 416-252-6471 ext. 308.
URL:https://neighbur.net/event/wellness-wednesday/2023-05-17/
LOCATION:LAMP Community Health Centre\, 185 Fifth Street\, Etobicoke\, Ontario\, M8V 2Z5\, Canada
ORGANIZER;CN="LAMP Community Health Centre":MAILTO:BriG@lampchc.org
END:VEVENT
END:VCALENDAR