BEGIN:VCALENDAR
VERSION:2.0
PRODID:-//Neighbur - ECPv6.15.20//NONSGML v1.0//EN
CALSCALE:GREGORIAN
METHOD:PUBLISH
X-ORIGINAL-URL:https://neighbur.net
X-WR-CALDESC:Events for Neighbur
REFRESH-INTERVAL;VALUE=DURATION:PT1H
X-Robots-Tag:noindex
X-PUBLISHED-TTL:PT1H
BEGIN:VTIMEZONE
TZID:America/Toronto
BEGIN:DAYLIGHT
TZOFFSETFROM:-0500
TZOFFSETTO:-0400
TZNAME:EDT
DTSTART:20220313T070000
END:DAYLIGHT
BEGIN:STANDARD
TZOFFSETFROM:-0400
TZOFFSETTO:-0500
TZNAME:EST
DTSTART:20221106T060000
END:STANDARD
BEGIN:DAYLIGHT
TZOFFSETFROM:-0500
TZOFFSETTO:-0400
TZNAME:EDT
DTSTART:20230312T070000
END:DAYLIGHT
BEGIN:STANDARD
TZOFFSETFROM:-0400
TZOFFSETTO:-0500
TZNAME:EST
DTSTART:20231105T060000
END:STANDARD
BEGIN:DAYLIGHT
TZOFFSETFROM:-0500
TZOFFSETTO:-0400
TZNAME:EDT
DTSTART:20240310T070000
END:DAYLIGHT
BEGIN:STANDARD
TZOFFSETFROM:-0400
TZOFFSETTO:-0500
TZNAME:EST
DTSTART:20241103T060000
END:STANDARD
END:VTIMEZONE
BEGIN:VEVENT
DTSTART;TZID=America/Toronto:20230510T115500
DTEND;TZID=America/Toronto:20230510T150000
DTSTAMP:20260424T120103
CREATED:20230502T213537Z
LAST-MODIFIED:20230502T213538Z
UID:10015094-1683719700-1683730800@neighbur.net
SUMMARY:Movies for Mommies
DESCRIPTION:JNext week week we celebrate Mother’s Day at Movies for Mommies.\nJoin Rachel McAdams and the incomparable Kathy Bates in the revival of the Judy Blume classic\nAre you there God? It’s me Margaret\nWe’re also hosting FREE photo mini sessions with Melanie Schwam Photography during our preshow!\n*Registration required. Click the link to secure your spot!\nhttps://forms.gle/R7wgKSD1cg2irzsY8\nWednesday May 10th 2023\nShowtime: 12:55pm\nDoors open and Photos at 11:55am
URL:https://neighbur.net/event/movies-for-mommies/
LOCATION:Ciniplex\, The Queensway\, 1025 The Queensway\, Etobicoke\, M8Z 6CZ
ATTACH;FMTTYPE=image/png:https://neighbur.net/wp-content/uploads/2023/05/MD-Etobicoke.png
ORGANIZER;CN="Movies for Mommies Etobicoke":MAILTO:inga.wenderoth83@gmail.com
END:VEVENT
END:VCALENDAR