BEGIN:VCALENDAR
VERSION:2.0
PRODID:-//Neighbur - ECPv6.15.18//NONSGML v1.0//EN
CALSCALE:GREGORIAN
METHOD:PUBLISH
X-WR-CALNAME:Neighbur
X-ORIGINAL-URL:https://neighbur.net
X-WR-CALDESC:Events for Neighbur
REFRESH-INTERVAL;VALUE=DURATION:PT1H
X-Robots-Tag:noindex
X-PUBLISHED-TTL:PT1H
BEGIN:VTIMEZONE
TZID:America/Toronto
BEGIN:DAYLIGHT
TZOFFSETFROM:-0500
TZOFFSETTO:-0400
TZNAME:EDT
DTSTART:20250309T070000
END:DAYLIGHT
BEGIN:STANDARD
TZOFFSETFROM:-0400
TZOFFSETTO:-0500
TZNAME:EST
DTSTART:20251102T060000
END:STANDARD
BEGIN:DAYLIGHT
TZOFFSETFROM:-0500
TZOFFSETTO:-0400
TZNAME:EDT
DTSTART:20260308T070000
END:DAYLIGHT
BEGIN:STANDARD
TZOFFSETFROM:-0400
TZOFFSETTO:-0500
TZNAME:EST
DTSTART:20261101T060000
END:STANDARD
BEGIN:DAYLIGHT
TZOFFSETFROM:-0500
TZOFFSETTO:-0400
TZNAME:EDT
DTSTART:20270314T070000
END:DAYLIGHT
BEGIN:STANDARD
TZOFFSETFROM:-0400
TZOFFSETTO:-0500
TZNAME:EST
DTSTART:20271107T060000
END:STANDARD
END:VTIMEZONE
BEGIN:VEVENT
DTSTART;TZID=America/Toronto:20260530T083000
DTEND;TZID=America/Toronto:20260530T120000
DTSTAMP:20260421T043944
CREATED:20260325T022740Z
LAST-MODIFIED:20260325T022742Z
UID:10057022-1780129800-1780142400@neighbur.net
SUMMARY:Jam-walk\, 5km walk and brunch
DESCRIPTION:Twenty years strong. Step forward and celebrate a legacy of giving back.\n2026 marks the 20th Anniversary of Helping Hands Jamaica Foundation\, making this year’s walk even more special. Take part\, join us\, for our annual 5km walk and brunch at the Palais Royale. You will be supporting access to education for children and youth in Jamaica.\n\nWALK TO CREATE BETTER FUTURES!\nYou will experience an incredible family-friendly afternoon and enjoy some amazing Jamaican hospitality with a delicious brunch to go. Last year was an incredible success!\n\nREGISTER\, FUNDRAISE & JOIN US FOR A FAMILY-FRIENDLY DAY.\nAll registered participants will receive a gift.\n\nCelebrate 20 years of giving back—walk with Helping Hands Jamaica Foundation.
URL:https://neighbur.net/event/jam-walk-5km-walk-and-brunch-2/
LOCATION:Palais Royale\, 1601 Lake Shore Blvd West\, Toronto
ATTACH;FMTTYPE=image/png:https://neighbur.net/wp-content/uploads/2026/03/JAMWALK26-POSTING.png
ORGANIZER;CN="PRQ":MAILTO:patricia@theprq.com
END:VEVENT
END:VCALENDAR