BEGIN:VCALENDAR
VERSION:2.0
PRODID:-//Neighbur - ECPv6.15.20//NONSGML v1.0//EN
CALSCALE:GREGORIAN
METHOD:PUBLISH
X-WR-CALNAME:Neighbur
X-ORIGINAL-URL:https://neighbur.net
X-WR-CALDESC:Events for Neighbur
REFRESH-INTERVAL;VALUE=DURATION:PT1H
X-Robots-Tag:noindex
X-PUBLISHED-TTL:PT1H
BEGIN:VTIMEZONE
TZID:America/Toronto
BEGIN:DAYLIGHT
TZOFFSETFROM:-0500
TZOFFSETTO:-0400
TZNAME:EDT
DTSTART:20250309T070000
END:DAYLIGHT
BEGIN:STANDARD
TZOFFSETFROM:-0400
TZOFFSETTO:-0500
TZNAME:EST
DTSTART:20251102T060000
END:STANDARD
BEGIN:DAYLIGHT
TZOFFSETFROM:-0500
TZOFFSETTO:-0400
TZNAME:EDT
DTSTART:20260308T070000
END:DAYLIGHT
BEGIN:STANDARD
TZOFFSETFROM:-0400
TZOFFSETTO:-0500
TZNAME:EST
DTSTART:20261101T060000
END:STANDARD
BEGIN:DAYLIGHT
TZOFFSETFROM:-0500
TZOFFSETTO:-0400
TZNAME:EDT
DTSTART:20270314T070000
END:DAYLIGHT
BEGIN:STANDARD
TZOFFSETFROM:-0400
TZOFFSETTO:-0500
TZNAME:EST
DTSTART:20271107T060000
END:STANDARD
END:VTIMEZONE
BEGIN:VEVENT
DTSTART;TZID=America/Toronto:20260516T090000
DTEND;TZID=America/Toronto:20260516T130000
DTSTAMP:20260424T153838
CREATED:20260424T144324Z
LAST-MODIFIED:20260424T144327Z
UID:10057665-1778922000-1778936400@neighbur.net
SUMMARY:Junction Farmers Market at Baird Park
DESCRIPTION:A new season is upon us with the Junction Farmers Market restarts up on Saturday\, May 16th and runs every Saturday until October 31st. Come and enjoy. Located at Baird Park at 275 Keele Street
URL:https://neighbur.net/event/junction-farmers-market-at-baird-park/2026-05-16/
LOCATION:Baird Park\, 275 Keele Street\, Toronto\, Ontario\, Canada
ATTACH;FMTTYPE=image/jpeg:https://neighbur.net/wp-content/uploads/2026/04/IMG_4757.jpg
ORGANIZER;CN="Junction Farmers Market Board of Directors":MAILTO:info@junctionmarket.ca
END:VEVENT
BEGIN:VEVENT
DTSTART;TZID=America/Toronto:20260523T090000
DTEND;TZID=America/Toronto:20260523T130000
DTSTAMP:20260424T153838
CREATED:20260424T144324Z
LAST-MODIFIED:20260424T144327Z
UID:10057666-1779526800-1779541200@neighbur.net
SUMMARY:Junction Farmers Market at Baird Park
DESCRIPTION:A new season is upon us with the Junction Farmers Market restarts up on Saturday\, May 16th and runs every Saturday until October 31st. Come and enjoy. Located at Baird Park at 275 Keele Street
URL:https://neighbur.net/event/junction-farmers-market-at-baird-park/2026-05-23/
LOCATION:Baird Park\, 275 Keele Street\, Toronto\, Ontario\, Canada
ATTACH;FMTTYPE=image/jpeg:https://neighbur.net/wp-content/uploads/2026/04/IMG_4757.jpg
ORGANIZER;CN="Junction Farmers Market Board of Directors":MAILTO:info@junctionmarket.ca
END:VEVENT
BEGIN:VEVENT
DTSTART;TZID=America/Toronto:20260530T090000
DTEND;TZID=America/Toronto:20260530T130000
DTSTAMP:20260424T153838
CREATED:20260424T144324Z
LAST-MODIFIED:20260424T144327Z
UID:10057667-1780131600-1780146000@neighbur.net
SUMMARY:Junction Farmers Market at Baird Park
DESCRIPTION:A new season is upon us with the Junction Farmers Market restarts up on Saturday\, May 16th and runs every Saturday until October 31st. Come and enjoy. Located at Baird Park at 275 Keele Street
URL:https://neighbur.net/event/junction-farmers-market-at-baird-park/2026-05-30/
LOCATION:Baird Park\, 275 Keele Street\, Toronto\, Ontario\, Canada
ATTACH;FMTTYPE=image/jpeg:https://neighbur.net/wp-content/uploads/2026/04/IMG_4757.jpg
ORGANIZER;CN="Junction Farmers Market Board of Directors":MAILTO:info@junctionmarket.ca
END:VEVENT
BEGIN:VEVENT
DTSTART;TZID=America/Toronto:20260606T090000
DTEND;TZID=America/Toronto:20260606T130000
DTSTAMP:20260424T153838
CREATED:20260424T144324Z
LAST-MODIFIED:20260424T144327Z
UID:10057668-1780736400-1780750800@neighbur.net
SUMMARY:Junction Farmers Market at Baird Park
DESCRIPTION:A new season is upon us with the Junction Farmers Market restarts up on Saturday\, May 16th and runs every Saturday until October 31st. Come and enjoy. Located at Baird Park at 275 Keele Street
URL:https://neighbur.net/event/junction-farmers-market-at-baird-park/2026-06-06/
LOCATION:Baird Park\, 275 Keele Street\, Toronto\, Ontario\, Canada
ATTACH;FMTTYPE=image/jpeg:https://neighbur.net/wp-content/uploads/2026/04/IMG_4757.jpg
ORGANIZER;CN="Junction Farmers Market Board of Directors":MAILTO:info@junctionmarket.ca
END:VEVENT
BEGIN:VEVENT
DTSTART;TZID=America/Toronto:20260613T090000
DTEND;TZID=America/Toronto:20260613T130000
DTSTAMP:20260424T153838
CREATED:20260424T144324Z
LAST-MODIFIED:20260424T144327Z
UID:10057669-1781341200-1781355600@neighbur.net
SUMMARY:Junction Farmers Market at Baird Park
DESCRIPTION:A new season is upon us with the Junction Farmers Market restarts up on Saturday\, May 16th and runs every Saturday until October 31st. Come and enjoy. Located at Baird Park at 275 Keele Street
URL:https://neighbur.net/event/junction-farmers-market-at-baird-park/2026-06-13/
LOCATION:Baird Park\, 275 Keele Street\, Toronto\, Ontario\, Canada
ATTACH;FMTTYPE=image/jpeg:https://neighbur.net/wp-content/uploads/2026/04/IMG_4757.jpg
ORGANIZER;CN="Junction Farmers Market Board of Directors":MAILTO:info@junctionmarket.ca
END:VEVENT
BEGIN:VEVENT
DTSTART;TZID=America/Toronto:20260620T090000
DTEND;TZID=America/Toronto:20260620T130000
DTSTAMP:20260424T153838
CREATED:20260424T144324Z
LAST-MODIFIED:20260424T144327Z
UID:10057670-1781946000-1781960400@neighbur.net
SUMMARY:Junction Farmers Market at Baird Park
DESCRIPTION:A new season is upon us with the Junction Farmers Market restarts up on Saturday\, May 16th and runs every Saturday until October 31st. Come and enjoy. Located at Baird Park at 275 Keele Street
URL:https://neighbur.net/event/junction-farmers-market-at-baird-park/2026-06-20/
LOCATION:Baird Park\, 275 Keele Street\, Toronto\, Ontario\, Canada
ATTACH;FMTTYPE=image/jpeg:https://neighbur.net/wp-content/uploads/2026/04/IMG_4757.jpg
ORGANIZER;CN="Junction Farmers Market Board of Directors":MAILTO:info@junctionmarket.ca
END:VEVENT
BEGIN:VEVENT
DTSTART;TZID=America/Toronto:20260627T090000
DTEND;TZID=America/Toronto:20260627T130000
DTSTAMP:20260424T153838
CREATED:20260424T144324Z
LAST-MODIFIED:20260424T144327Z
UID:10057671-1782550800-1782565200@neighbur.net
SUMMARY:Junction Farmers Market at Baird Park
DESCRIPTION:A new season is upon us with the Junction Farmers Market restarts up on Saturday\, May 16th and runs every Saturday until October 31st. Come and enjoy. Located at Baird Park at 275 Keele Street
URL:https://neighbur.net/event/junction-farmers-market-at-baird-park/2026-06-27/
LOCATION:Baird Park\, 275 Keele Street\, Toronto\, Ontario\, Canada
ATTACH;FMTTYPE=image/jpeg:https://neighbur.net/wp-content/uploads/2026/04/IMG_4757.jpg
ORGANIZER;CN="Junction Farmers Market Board of Directors":MAILTO:info@junctionmarket.ca
END:VEVENT
BEGIN:VEVENT
DTSTART;TZID=America/Toronto:20260704T090000
DTEND;TZID=America/Toronto:20260704T130000
DTSTAMP:20260424T153838
CREATED:20260424T144324Z
LAST-MODIFIED:20260424T144327Z
UID:10057672-1783155600-1783170000@neighbur.net
SUMMARY:Junction Farmers Market at Baird Park
DESCRIPTION:A new season is upon us with the Junction Farmers Market restarts up on Saturday\, May 16th and runs every Saturday until October 31st. Come and enjoy. Located at Baird Park at 275 Keele Street
URL:https://neighbur.net/event/junction-farmers-market-at-baird-park/2026-07-04/
LOCATION:Baird Park\, 275 Keele Street\, Toronto\, Ontario\, Canada
ATTACH;FMTTYPE=image/jpeg:https://neighbur.net/wp-content/uploads/2026/04/IMG_4757.jpg
ORGANIZER;CN="Junction Farmers Market Board of Directors":MAILTO:info@junctionmarket.ca
END:VEVENT
BEGIN:VEVENT
DTSTART;TZID=America/Toronto:20260711T090000
DTEND;TZID=America/Toronto:20260711T130000
DTSTAMP:20260424T153838
CREATED:20260424T144324Z
LAST-MODIFIED:20260424T144327Z
UID:10057673-1783760400-1783774800@neighbur.net
SUMMARY:Junction Farmers Market at Baird Park
DESCRIPTION:A new season is upon us with the Junction Farmers Market restarts up on Saturday\, May 16th and runs every Saturday until October 31st. Come and enjoy. Located at Baird Park at 275 Keele Street
URL:https://neighbur.net/event/junction-farmers-market-at-baird-park/2026-07-11/
LOCATION:Baird Park\, 275 Keele Street\, Toronto\, Ontario\, Canada
ATTACH;FMTTYPE=image/jpeg:https://neighbur.net/wp-content/uploads/2026/04/IMG_4757.jpg
ORGANIZER;CN="Junction Farmers Market Board of Directors":MAILTO:info@junctionmarket.ca
END:VEVENT
BEGIN:VEVENT
DTSTART;TZID=America/Toronto:20260718T090000
DTEND;TZID=America/Toronto:20260718T130000
DTSTAMP:20260424T153838
CREATED:20260424T144324Z
LAST-MODIFIED:20260424T144327Z
UID:10057674-1784365200-1784379600@neighbur.net
SUMMARY:Junction Farmers Market at Baird Park
DESCRIPTION:A new season is upon us with the Junction Farmers Market restarts up on Saturday\, May 16th and runs every Saturday until October 31st. Come and enjoy. Located at Baird Park at 275 Keele Street
URL:https://neighbur.net/event/junction-farmers-market-at-baird-park/2026-07-18/
LOCATION:Baird Park\, 275 Keele Street\, Toronto\, Ontario\, Canada
ATTACH;FMTTYPE=image/jpeg:https://neighbur.net/wp-content/uploads/2026/04/IMG_4757.jpg
ORGANIZER;CN="Junction Farmers Market Board of Directors":MAILTO:info@junctionmarket.ca
END:VEVENT
BEGIN:VEVENT
DTSTART;TZID=America/Toronto:20260725T090000
DTEND;TZID=America/Toronto:20260725T130000
DTSTAMP:20260424T153838
CREATED:20260424T144324Z
LAST-MODIFIED:20260424T144327Z
UID:10057675-1784970000-1784984400@neighbur.net
SUMMARY:Junction Farmers Market at Baird Park
DESCRIPTION:A new season is upon us with the Junction Farmers Market restarts up on Saturday\, May 16th and runs every Saturday until October 31st. Come and enjoy. Located at Baird Park at 275 Keele Street
URL:https://neighbur.net/event/junction-farmers-market-at-baird-park/2026-07-25/
LOCATION:Baird Park\, 275 Keele Street\, Toronto\, Ontario\, Canada
ATTACH;FMTTYPE=image/jpeg:https://neighbur.net/wp-content/uploads/2026/04/IMG_4757.jpg
ORGANIZER;CN="Junction Farmers Market Board of Directors":MAILTO:info@junctionmarket.ca
END:VEVENT
BEGIN:VEVENT
DTSTART;TZID=America/Toronto:20260801T090000
DTEND;TZID=America/Toronto:20260801T130000
DTSTAMP:20260424T153838
CREATED:20260424T144324Z
LAST-MODIFIED:20260424T144327Z
UID:10057676-1785574800-1785589200@neighbur.net
SUMMARY:Junction Farmers Market at Baird Park
DESCRIPTION:A new season is upon us with the Junction Farmers Market restarts up on Saturday\, May 16th and runs every Saturday until October 31st. Come and enjoy. Located at Baird Park at 275 Keele Street
URL:https://neighbur.net/event/junction-farmers-market-at-baird-park/2026-08-01/
LOCATION:Baird Park\, 275 Keele Street\, Toronto\, Ontario\, Canada
ATTACH;FMTTYPE=image/jpeg:https://neighbur.net/wp-content/uploads/2026/04/IMG_4757.jpg
ORGANIZER;CN="Junction Farmers Market Board of Directors":MAILTO:info@junctionmarket.ca
END:VEVENT
BEGIN:VEVENT
DTSTART;TZID=America/Toronto:20260808T090000
DTEND;TZID=America/Toronto:20260808T130000
DTSTAMP:20260424T153838
CREATED:20260424T144324Z
LAST-MODIFIED:20260424T144327Z
UID:10057677-1786179600-1786194000@neighbur.net
SUMMARY:Junction Farmers Market at Baird Park
DESCRIPTION:A new season is upon us with the Junction Farmers Market restarts up on Saturday\, May 16th and runs every Saturday until October 31st. Come and enjoy. Located at Baird Park at 275 Keele Street
URL:https://neighbur.net/event/junction-farmers-market-at-baird-park/2026-08-08/
LOCATION:Baird Park\, 275 Keele Street\, Toronto\, Ontario\, Canada
ATTACH;FMTTYPE=image/jpeg:https://neighbur.net/wp-content/uploads/2026/04/IMG_4757.jpg
ORGANIZER;CN="Junction Farmers Market Board of Directors":MAILTO:info@junctionmarket.ca
END:VEVENT
BEGIN:VEVENT
DTSTART;TZID=America/Toronto:20260815T090000
DTEND;TZID=America/Toronto:20260815T130000
DTSTAMP:20260424T153838
CREATED:20260424T144324Z
LAST-MODIFIED:20260424T144327Z
UID:10057678-1786784400-1786798800@neighbur.net
SUMMARY:Junction Farmers Market at Baird Park
DESCRIPTION:A new season is upon us with the Junction Farmers Market restarts up on Saturday\, May 16th and runs every Saturday until October 31st. Come and enjoy. Located at Baird Park at 275 Keele Street
URL:https://neighbur.net/event/junction-farmers-market-at-baird-park/2026-08-15/
LOCATION:Baird Park\, 275 Keele Street\, Toronto\, Ontario\, Canada
ATTACH;FMTTYPE=image/jpeg:https://neighbur.net/wp-content/uploads/2026/04/IMG_4757.jpg
ORGANIZER;CN="Junction Farmers Market Board of Directors":MAILTO:info@junctionmarket.ca
END:VEVENT
BEGIN:VEVENT
DTSTART;TZID=America/Toronto:20260822T090000
DTEND;TZID=America/Toronto:20260822T130000
DTSTAMP:20260424T153838
CREATED:20260424T144324Z
LAST-MODIFIED:20260424T144327Z
UID:10057679-1787389200-1787403600@neighbur.net
SUMMARY:Junction Farmers Market at Baird Park
DESCRIPTION:A new season is upon us with the Junction Farmers Market restarts up on Saturday\, May 16th and runs every Saturday until October 31st. Come and enjoy. Located at Baird Park at 275 Keele Street
URL:https://neighbur.net/event/junction-farmers-market-at-baird-park/2026-08-22/
LOCATION:Baird Park\, 275 Keele Street\, Toronto\, Ontario\, Canada
ATTACH;FMTTYPE=image/jpeg:https://neighbur.net/wp-content/uploads/2026/04/IMG_4757.jpg
ORGANIZER;CN="Junction Farmers Market Board of Directors":MAILTO:info@junctionmarket.ca
END:VEVENT
BEGIN:VEVENT
DTSTART;TZID=America/Toronto:20260829T090000
DTEND;TZID=America/Toronto:20260829T130000
DTSTAMP:20260424T153838
CREATED:20260424T144324Z
LAST-MODIFIED:20260424T144327Z
UID:10057680-1787994000-1788008400@neighbur.net
SUMMARY:Junction Farmers Market at Baird Park
DESCRIPTION:A new season is upon us with the Junction Farmers Market restarts up on Saturday\, May 16th and runs every Saturday until October 31st. Come and enjoy. Located at Baird Park at 275 Keele Street
URL:https://neighbur.net/event/junction-farmers-market-at-baird-park/2026-08-29/
LOCATION:Baird Park\, 275 Keele Street\, Toronto\, Ontario\, Canada
ATTACH;FMTTYPE=image/jpeg:https://neighbur.net/wp-content/uploads/2026/04/IMG_4757.jpg
ORGANIZER;CN="Junction Farmers Market Board of Directors":MAILTO:info@junctionmarket.ca
END:VEVENT
BEGIN:VEVENT
DTSTART;TZID=America/Toronto:20260905T090000
DTEND;TZID=America/Toronto:20260905T130000
DTSTAMP:20260424T153838
CREATED:20260424T144324Z
LAST-MODIFIED:20260424T144327Z
UID:10057681-1788598800-1788613200@neighbur.net
SUMMARY:Junction Farmers Market at Baird Park
DESCRIPTION:A new season is upon us with the Junction Farmers Market restarts up on Saturday\, May 16th and runs every Saturday until October 31st. Come and enjoy. Located at Baird Park at 275 Keele Street
URL:https://neighbur.net/event/junction-farmers-market-at-baird-park/2026-09-05/
LOCATION:Baird Park\, 275 Keele Street\, Toronto\, Ontario\, Canada
ATTACH;FMTTYPE=image/jpeg:https://neighbur.net/wp-content/uploads/2026/04/IMG_4757.jpg
ORGANIZER;CN="Junction Farmers Market Board of Directors":MAILTO:info@junctionmarket.ca
END:VEVENT
BEGIN:VEVENT
DTSTART;TZID=America/Toronto:20260912T090000
DTEND;TZID=America/Toronto:20260912T130000
DTSTAMP:20260424T153838
CREATED:20260424T144324Z
LAST-MODIFIED:20260424T144327Z
UID:10057682-1789203600-1789218000@neighbur.net
SUMMARY:Junction Farmers Market at Baird Park
DESCRIPTION:A new season is upon us with the Junction Farmers Market restarts up on Saturday\, May 16th and runs every Saturday until October 31st. Come and enjoy. Located at Baird Park at 275 Keele Street
URL:https://neighbur.net/event/junction-farmers-market-at-baird-park/2026-09-12/
LOCATION:Baird Park\, 275 Keele Street\, Toronto\, Ontario\, Canada
ATTACH;FMTTYPE=image/jpeg:https://neighbur.net/wp-content/uploads/2026/04/IMG_4757.jpg
ORGANIZER;CN="Junction Farmers Market Board of Directors":MAILTO:info@junctionmarket.ca
END:VEVENT
BEGIN:VEVENT
DTSTART;TZID=America/Toronto:20260919T090000
DTEND;TZID=America/Toronto:20260919T130000
DTSTAMP:20260424T153838
CREATED:20260424T144324Z
LAST-MODIFIED:20260424T144327Z
UID:10057683-1789808400-1789822800@neighbur.net
SUMMARY:Junction Farmers Market at Baird Park
DESCRIPTION:A new season is upon us with the Junction Farmers Market restarts up on Saturday\, May 16th and runs every Saturday until October 31st. Come and enjoy. Located at Baird Park at 275 Keele Street
URL:https://neighbur.net/event/junction-farmers-market-at-baird-park/2026-09-19/
LOCATION:Baird Park\, 275 Keele Street\, Toronto\, Ontario\, Canada
ATTACH;FMTTYPE=image/jpeg:https://neighbur.net/wp-content/uploads/2026/04/IMG_4757.jpg
ORGANIZER;CN="Junction Farmers Market Board of Directors":MAILTO:info@junctionmarket.ca
END:VEVENT
BEGIN:VEVENT
DTSTART;TZID=America/Toronto:20260926T090000
DTEND;TZID=America/Toronto:20260926T130000
DTSTAMP:20260424T153838
CREATED:20260424T144324Z
LAST-MODIFIED:20260424T144327Z
UID:10057684-1790413200-1790427600@neighbur.net
SUMMARY:Junction Farmers Market at Baird Park
DESCRIPTION:A new season is upon us with the Junction Farmers Market restarts up on Saturday\, May 16th and runs every Saturday until October 31st. Come and enjoy. Located at Baird Park at 275 Keele Street
URL:https://neighbur.net/event/junction-farmers-market-at-baird-park/2026-09-26/
LOCATION:Baird Park\, 275 Keele Street\, Toronto\, Ontario\, Canada
ATTACH;FMTTYPE=image/jpeg:https://neighbur.net/wp-content/uploads/2026/04/IMG_4757.jpg
ORGANIZER;CN="Junction Farmers Market Board of Directors":MAILTO:info@junctionmarket.ca
END:VEVENT
BEGIN:VEVENT
DTSTART;TZID=America/Toronto:20261003T090000
DTEND;TZID=America/Toronto:20261003T130000
DTSTAMP:20260424T153838
CREATED:20260424T144324Z
LAST-MODIFIED:20260424T144327Z
UID:10057685-1791018000-1791032400@neighbur.net
SUMMARY:Junction Farmers Market at Baird Park
DESCRIPTION:A new season is upon us with the Junction Farmers Market restarts up on Saturday\, May 16th and runs every Saturday until October 31st. Come and enjoy. Located at Baird Park at 275 Keele Street
URL:https://neighbur.net/event/junction-farmers-market-at-baird-park/2026-10-03/
LOCATION:Baird Park\, 275 Keele Street\, Toronto\, Ontario\, Canada
ATTACH;FMTTYPE=image/jpeg:https://neighbur.net/wp-content/uploads/2026/04/IMG_4757.jpg
ORGANIZER;CN="Junction Farmers Market Board of Directors":MAILTO:info@junctionmarket.ca
END:VEVENT
BEGIN:VEVENT
DTSTART;TZID=America/Toronto:20261010T090000
DTEND;TZID=America/Toronto:20261010T130000
DTSTAMP:20260424T153838
CREATED:20260424T144324Z
LAST-MODIFIED:20260424T144327Z
UID:10057686-1791622800-1791637200@neighbur.net
SUMMARY:Junction Farmers Market at Baird Park
DESCRIPTION:A new season is upon us with the Junction Farmers Market restarts up on Saturday\, May 16th and runs every Saturday until October 31st. Come and enjoy. Located at Baird Park at 275 Keele Street
URL:https://neighbur.net/event/junction-farmers-market-at-baird-park/2026-10-10/
LOCATION:Baird Park\, 275 Keele Street\, Toronto\, Ontario\, Canada
ATTACH;FMTTYPE=image/jpeg:https://neighbur.net/wp-content/uploads/2026/04/IMG_4757.jpg
ORGANIZER;CN="Junction Farmers Market Board of Directors":MAILTO:info@junctionmarket.ca
END:VEVENT
BEGIN:VEVENT
DTSTART;TZID=America/Toronto:20261017T090000
DTEND;TZID=America/Toronto:20261017T130000
DTSTAMP:20260424T153838
CREATED:20260424T144324Z
LAST-MODIFIED:20260424T144327Z
UID:10057687-1792227600-1792242000@neighbur.net
SUMMARY:Junction Farmers Market at Baird Park
DESCRIPTION:A new season is upon us with the Junction Farmers Market restarts up on Saturday\, May 16th and runs every Saturday until October 31st. Come and enjoy. Located at Baird Park at 275 Keele Street
URL:https://neighbur.net/event/junction-farmers-market-at-baird-park/2026-10-17/
LOCATION:Baird Park\, 275 Keele Street\, Toronto\, Ontario\, Canada
ATTACH;FMTTYPE=image/jpeg:https://neighbur.net/wp-content/uploads/2026/04/IMG_4757.jpg
ORGANIZER;CN="Junction Farmers Market Board of Directors":MAILTO:info@junctionmarket.ca
END:VEVENT
BEGIN:VEVENT
DTSTART;TZID=America/Toronto:20261024T090000
DTEND;TZID=America/Toronto:20261024T130000
DTSTAMP:20260424T153838
CREATED:20260424T144324Z
LAST-MODIFIED:20260424T144327Z
UID:10057688-1792832400-1792846800@neighbur.net
SUMMARY:Junction Farmers Market at Baird Park
DESCRIPTION:A new season is upon us with the Junction Farmers Market restarts up on Saturday\, May 16th and runs every Saturday until October 31st. Come and enjoy. Located at Baird Park at 275 Keele Street
URL:https://neighbur.net/event/junction-farmers-market-at-baird-park/2026-10-24/
LOCATION:Baird Park\, 275 Keele Street\, Toronto\, Ontario\, Canada
ATTACH;FMTTYPE=image/jpeg:https://neighbur.net/wp-content/uploads/2026/04/IMG_4757.jpg
ORGANIZER;CN="Junction Farmers Market Board of Directors":MAILTO:info@junctionmarket.ca
END:VEVENT
BEGIN:VEVENT
DTSTART;TZID=America/Toronto:20261031T090000
DTEND;TZID=America/Toronto:20261031T130000
DTSTAMP:20260424T153838
CREATED:20260424T144324Z
LAST-MODIFIED:20260424T144327Z
UID:10057689-1793437200-1793451600@neighbur.net
SUMMARY:Junction Farmers Market at Baird Park
DESCRIPTION:A new season is upon us with the Junction Farmers Market restarts up on Saturday\, May 16th and runs every Saturday until October 31st. Come and enjoy. Located at Baird Park at 275 Keele Street
URL:https://neighbur.net/event/junction-farmers-market-at-baird-park/2026-10-31/
LOCATION:Baird Park\, 275 Keele Street\, Toronto\, Ontario\, Canada
ATTACH;FMTTYPE=image/jpeg:https://neighbur.net/wp-content/uploads/2026/04/IMG_4757.jpg
ORGANIZER;CN="Junction Farmers Market Board of Directors":MAILTO:info@junctionmarket.ca
END:VEVENT
END:VCALENDAR