BEGIN:VCALENDAR
VERSION:2.0
PRODID:-//Neighbur - ECPv6.15.20//NONSGML v1.0//EN
CALSCALE:GREGORIAN
METHOD:PUBLISH
X-WR-CALNAME:Neighbur
X-ORIGINAL-URL:https://neighbur.net
X-WR-CALDESC:Events for Neighbur
REFRESH-INTERVAL;VALUE=DURATION:PT1H
X-Robots-Tag:noindex
X-PUBLISHED-TTL:PT1H
BEGIN:VTIMEZONE
TZID:America/Toronto
BEGIN:DAYLIGHT
TZOFFSETFROM:-0500
TZOFFSETTO:-0400
TZNAME:EDT
DTSTART:20220313T070000
END:DAYLIGHT
BEGIN:STANDARD
TZOFFSETFROM:-0400
TZOFFSETTO:-0500
TZNAME:EST
DTSTART:20221106T060000
END:STANDARD
BEGIN:DAYLIGHT
TZOFFSETFROM:-0500
TZOFFSETTO:-0400
TZNAME:EDT
DTSTART:20230312T070000
END:DAYLIGHT
BEGIN:STANDARD
TZOFFSETFROM:-0400
TZOFFSETTO:-0500
TZNAME:EST
DTSTART:20231105T060000
END:STANDARD
BEGIN:DAYLIGHT
TZOFFSETFROM:-0500
TZOFFSETTO:-0400
TZNAME:EDT
DTSTART:20240310T070000
END:DAYLIGHT
BEGIN:STANDARD
TZOFFSETFROM:-0400
TZOFFSETTO:-0500
TZNAME:EST
DTSTART:20241103T060000
END:STANDARD
END:VTIMEZONE
BEGIN:VEVENT
DTSTART;TZID=America/Toronto:20230510T115500
DTEND;TZID=America/Toronto:20230510T150000
DTSTAMP:20260424T072855
CREATED:20230502T213537Z
LAST-MODIFIED:20230502T213538Z
UID:10015094-1683719700-1683730800@neighbur.net
SUMMARY:Movies for Mommies
DESCRIPTION:JNext week week we celebrate Mother’s Day at Movies for Mommies.\nJoin Rachel McAdams and the incomparable Kathy Bates in the revival of the Judy Blume classic\nAre you there God? It’s me Margaret\nWe’re also hosting FREE photo mini sessions with Melanie Schwam Photography during our preshow!\n*Registration required. Click the link to secure your spot!\nhttps://forms.gle/R7wgKSD1cg2irzsY8\nWednesday May 10th 2023\nShowtime: 12:55pm\nDoors open and Photos at 11:55am
URL:https://neighbur.net/event/movies-for-mommies/
LOCATION:Ciniplex\, The Queensway\, 1025 The Queensway\, Etobicoke\, M8Z 6CZ
ATTACH;FMTTYPE=image/png:https://neighbur.net/wp-content/uploads/2023/05/MD-Etobicoke.png
ORGANIZER;CN="Movies for Mommies Etobicoke":MAILTO:inga.wenderoth83@gmail.com
END:VEVENT
BEGIN:VEVENT
DTSTART;TZID=America/Toronto:20230412T130000
DTEND;TZID=America/Toronto:20230412T153000
DTSTAMP:20260424T072855
CREATED:20230410T125727Z
LAST-MODIFIED:20230410T125728Z
UID:10014662-1681304400-1681313400@neighbur.net
SUMMARY:Movies for Mommies Etobicoke screening "Air"
DESCRIPTION:Movies for Mommies Etobicoke is the perfect place to meet new friends. Come out next Wednesday\, April 12th to watch a movie that has gotten overwhelmingly positive reviews – Air. \nEveryone is welcome! \nMovie: Air\nWhere: Cineplex Cinemas Queensway\nDoors open: 12:50pm\nMovie start: 1:20pm \nAll movies run with reduced volume\, and dim lights for easy feeding. Change tables are in theatre\, and we’ve got great swag and door prizes for our guests\, so arrive early for freebies. All MFM screenings are the normal theatre admission. No charge for babies.
URL:https://neighbur.net/event/movies-for-mommies-etobicoke-screening-air/
LOCATION:Ciniplex\, The Queensway\, 1025 The Queensway\, Etobicoke\, M8Z 6CZ
END:VEVENT
BEGIN:VEVENT
DTSTART;TZID=America/Toronto:20230211T090000
DTEND;TZID=America/Toronto:20230211T120000
DTSTAMP:20260424T072855
CREATED:20230205T183044Z
LAST-MODIFIED:20230205T183045Z
UID:10012698-1676106000-1676116800@neighbur.net
SUMMARY:Black History Month Celebration and Fundraiser
DESCRIPTION:On Saturday\, February 11\, the Jean Augustine Centre for Young Women’s Empowerment will be hosting their 8th annual Black History Month Celebration and Fundraiser at Cineplex Cinemas Queensway from 9 am to 12 pm.The focus of the event will be a screening of Steadfast: The Messenger and the Message\, a 2022 documentary film directed by Fahim Hamid Ali\, following the story of Jean Augustine’s journey from Happy Hill\, Grenada\, to being the first Black woman elected to Canada’s House of Commons and the first Black woman to serve in Canada’s federal Cabinet.The event will also feature a welcome address by Hon. Dr. Jean Augustine and performances by JAC youth.
URL:https://neighbur.net/event/black-history-month-celebration-and-fundraiser/
LOCATION:Ciniplex\, The Queensway\, 1025 The Queensway\, Etobicoke\, M8Z 6CZ
ATTACH;FMTTYPE=image/png:https://neighbur.net/wp-content/uploads/2023/02/Screen-Shot-2023-02-03-at-4.40.13-PM.png
END:VEVENT
END:VCALENDAR