BEGIN:VCALENDAR
VERSION:2.0
PRODID:-//Neighbur - ECPv6.15.20//NONSGML v1.0//EN
CALSCALE:GREGORIAN
METHOD:PUBLISH
X-ORIGINAL-URL:https://neighbur.net
X-WR-CALDESC:Events for Neighbur
REFRESH-INTERVAL;VALUE=DURATION:PT1H
X-Robots-Tag:noindex
X-PUBLISHED-TTL:PT1H
BEGIN:VTIMEZONE
TZID:America/Toronto
BEGIN:DAYLIGHT
TZOFFSETFROM:-0500
TZOFFSETTO:-0400
TZNAME:EDT
DTSTART:20250309T070000
END:DAYLIGHT
BEGIN:STANDARD
TZOFFSETFROM:-0400
TZOFFSETTO:-0500
TZNAME:EST
DTSTART:20251102T060000
END:STANDARD
BEGIN:DAYLIGHT
TZOFFSETFROM:-0500
TZOFFSETTO:-0400
TZNAME:EDT
DTSTART:20260308T070000
END:DAYLIGHT
BEGIN:STANDARD
TZOFFSETFROM:-0400
TZOFFSETTO:-0500
TZNAME:EST
DTSTART:20261101T060000
END:STANDARD
BEGIN:DAYLIGHT
TZOFFSETFROM:-0500
TZOFFSETTO:-0400
TZNAME:EDT
DTSTART:20270314T070000
END:DAYLIGHT
BEGIN:STANDARD
TZOFFSETFROM:-0400
TZOFFSETTO:-0500
TZNAME:EST
DTSTART:20271107T060000
END:STANDARD
END:VTIMEZONE
BEGIN:VEVENT
DTSTART;TZID=America/Toronto:20260430T100000
DTEND;TZID=America/Toronto:20260430T193000
DTSTAMP:20260424T201809
CREATED:20260424T194720Z
LAST-MODIFIED:20260424T194734Z
UID:10057636-1777543200-1777577400@neighbur.net
SUMMARY:Adopt a Shelter Pet Day - Etobicoke Humane Society Open House
DESCRIPTION:In celebration of Adopt a Shelter Pet Day on April 30\, the Etobicoke Humane Society (EHS) invites you to an Open House at our shelter. \nDate: Thursday\, April 30\, 2026\nTime: 10am-7:30pm\nAddress: Etobicoke Humane Society\, 67 Six Point Road\n\nCome visit us to: \n– Tour a REAL volunteer-run shelter \n– Learn some cool animal facts \n– Learn about EHS and all that we do\n– Have some fun \n– Visit with our amazing kitties! \n– Get involved in saving lives
URL:https://neighbur.net/event/adopt-a-shelter-pet-day-etobicoke-humane-society-open-house/
LOCATION:Etobicoke Humane Society\, 67 Six Point Road\, Etobicoke\, M8Z 2X3
ATTACH;FMTTYPE=image/png:https://neighbur.net/wp-content/uploads/2026/04/adopt-a-shelter-pet-day-1.png
END:VEVENT
END:VCALENDAR