BEGIN:VCALENDAR
VERSION:2.0
PRODID:-//Neighbur - ECPv6.15.20//NONSGML v1.0//EN
CALSCALE:GREGORIAN
METHOD:PUBLISH
X-ORIGINAL-URL:https://neighbur.net
X-WR-CALDESC:Events for Neighbur
REFRESH-INTERVAL;VALUE=DURATION:PT1H
X-Robots-Tag:noindex
X-PUBLISHED-TTL:PT1H
BEGIN:VTIMEZONE
TZID:America/Toronto
BEGIN:DAYLIGHT
TZOFFSETFROM:-0500
TZOFFSETTO:-0400
TZNAME:EDT
DTSTART:20220313T070000
END:DAYLIGHT
BEGIN:STANDARD
TZOFFSETFROM:-0400
TZOFFSETTO:-0500
TZNAME:EST
DTSTART:20221106T060000
END:STANDARD
BEGIN:DAYLIGHT
TZOFFSETFROM:-0500
TZOFFSETTO:-0400
TZNAME:EDT
DTSTART:20230312T070000
END:DAYLIGHT
BEGIN:STANDARD
TZOFFSETFROM:-0400
TZOFFSETTO:-0500
TZNAME:EST
DTSTART:20231105T060000
END:STANDARD
BEGIN:DAYLIGHT
TZOFFSETFROM:-0500
TZOFFSETTO:-0400
TZNAME:EDT
DTSTART:20240310T070000
END:DAYLIGHT
BEGIN:STANDARD
TZOFFSETFROM:-0400
TZOFFSETTO:-0500
TZNAME:EST
DTSTART:20241103T060000
END:STANDARD
END:VTIMEZONE
BEGIN:VEVENT
DTSTART;TZID=America/Toronto:20230415T040000
DTEND;TZID=America/Toronto:20230417T035959
DTSTAMP:20260424T185758
CREATED:20230414T220735Z
LAST-MODIFIED:20230414T220736Z
UID:10014681-1681531200-1681703999@neighbur.net
SUMMARY:Katana Nails & Spa Open House
DESCRIPTION:Hi Neighbours 🙂 We welcome you to our new location at 844 The Queensway. Stop by for our Open House & ask any beauty questions\, consult us about complex nail designs\, find out about upcoming events. Free Eyebrow Threading with every service this Sat & Sun.
URL:https://neighbur.net/event/katana-nails-spa-open-house/
LOCATION:Katana Nails & Spa\, 844 The Queensway\, Etobicoke\, Ontario\, M8Z 1N7\, Canada
ATTACH;FMTTYPE=image/png:https://neighbur.net/wp-content/uploads/2023/04/Every-moment-is-a-new-beginning-Katana-Logo-cropped-for-Tim.png
END:VEVENT
END:VCALENDAR