BEGIN:VCALENDAR
VERSION:2.0
PRODID:-//Neighbur - ECPv6.15.20//NONSGML v1.0//EN
CALSCALE:GREGORIAN
METHOD:PUBLISH
X-ORIGINAL-URL:https://neighbur.net
X-WR-CALDESC:Events for Neighbur
REFRESH-INTERVAL;VALUE=DURATION:PT1H
X-Robots-Tag:noindex
X-PUBLISHED-TTL:PT1H
BEGIN:VTIMEZONE
TZID:America/Toronto
BEGIN:DAYLIGHT
TZOFFSETFROM:-0500
TZOFFSETTO:-0400
TZNAME:EDT
DTSTART:20220313T070000
END:DAYLIGHT
BEGIN:STANDARD
TZOFFSETFROM:-0400
TZOFFSETTO:-0500
TZNAME:EST
DTSTART:20221106T060000
END:STANDARD
BEGIN:DAYLIGHT
TZOFFSETFROM:-0500
TZOFFSETTO:-0400
TZNAME:EDT
DTSTART:20230312T070000
END:DAYLIGHT
BEGIN:STANDARD
TZOFFSETFROM:-0400
TZOFFSETTO:-0500
TZNAME:EST
DTSTART:20231105T060000
END:STANDARD
BEGIN:DAYLIGHT
TZOFFSETFROM:-0500
TZOFFSETTO:-0400
TZNAME:EDT
DTSTART:20240310T070000
END:DAYLIGHT
BEGIN:STANDARD
TZOFFSETFROM:-0400
TZOFFSETTO:-0500
TZNAME:EST
DTSTART:20241103T060000
END:STANDARD
END:VTIMEZONE
BEGIN:VEVENT
DTSTART;TZID=America/Toronto:20230627T180000
DTEND;TZID=America/Toronto:20230627T200000
DTSTAMP:20260424T073849
CREATED:20230524T135118Z
LAST-MODIFIED:20230524T171739Z
UID:10016297-1687888800-1687896000@neighbur.net
SUMMARY:Community Appreciation Gala (hosted by Bhutila Karpoche)
DESCRIPTION:On June 27th\, from 6 to 8pm\, MPP Bhutila Karpoche will be hosting her annual Community Appreciation Gala. The event will take place at the Lithuanian Hall (1573 Bloor St. W). All are welcome ! Please register at bhutilakarpoche.ca/gala \nThe event promises to be a memorable evening filled with gratitude and celebration. The gala will bring together community members from all walks of life. It will be an opportunity to recognize and honor the contributions of individuals and organizations that have made a positive impact in the community. With inspiring speeches\, cultural performances\, and delicious cuisine\, the gala will undoubtedly foster a sense of unity and appreciation among attendees.
URL:https://neighbur.net/event/community-appreciation-gala-hosted-by-bhutila-karpoche/
LOCATION:Lithuanian Hall\, 1573 Bloor St West\, Toronto\, Ontario\, Canada
ATTACH;FMTTYPE=image/jpeg:https://neighbur.net/wp-content/uploads/2023/05/Bhutila-Karpoche_quarterH_JUN23-01.jpg
END:VEVENT
END:VCALENDAR