BEGIN:VCALENDAR
VERSION:2.0
PRODID:-//Neighbur - ECPv6.15.20//NONSGML v1.0//EN
CALSCALE:GREGORIAN
METHOD:PUBLISH
X-ORIGINAL-URL:https://neighbur.net
X-WR-CALDESC:Events for Neighbur
REFRESH-INTERVAL;VALUE=DURATION:PT1H
X-Robots-Tag:noindex
X-PUBLISHED-TTL:PT1H
BEGIN:VTIMEZONE
TZID:America/Toronto
BEGIN:DAYLIGHT
TZOFFSETFROM:-0500
TZOFFSETTO:-0400
TZNAME:EDT
DTSTART:20220313T070000
END:DAYLIGHT
BEGIN:STANDARD
TZOFFSETFROM:-0400
TZOFFSETTO:-0500
TZNAME:EST
DTSTART:20221106T060000
END:STANDARD
BEGIN:DAYLIGHT
TZOFFSETFROM:-0500
TZOFFSETTO:-0400
TZNAME:EDT
DTSTART:20230312T070000
END:DAYLIGHT
BEGIN:STANDARD
TZOFFSETFROM:-0400
TZOFFSETTO:-0500
TZNAME:EST
DTSTART:20231105T060000
END:STANDARD
BEGIN:DAYLIGHT
TZOFFSETFROM:-0500
TZOFFSETTO:-0400
TZNAME:EDT
DTSTART:20240310T070000
END:DAYLIGHT
BEGIN:STANDARD
TZOFFSETFROM:-0400
TZOFFSETTO:-0500
TZNAME:EST
DTSTART:20241103T060000
END:STANDARD
END:VTIMEZONE
BEGIN:VEVENT
DTSTART;TZID=America/Toronto:20230511T160000
DTEND;TZID=America/Toronto:20230511T190000
DTSTAMP:20260424T144650
CREATED:20230503T233459Z
LAST-MODIFIED:20230503T233459Z
UID:10015557-1683820800-1683831600@neighbur.net
SUMMARY:Mother's Day Celebration - Free Digital Photo
DESCRIPTION:On Thursday\, May 11th from 4pm to 7pm\, Royal LePage West Realty Group realtors\,  Amutha Haslan and Anne McMinn are offering a special Mother’s Day Celebration. You can capture a special moment with a Free Digital Photo that you can cherish.\nCome to their office at 5040 Dundas St West and they’ll have your photo taken. Pets are welcome\nFree hot dogs and water available. Please bring a food donation for the Food Bank.
URL:https://neighbur.net/event/mothers-day-celebration-free-digital-photo/
LOCATION:Royal Lepage West Realty Group\, 5040 Dundas St. West\, Toronto\, Ontario\, Canada
ATTACH;FMTTYPE=image/jpeg:https://neighbur.net/wp-content/uploads/2023/05/Amutha-Haslam_quarterV_MAY23-01.jpg
END:VEVENT
END:VCALENDAR