BEGIN:VCALENDAR
VERSION:2.0
PRODID:-//Neighbur - ECPv6.15.20//NONSGML v1.0//EN
CALSCALE:GREGORIAN
METHOD:PUBLISH
X-ORIGINAL-URL:https://neighbur.net
X-WR-CALDESC:Events for Neighbur
REFRESH-INTERVAL;VALUE=DURATION:PT1H
X-Robots-Tag:noindex
X-PUBLISHED-TTL:PT1H
BEGIN:VTIMEZONE
TZID:America/Toronto
BEGIN:DAYLIGHT
TZOFFSETFROM:-0500
TZOFFSETTO:-0400
TZNAME:EDT
DTSTART:20250309T070000
END:DAYLIGHT
BEGIN:STANDARD
TZOFFSETFROM:-0400
TZOFFSETTO:-0500
TZNAME:EST
DTSTART:20251102T060000
END:STANDARD
BEGIN:DAYLIGHT
TZOFFSETFROM:-0500
TZOFFSETTO:-0400
TZNAME:EDT
DTSTART:20260308T070000
END:DAYLIGHT
BEGIN:STANDARD
TZOFFSETFROM:-0400
TZOFFSETTO:-0500
TZNAME:EST
DTSTART:20261101T060000
END:STANDARD
BEGIN:DAYLIGHT
TZOFFSETFROM:-0500
TZOFFSETTO:-0400
TZNAME:EDT
DTSTART:20270314T070000
END:DAYLIGHT
BEGIN:STANDARD
TZOFFSETFROM:-0400
TZOFFSETTO:-0500
TZNAME:EST
DTSTART:20271107T060000
END:STANDARD
END:VTIMEZONE
BEGIN:VEVENT
DTSTART;TZID=America/Toronto:20260714T040000
DTEND;TZID=America/Toronto:20260715T035959
DTSTAMP:20260424T103510
CREATED:20260211T185238Z
LAST-MODIFIED:20260211T185259Z
UID:10056412-1784001600-1784087999@neighbur.net
SUMMARY:The Duffer's 72nd Invitational Golf Tournament - A Local Tradition on the Green
DESCRIPTION:Get ready for another memorable day of golf and community spirit at the Duffer’s Invitational Golf Tournament\, one of Canada’s longest-running and most beloved charitable golf events. First established in 1955\, The Duffers Invitational was created to give recreational golfers a relaxed and fun-filled day on the course — and more than 70 years later\, that tradition continues strong.\n\nThis year’s tournament is set for July 14\, 2026 at the Royal Woodbine Golf Club in Etobicoke\, where players can enjoy beautifully maintained fairways\, friendly competition\, great prizes\, and plenty of camaraderie.\n\nWhether you’re a foursome\, a pair\, or registering solo\, all golfers are invited to take part in an event focused on having “good times with good friends.” Proceeds support local charitable organizations — blending sport with giving back to the community.\n\nParticipants will enjoy a full tournament package that includes golf\, breakfast\, lunch\, and a post-tournament dinner\, ensuring a complete and enjoyable experience from start to finish. Throughout the day\, players can also look forward to on-course contests\, prizes\, and special giveaways. Early bird pricing is available now\, with options for golf and dinner packages.\n\nFor more information or to register\, contact the organizers at 437-991-6336 or theduffersinvitational@gmail.com
URL:https://neighbur.net/event/the-duffers-72nd-invitational-golf-tournament-a-local-tradition-on-the-green/
LOCATION:Royal Woodbine Golf Course\, 195 Galaxy Blvd\, Toronto\, M9W 6R7
ATTACH;FMTTYPE=image/png:https://neighbur.net/wp-content/uploads/2026/02/Duffers-Golf-Tournament-Logo.pdf.png
END:VEVENT
END:VCALENDAR