BEGIN:VCALENDAR
VERSION:2.0
PRODID:-//Neighbur - ECPv6.15.20//NONSGML v1.0//EN
CALSCALE:GREGORIAN
METHOD:PUBLISH
X-WR-CALNAME:Neighbur
X-ORIGINAL-URL:https://neighbur.net
X-WR-CALDESC:Events for Neighbur
REFRESH-INTERVAL;VALUE=DURATION:PT1H
X-Robots-Tag:noindex
X-PUBLISHED-TTL:PT1H
BEGIN:VTIMEZONE
TZID:America/Toronto
BEGIN:DAYLIGHT
TZOFFSETFROM:-0500
TZOFFSETTO:-0400
TZNAME:EDT
DTSTART:20220313T070000
END:DAYLIGHT
BEGIN:STANDARD
TZOFFSETFROM:-0400
TZOFFSETTO:-0500
TZNAME:EST
DTSTART:20221106T060000
END:STANDARD
BEGIN:DAYLIGHT
TZOFFSETFROM:-0500
TZOFFSETTO:-0400
TZNAME:EDT
DTSTART:20230312T070000
END:DAYLIGHT
BEGIN:STANDARD
TZOFFSETFROM:-0400
TZOFFSETTO:-0500
TZNAME:EST
DTSTART:20231105T060000
END:STANDARD
BEGIN:DAYLIGHT
TZOFFSETFROM:-0500
TZOFFSETTO:-0400
TZNAME:EDT
DTSTART:20240310T070000
END:DAYLIGHT
BEGIN:STANDARD
TZOFFSETFROM:-0400
TZOFFSETTO:-0500
TZNAME:EST
DTSTART:20241103T060000
END:STANDARD
END:VTIMEZONE
BEGIN:VEVENT
DTSTART;TZID=America/Toronto:20230910T130000
DTEND;TZID=America/Toronto:20230910T230000
DTSTAMP:20260423T162520
CREATED:20230825T195952Z
LAST-MODIFIED:20230828T024644Z
UID:10018161-1694350800-1694386800@neighbur.net
SUMMARY:NFL GAME DAY GRUB IN THE DAWG POUND NORTH AT SHOXS!
DESCRIPTION:Make sure you join us for NFL games at Shoxs Billiard Lounge on Dundas just east of Keele to watch your favourite teams on one of our many big screen tv’s!
URL:https://neighbur.net/event/nfl-game-day-grub-in-the-dog-pound-north-at-shoxs/2023-09-10/
LOCATION:Shoxs Billiards Lounge\, 2827 Dundas Street West\, Toronto\, M6P 1Y6\, Canada
ATTACH;FMTTYPE=image/jpeg:https://neighbur.net/wp-content/uploads/2023/08/BUD_NFL-Menu_Shoxs_2023_CaitlinOconnor_MNU_8.5x11_Page_1-scaled.jpg
END:VEVENT
BEGIN:VEVENT
DTSTART;TZID=America/Toronto:20230903T130000
DTEND;TZID=America/Toronto:20230903T230000
DTSTAMP:20260423T162520
CREATED:20230825T195952Z
LAST-MODIFIED:20230828T024644Z
UID:10018160-1693746000-1693782000@neighbur.net
SUMMARY:NFL GAME DAY GRUB IN THE DAWG POUND NORTH AT SHOXS!
DESCRIPTION:Make sure you join us for NFL games at Shoxs Billiard Lounge on Dundas just east of Keele to watch your favourite teams on one of our many big screen tv’s!
URL:https://neighbur.net/event/nfl-game-day-grub-in-the-dog-pound-north-at-shoxs/2023-09-03/
LOCATION:Shoxs Billiards Lounge\, 2827 Dundas Street West\, Toronto\, M6P 1Y6\, Canada
ATTACH;FMTTYPE=image/jpeg:https://neighbur.net/wp-content/uploads/2023/08/BUD_NFL-Menu_Shoxs_2023_CaitlinOconnor_MNU_8.5x11_Page_1-scaled.jpg
END:VEVENT
BEGIN:VEVENT
DTSTART;TZID=America/Toronto:20230827T130000
DTEND;TZID=America/Toronto:20230827T230000
DTSTAMP:20260423T162521
CREATED:20230825T195952Z
LAST-MODIFIED:20230828T024644Z
UID:10018159-1693141200-1693177200@neighbur.net
SUMMARY:NFL GAME DAY GRUB IN THE DAWG POUND NORTH AT SHOXS!
DESCRIPTION:Make sure you join us for NFL games at Shoxs Billiard Lounge on Dundas just east of Keele to watch your favourite teams on one of our many big screen tv’s!
URL:https://neighbur.net/event/nfl-game-day-grub-in-the-dog-pound-north-at-shoxs/2023-08-27/
LOCATION:Shoxs Billiards Lounge\, 2827 Dundas Street West\, Toronto\, M6P 1Y6\, Canada
ATTACH;FMTTYPE=image/jpeg:https://neighbur.net/wp-content/uploads/2023/08/BUD_NFL-Menu_Shoxs_2023_CaitlinOconnor_MNU_8.5x11_Page_1-scaled.jpg
END:VEVENT
END:VCALENDAR