BEGIN:VCALENDAR
VERSION:2.0
PRODID:-//Neighbur - ECPv6.15.20//NONSGML v1.0//EN
CALSCALE:GREGORIAN
METHOD:PUBLISH
X-ORIGINAL-URL:https://neighbur.net
X-WR-CALDESC:Events for Neighbur
REFRESH-INTERVAL;VALUE=DURATION:PT1H
X-Robots-Tag:noindex
X-PUBLISHED-TTL:PT1H
BEGIN:VTIMEZONE
TZID:America/Toronto
BEGIN:DAYLIGHT
TZOFFSETFROM:-0500
TZOFFSETTO:-0400
TZNAME:EDT
DTSTART:20220313T070000
END:DAYLIGHT
BEGIN:STANDARD
TZOFFSETFROM:-0400
TZOFFSETTO:-0500
TZNAME:EST
DTSTART:20221106T060000
END:STANDARD
BEGIN:DAYLIGHT
TZOFFSETFROM:-0500
TZOFFSETTO:-0400
TZNAME:EDT
DTSTART:20230312T070000
END:DAYLIGHT
BEGIN:STANDARD
TZOFFSETFROM:-0400
TZOFFSETTO:-0500
TZNAME:EST
DTSTART:20231105T060000
END:STANDARD
BEGIN:DAYLIGHT
TZOFFSETFROM:-0500
TZOFFSETTO:-0400
TZNAME:EDT
DTSTART:20240310T070000
END:DAYLIGHT
BEGIN:STANDARD
TZOFFSETFROM:-0400
TZOFFSETTO:-0500
TZNAME:EST
DTSTART:20241103T060000
END:STANDARD
BEGIN:DAYLIGHT
TZOFFSETFROM:-0500
TZOFFSETTO:-0400
TZNAME:EDT
DTSTART:20250309T070000
END:DAYLIGHT
BEGIN:STANDARD
TZOFFSETFROM:-0400
TZOFFSETTO:-0500
TZNAME:EST
DTSTART:20251102T060000
END:STANDARD
BEGIN:DAYLIGHT
TZOFFSETFROM:-0500
TZOFFSETTO:-0400
TZNAME:EDT
DTSTART:20260308T070000
END:DAYLIGHT
BEGIN:STANDARD
TZOFFSETFROM:-0400
TZOFFSETTO:-0500
TZNAME:EST
DTSTART:20261101T060000
END:STANDARD
END:VTIMEZONE
BEGIN:VEVENT
DTSTART;TZID=America/Toronto:20251108T120000
DTEND;TZID=America/Toronto:20251108T200000
DTSTAMP:20260423T190915
CREATED:20251106T141519Z
LAST-MODIFIED:20251106T141525Z
UID:10048699-1762603200-1762632000@neighbur.net
SUMMARY:Men Zone Grand Opening Event at Stock Yards Village
DESCRIPTION:Join Men Zone Barbershop at Stock Yards Village for their Grand Opening Event 💈\n\n📅 November 8 \n🕛 12 PM – 8 PM\n🎉 Special Offers & Activities:\n\n• FREE haircuts for First Responders\n• FREE haircuts for the first 20 customers\n• $20 haircuts thereafter\n• Complimentary food and refreshments\n• Prize draw with exciting giveaways\n\nCome celebrate with Men Zone and experience the ultimate grooming experience.
URL:https://neighbur.net/event/men-zone-grand-opening-event-at-stock-yards-village/
LOCATION:Stock Yards Village\, 1980 St Clair Ave West\, Toronto
ATTACH;FMTTYPE=image/jpeg:https://neighbur.net/wp-content/uploads/2025/11/SYV_MenZoneGrandOpening_social_tenantrequest.jpg
END:VEVENT
BEGIN:VEVENT
DTSTART;TZID=America/Toronto:20240504T100000
DTEND;TZID=America/Toronto:20240504T150000
DTSTAMP:20260423T190915
CREATED:20240422T184158Z
LAST-MODIFIED:20240422T184159Z
UID:10027690-1714816800-1714834800@neighbur.net
SUMMARY:Spring Vendor Market Hosted by Local MRKT
DESCRIPTION:Spring Vendor Market presented by LOCAL MRKT @localmrkt\nSaturday\, May 4\n10 a.m. – 3 p.m. in front of Bulk Barn\n\nSupport small business vendors: \n\nAccessories\nAnime\nArt\nBaked Goods\nBath Products\nBeauty\nCandles\nCrochet\nJewelry\nKids Toys\nSea Moss\nSkincare\nStationary\nand more…
URL:https://neighbur.net/event/spring-vendor-market-hosted-by-local-mrkt/
LOCATION:Stock Yards Village\, 1980 St Clair Ave West\, Toronto
ATTACH;FMTTYPE=image/jpeg:https://neighbur.net/wp-content/uploads/2024/04/SYVMay4LOCALMRKT_social01.jpg
ORGANIZER;CN="Local MRKT":MAILTO:shoplocalmrkt@gmail.com
END:VEVENT
BEGIN:VEVENT
DTSTART;TZID=America/Toronto:20240501T040000
DTEND;TZID=America/Toronto:20240513T035959
DTSTAMP:20260423T190915
CREATED:20240422T184234Z
LAST-MODIFIED:20240422T184235Z
UID:10027692-1714536000-1715572799@neighbur.net
SUMMARY:Mother's Day Gift Card Event
DESCRIPTION:Stock Yards Village \n\nMay 1 – 12 | Mother’s Day Gift Card Event\n\nBuy a $50 Stock Yards Village gift card\, and get a $10 bonus gift card. \n\nTo purchase a digital gift card\, use promo code “MAY12” on stockyardsvillage.com/gift-cards.
URL:https://neighbur.net/event/mothers-day-gift-card-event/
LOCATION:Stock Yards Village\, 1980 St Clair Ave West\, Toronto
ATTACH;FMTTYPE=image/jpeg:https://neighbur.net/wp-content/uploads/2024/04/SYVMothersDay2024_social.jpg
END:VEVENT
BEGIN:VEVENT
DTSTART;TZID=America/Toronto:20240329T040000
DTEND;TZID=America/Toronto:20240330T035959
DTSTAMP:20260423T190915
CREATED:20240306T220723Z
LAST-MODIFIED:20240306T220724Z
UID:10027514-1711684800-1711771199@neighbur.net
SUMMARY:Easter Gift Card Bonus Event With Stock Yards Village
DESCRIPTION:Hop into Easter with our egg-citing Easter Gift Card Bonus Event. March 8-31: buy a $50 Stock Yards Village gift card and get a $10 bonus gift card until March 31. 🐰🙌 \nThese gift cards will make the perfect gifts for your loved ones\, or yourself. This card is loaded with potential – get your Easter chocolate\, candies\, decorations and much more. 🥚🐣 \nTo purchase a Stock Yards Village gift card\, visit the gift card kiosk beside Firehouse Subs or use promo code “BUNNY10” on stockyardsvillage.com.
URL:https://neighbur.net/event/easter-gift-card-bonus-event-with-stock-yards-village/2024-03-29/
LOCATION:Stock Yards Village\, 1980 St Clair Ave West\, Toronto
ATTACH;FMTTYPE=image/jpeg:https://neighbur.net/wp-content/uploads/2024/03/SYV-Easter-2024-GC-Bonus-Event_social.jpg
END:VEVENT
BEGIN:VEVENT
DTSTART;TZID=America/Toronto:20240322T040000
DTEND;TZID=America/Toronto:20240323T035959
DTSTAMP:20260423T190915
CREATED:20240306T220723Z
LAST-MODIFIED:20240306T220724Z
UID:10027513-1711080000-1711166399@neighbur.net
SUMMARY:Easter Gift Card Bonus Event With Stock Yards Village
DESCRIPTION:Hop into Easter with our egg-citing Easter Gift Card Bonus Event. March 8-31: buy a $50 Stock Yards Village gift card and get a $10 bonus gift card until March 31. 🐰🙌 \nThese gift cards will make the perfect gifts for your loved ones\, or yourself. This card is loaded with potential – get your Easter chocolate\, candies\, decorations and much more. 🥚🐣 \nTo purchase a Stock Yards Village gift card\, visit the gift card kiosk beside Firehouse Subs or use promo code “BUNNY10” on stockyardsvillage.com.
URL:https://neighbur.net/event/easter-gift-card-bonus-event-with-stock-yards-village/2024-03-22/
LOCATION:Stock Yards Village\, 1980 St Clair Ave West\, Toronto
ATTACH;FMTTYPE=image/jpeg:https://neighbur.net/wp-content/uploads/2024/03/SYV-Easter-2024-GC-Bonus-Event_social.jpg
END:VEVENT
BEGIN:VEVENT
DTSTART;TZID=America/Toronto:20240315T040000
DTEND;TZID=America/Toronto:20240316T035959
DTSTAMP:20260423T190915
CREATED:20240306T220723Z
LAST-MODIFIED:20240306T220724Z
UID:10027512-1710475200-1710561599@neighbur.net
SUMMARY:Easter Gift Card Bonus Event With Stock Yards Village
DESCRIPTION:Hop into Easter with our egg-citing Easter Gift Card Bonus Event. March 8-31: buy a $50 Stock Yards Village gift card and get a $10 bonus gift card until March 31. 🐰🙌 \nThese gift cards will make the perfect gifts for your loved ones\, or yourself. This card is loaded with potential – get your Easter chocolate\, candies\, decorations and much more. 🥚🐣 \nTo purchase a Stock Yards Village gift card\, visit the gift card kiosk beside Firehouse Subs or use promo code “BUNNY10” on stockyardsvillage.com.
URL:https://neighbur.net/event/easter-gift-card-bonus-event-with-stock-yards-village/2024-03-15/
LOCATION:Stock Yards Village\, 1980 St Clair Ave West\, Toronto
ATTACH;FMTTYPE=image/jpeg:https://neighbur.net/wp-content/uploads/2024/03/SYV-Easter-2024-GC-Bonus-Event_social.jpg
END:VEVENT
BEGIN:VEVENT
DTSTART;TZID=America/Toronto:20240308T040000
DTEND;TZID=America/Toronto:20240309T035959
DTSTAMP:20260423T190915
CREATED:20240306T220723Z
LAST-MODIFIED:20240306T220724Z
UID:10027511-1709870400-1709956799@neighbur.net
SUMMARY:Easter Gift Card Bonus Event With Stock Yards Village
DESCRIPTION:Hop into Easter with our egg-citing Easter Gift Card Bonus Event. March 8-31: buy a $50 Stock Yards Village gift card and get a $10 bonus gift card until March 31. 🐰🙌 \nThese gift cards will make the perfect gifts for your loved ones\, or yourself. This card is loaded with potential – get your Easter chocolate\, candies\, decorations and much more. 🥚🐣 \nTo purchase a Stock Yards Village gift card\, visit the gift card kiosk beside Firehouse Subs or use promo code “BUNNY10” on stockyardsvillage.com.
URL:https://neighbur.net/event/easter-gift-card-bonus-event-with-stock-yards-village/2024-03-08/
LOCATION:Stock Yards Village\, 1980 St Clair Ave West\, Toronto
ATTACH;FMTTYPE=image/jpeg:https://neighbur.net/wp-content/uploads/2024/03/SYV-Easter-2024-GC-Bonus-Event_social.jpg
END:VEVENT
BEGIN:VEVENT
DTSTART;TZID=America/Toronto:20240307T100000
DTEND;TZID=America/Toronto:20240310T170000
DTSTAMP:20260423T190915
CREATED:20240306T195634Z
LAST-MODIFIED:20240306T195635Z
UID:10027505-1709805600-1710090000@neighbur.net
SUMMARY:TELUS | Koodo Now Open
DESCRIPTION:TELUS | Koodo is now open at 1980 St. Clair Avenue West\, Unit A111 located beside Popeye’s Supplements and C Wave Optical. \n\nTELUS and Koodo Mobile store offering the latest PHONES\, PLANS\, SERVICE\, & ACCESSORIES on TELUS and Koodo Mobile. TELUS Online Security\, TELUS SmartHome Security\, TELUS Secure Business\, Stream+\, Koodo Internet also available here. TELUS is Canada’s #1 ranked wireless network for overall quality and speeds.\n\nHours of Operation:\nMonday – Friday: 10 AM – 7 PM\nSaturday: 10 AM – 6 PM\nSunday: 11 AM – 5 PM
URL:https://neighbur.net/event/telus-koodo-now-open/
LOCATION:Stock Yards Village\, 1980 St Clair Ave West\, Toronto
ATTACH;FMTTYPE=image/jpeg:https://neighbur.net/wp-content/uploads/2024/03/TelusKoodo_NewOpening-webslider.jpg
END:VEVENT
BEGIN:VEVENT
DTSTART;TZID=America/Toronto:20231230T120000
DTEND;TZID=America/Toronto:20231230T170000
DTSTAMP:20260423T190915
CREATED:20231118T011257Z
LAST-MODIFIED:20231211T135949Z
UID:10021237-1703937600-1703955600@neighbur.net
SUMMARY:Marry Me Mochi Grand Opening In Stock Yards Village
DESCRIPTION:In the heart of Stockyards Village\, North York\, ON\, a new culinary sensation is set to tantalize taste buds. Marry Me Mochi\, located at 1980 St Clair Ave W unit #127A\, is not just another donut shop; it’s a adventure that promises the experience of “Love at First Bite.” This family-owned business\, run by four sisters\, is the talk of the town\, with a grand opening slated for December 9th\, 2023\, at 12pm.\nMarry Me Mochi has already created a buzz in the city\, becoming a sensation at every food festival they’ve graced. Their unique mochi donuts have people lining up for hours\, undeterred by weather\, just for a taste of these cant have enough of treats. What sets Marry Me Mochi apart is their innovative fusion of Japanese and Hawaiian mochi donut traditions\, resulting in a perfect blend of soft\, crispy\, and chewy textures that make it so much more than your average donut. \nDon’t miss out on December 9th at 12pm as the first 10 customers will receive a free box of mochi donuts. Moreover\, the first 100 guests will enjoy a one day only 50% off discount. Everybody in line gets a chance to win a 65” tv & free photo studio hours at Timeless Tree Studios. To add to the festivities\, a photo booth will be available for all guests\, ensuring a day filled with fun\, memories\, and your newest addiction.\nThe secret to their success lies in their special recipe\, a carefully guarded family treasure that has been fine-tuned to perfection. Each donut is a testament to the sisters’ dedication in creating a product that is not just food\, but an experience. Their mission is simple: to make donuts so irresistibly good that customers undeniably fall in love at first bite. Order today at www.marrymemochi.ca
URL:https://neighbur.net/event/marry-me-mochi-grand-opening-in-stock-yards-village/
LOCATION:Stock Yards Village\, 1980 St Clair Ave West\, Toronto
ATTACH;FMTTYPE=image/jpeg:https://neighbur.net/wp-content/uploads/2023/11/Marry-Me-Mochi_food_DSCF8749_resized.jpg
END:VEVENT
BEGIN:VEVENT
DTSTART;TZID=America/Toronto:20231213T120000
DTEND;TZID=America/Toronto:20231222T140000
DTSTAMP:20260423T190915
CREATED:20231213T155413Z
LAST-MODIFIED:20231215T163634Z
UID:10021578-1702468800-1703253600@neighbur.net
SUMMARY:Meet Santa and The Grinch at Stock Yards Village
DESCRIPTION:Have you been naughty or nice? Meet “Strolling Santa & The Grinch” at Stock Yards Village every Monday-Friday until December 22. From 12- 2 p.m.  Visit Santa Claus and The Grinch for a meet & greet\, handing out candy canes to children and taking photos with our customers at our property. The best part is that it is a pet-friendly event.
URL:https://neighbur.net/event/meet-santa-and-the-grinch-at-stock-yards-village-2/2023-12-13/2/
LOCATION:Stock Yards Village\, 1980 St Clair Ave West\, Toronto
ATTACH;FMTTYPE=image/jpeg:https://neighbur.net/wp-content/uploads/2023/12/DSC_0020-Copy-15_LR.jpg
END:VEVENT
BEGIN:VEVENT
DTSTART;TZID=America/Toronto:20231213T080000
DTEND;TZID=America/Toronto:20231213T170000
DTSTAMP:20260423T190915
CREATED:20231213T155413Z
LAST-MODIFIED:20231215T163634Z
UID:10021577-1702454400-1702486800@neighbur.net
SUMMARY:Meet Santa and The Grinch at Stock Yards Village
DESCRIPTION:Have you been naughty or nice? Meet “Strolling Santa & The Grinch” at Stock Yards Village every Monday-Friday until December 22. From 12- 2 p.m.  Visit Santa Claus and The Grinch for a meet & greet\, handing out candy canes to children and taking photos with our customers at our property. The best part is that it is a pet-friendly event.
URL:https://neighbur.net/event/meet-santa-and-the-grinch-at-stock-yards-village-2/2023-12-13/1/
LOCATION:Stock Yards Village\, 1980 St Clair Ave West\, Toronto
ATTACH;FMTTYPE=image/jpeg:https://neighbur.net/wp-content/uploads/2023/12/DSC_0020-Copy-15_LR.jpg
END:VEVENT
BEGIN:VEVENT
DTSTART;TZID=America/Toronto:20231029T150000
DTEND;TZID=America/Toronto:20231029T163000
DTSTAMP:20260423T190915
CREATED:20231021T011141Z
LAST-MODIFIED:20231021T011142Z
UID:10021118-1698591600-1698597000@neighbur.net
SUMMARY:CAAIF ANNUAL HALLOWEEN TRUNK OR TREAT: OCTOBER 29
DESCRIPTION:Stock Yards Village | CAAIF Annual Halloween Trunk or Treat: Sunday\, October 29 from 3-4:30 p.m in Parkade C Level 2.  \nFree event\nGet dressed up and go from car to car for food-free surprises in every trunk.\nCrafts\, games and prizes\nDonations accepted
URL:https://neighbur.net/event/caaif-annual-halloween-trunk-or-treat-october-29/
LOCATION:Stock Yards Village\, 1980 St Clair Ave West\, Toronto
ATTACH;FMTTYPE=image/jpeg:https://neighbur.net/wp-content/uploads/2023/10/CAAIF-Halloween-2023-social.jpg
END:VEVENT
BEGIN:VEVENT
DTSTART;TZID=America/Toronto:20231029T110000
DTEND;TZID=America/Toronto:20231029T180000
DTSTAMP:20260423T190915
CREATED:20231021T011208Z
LAST-MODIFIED:20231021T011209Z
UID:10021120-1698577200-1698602400@neighbur.net
SUMMARY:68TH TORONTO SCOUTS APPLE DAY: OCTOBER 28-29
DESCRIPTION:68th Toronto Scouts is back for its annual fundraising event – Apple Day on October 28-29 at Stock Yards Village. \nSaturday\, October 28 from 10 a.m. – 6 p.m.\nSunday\, October 29 from 11 a.m. – 6 p.m. \nSupport our youth by making a donation with 100% of the proceeds to help with camps and engaging activities. Come support your local group and leave a delicious apple as a thank you. We will be at three locations to collect donations: \nLocations: \nParkade A Level 2 (bridge near Michaels on top level)\nParkade C Level 2 (nearby Winners on top level)\nSidewalk on Level 1 (nearby Philthy Philly’s)
URL:https://neighbur.net/event/68th-toronto-scouts-apple-day-october-28-29/2023-10-29/
LOCATION:Stock Yards Village\, 1980 St Clair Ave West\, Toronto
ATTACH;FMTTYPE=image/jpeg:https://neighbur.net/wp-content/uploads/2023/10/68th-Toronto-Scouts-Apple-Day-2023-social.jpg
END:VEVENT
BEGIN:VEVENT
DTSTART;TZID=America/Toronto:20231028T100000
DTEND;TZID=America/Toronto:20231028T180000
DTSTAMP:20260423T190915
CREATED:20231021T011208Z
LAST-MODIFIED:20231021T011209Z
UID:10021119-1698487200-1698516000@neighbur.net
SUMMARY:68TH TORONTO SCOUTS APPLE DAY: OCTOBER 28-29
DESCRIPTION:68th Toronto Scouts is back for its annual fundraising event – Apple Day on October 28-29 at Stock Yards Village. \nSaturday\, October 28 from 10 a.m. – 6 p.m.\nSunday\, October 29 from 11 a.m. – 6 p.m. \nSupport our youth by making a donation with 100% of the proceeds to help with camps and engaging activities. Come support your local group and leave a delicious apple as a thank you. We will be at three locations to collect donations: \nLocations: \nParkade A Level 2 (bridge near Michaels on top level)\nParkade C Level 2 (nearby Winners on top level)\nSidewalk on Level 1 (nearby Philthy Philly’s)
URL:https://neighbur.net/event/68th-toronto-scouts-apple-day-october-28-29/2023-10-28/
LOCATION:Stock Yards Village\, 1980 St Clair Ave West\, Toronto
ATTACH;FMTTYPE=image/jpeg:https://neighbur.net/wp-content/uploads/2023/10/68th-Toronto-Scouts-Apple-Day-2023-social.jpg
END:VEVENT
BEGIN:VEVENT
DTSTART;TZID=America/Toronto:20231021T110000
DTEND;TZID=America/Toronto:20231021T160000
DTSTAMP:20260423T190915
CREATED:20231021T011120Z
LAST-MODIFIED:20231021T011121Z
UID:10021117-1697886000-1697904000@neighbur.net
SUMMARY:THE MOM MARKET TORONTO WEST: OCTOBER 21
DESCRIPTION:Stock Yards Village | The Mom Market Toronto West x Pear Tree & Co. presents the Pear Tree Marketplace on Saturday\, October 21 from 11 a.m. to 4 p.m. near Dollarama and Bulk Barn.  \n40+ vendors\nKids corner\nFree face painting for kids\nGiveaways
URL:https://neighbur.net/event/the-mom-market-toronto-west-october-21/
LOCATION:Stock Yards Village\, 1980 St Clair Ave West\, Toronto
ATTACH;FMTTYPE=image/jpeg:https://neighbur.net/wp-content/uploads/2023/10/Mom-Market-Oct-21-social3.jpg
END:VEVENT
BEGIN:VEVENT
DTSTART;TZID=America/Toronto:20231020T040000
DTEND;TZID=America/Toronto:20231102T035959
DTSTAMP:20260423T190915
CREATED:20231021T011053Z
LAST-MODIFIED:20231021T011054Z
UID:10021116-1697774400-1698897599@neighbur.net
SUMMARY:HALLOWEEN COSTUME & DECORATING CONTEST AT STOCK YARDS VILLAGE
DESCRIPTION:October 13  – 31 | Stock Yards Village  \nFollow and tag @stockyardsvillage on Instagram in your Halloween costume or decor photo for a chance to win a $200 e-gift card to a Stock Yards Village tenant of your choice. Don’t forget to dress up your fur baby. Visit our website stockyardsvillage.com for more details.
URL:https://neighbur.net/event/halloween-costume-decorating-contest-at-stock-yards-village/
LOCATION:Stock Yards Village\, 1980 St Clair Ave West\, Toronto
ATTACH;FMTTYPE=image/jpeg:https://neighbur.net/wp-content/uploads/2023/10/2023SYVHalloween_social.jpg
END:VEVENT
BEGIN:VEVENT
DTSTART;TZID=America/Toronto:20231020T040000
DTEND;TZID=America/Toronto:20231102T035959
DTSTAMP:20260423T190915
CREATED:20231021T011003Z
LAST-MODIFIED:20231021T011004Z
UID:10021115-1697774400-1698897599@neighbur.net
SUMMARY:POPEYE’S SUPPLEMENTS: NOW OPEN
DESCRIPTION:Popeye’s Supplements is now open beside Snuggle Bugz at Stock Yards Village. Fall into health with Canada’s largest sports nutrition retailer. Shop low prices on a huge selection of health supplements and nutrition products.
URL:https://neighbur.net/event/popeyes-supplements-now-open/
LOCATION:Stock Yards Village\, 1980 St Clair Ave West\, Toronto
ATTACH;FMTTYPE=image/jpeg:https://neighbur.net/wp-content/uploads/2023/10/SYV-Popeyes-Now-Open-social.jpg
END:VEVENT
BEGIN:VEVENT
DTSTART;TZID=America/Toronto:20230819T110000
DTEND;TZID=America/Toronto:20230819T160000
DTSTAMP:20260423T190915
CREATED:20230802T193442Z
LAST-MODIFIED:20230802T193442Z
UID:10017649-1692442800-1692460800@neighbur.net
SUMMARY:SummerScape Rooftop Market on August 19
DESCRIPTION:Shop Bella Markets presents SumemrScape Rooftop Getaway Market on Saturday\, August 19 from 11 a.m. to 6 p.m.  \nLocation: On the Upper Deck of the Winner/HomeSense/Linen Chest Parking Garage. \nMark your calendar for the SummerScape Rooftop market to eat and shop locally with handmade goods\, candles\, jewelry\, crystals & metaphysical items\, bath & spa goods\, and many more hosted by ShopBellaMarkets.
URL:https://neighbur.net/event/summerscape-rooftop-market-on-august-19/
LOCATION:Stock Yards Village\, 1980 St Clair Ave West\, Toronto
ATTACH;FMTTYPE=image/jpeg:https://neighbur.net/wp-content/uploads/2023/08/ShopBellaMarket-Aug-19-webslider.jpg
END:VEVENT
BEGIN:VEVENT
DTSTART;TZID=America/Toronto:20230813T110000
DTEND;TZID=America/Toronto:20230813T160000
DTSTAMP:20260423T190915
CREATED:20230802T193236Z
LAST-MODIFIED:20230802T193237Z
UID:10017648-1691924400-1691942400@neighbur.net
SUMMARY:The Mom Market Toronto West Market on August 13
DESCRIPTION:The Mom Market Toronto West x Pear Tree & Co. presents the Pear Tree Marketplace on Sunday\, August 13 from 11 a.m. to 4 p.m. near Dollarama and Bulk Barn.  \n40+ vendors\nKids corner\nFree face painting for kids\nGiveaways
URL:https://neighbur.net/event/the-mom-market-toronto-west-market-on-august-13/
LOCATION:Stock Yards Village\, 1980 St Clair Ave West\, Toronto
ATTACH;FMTTYPE=image/jpeg:https://neighbur.net/wp-content/uploads/2023/08/Mom-Market-Aug-13-webslider2.jpg
END:VEVENT
BEGIN:VEVENT
DTSTART;TZID=America/Toronto:20230729T120000
DTEND;TZID=America/Toronto:20230729T150000
DTSTAMP:20260423T190915
CREATED:20230726T005831Z
LAST-MODIFIED:20230726T005832Z
UID:10017633-1690632000-1690642800@neighbur.net
SUMMARY:Campus Thrift Clothing Swap
DESCRIPTION:Join us for a neighbourhood Clothing Swap hosted by @campusthriftca and @livegreento on Saturday\, July 29 from 12 – 3 p.m. located beside Ardene. \nGet your free ticket on Eventbrite or visit our website at stockyardsvillage.com.  \n👕 👖 👗 Bring up to 10 gently used clothing items and swapped for any of the items at the event. At the clothing swap\, you’ll find a wide variety of clothing options for all genders and styles. \n🎟️ Free admission and tickets are available via Eventbrite. Don’t miss out on the chance to revamp your style and connect with fellow fashion lovers. \n🌎 This project is supported by the City of Toronto through Live Green Toronto and the Neighbourhood Climate Action Champions Program.
URL:https://neighbur.net/event/campus-thrift-clothing-swap/
LOCATION:Stock Yards Village\, 1980 St Clair Ave West\, Toronto
ATTACH;FMTTYPE=image/jpeg:https://neighbur.net/wp-content/uploads/2023/07/Campus-Thrift_social.jpg
END:VEVENT
BEGIN:VEVENT
DTSTART;TZID=America/Toronto:20230708T110000
DTEND;TZID=America/Toronto:20230708T150000
DTSTAMP:20260423T190915
CREATED:20230619T172442Z
LAST-MODIFIED:20230619T172443Z
UID:10016715-1688814000-1688828400@neighbur.net
SUMMARY:Royal LePage: 110th's Anniversary Community Fun Fair
DESCRIPTION:Join us in celebrating Royal LePage Canada’s 110th Anniversary on July 8 from 11 a.m. to 3 p.m. at 110 Weston Road. \nA free event for all. Enjoy the following activities:  \nBBQ (burgers\, hot dogs\, and more)\nCotton Candy\nFace Painting\nBalloon Twister\nMario and Luigi Characters\nCaricature Artist\nIce Cream Truck from 12 p.m. to 1 p.m.\nMusic\nLoot bag for kids*\n*While quantities last.
URL:https://neighbur.net/event/royal-lepage-110ths-anniversary-community-fun-fair/
LOCATION:Stock Yards Village\, 1980 St Clair Ave West\, Toronto
ATTACH;FMTTYPE=image/jpeg:https://neighbur.net/wp-content/uploads/2023/06/DNU-RLSP-Community-Fair_event.jpg
ORGANIZER;CN="Royal LePage Supreme Realty":MAILTO:rlpsupreme@royallepage.ca
END:VEVENT
BEGIN:VEVENT
DTSTART;TZID=America/Toronto:20230624T110000
DTEND;TZID=America/Toronto:20230624T150000
DTSTAMP:20260423T190916
CREATED:20230526T181613Z
LAST-MODIFIED:20230526T205507Z
UID:10016342-1687604400-1687618800@neighbur.net
SUMMARY:Pan Fantasy Steel Band on June 24
DESCRIPTION:Enjoy this free one-day event at Stock Yards Village.  \nOne day only: Saturday\, June 24.\nTime: 11 a.m. to 3 p.m.\nLocation: Near Marshalls \nEnjoy the award-winning sound of Pan Fantasy Steel Band of (N.Y.I.C.Y.G) on June 24 from 11 a.m. to 3 p.m. near Marshalls.  \nAbout North York Inter Community Youth Group: \nNYICYG\, a non-profit organization that has been in existence for thirty-five years. We were established by a group of community minded individuals who saw an urgent need to guide and mentor youth and provide support as they develop their leadership skills through involvement in the performing arts. \nVisit https://panfantasysteelband.com/ to learn more.
URL:https://neighbur.net/event/pan-fantasy-steel-band-on-june-24/
LOCATION:Stock Yards Village\, 1980 St Clair Ave West\, Toronto
ATTACH;FMTTYPE=image/jpeg:https://neighbur.net/wp-content/uploads/2023/05/PanFantasy01.jpg
END:VEVENT
BEGIN:VEVENT
DTSTART;TZID=America/Toronto:20230623T120000
DTEND;TZID=America/Toronto:20230625T180000
DTSTAMP:20260423T190916
CREATED:20230526T181759Z
LAST-MODIFIED:20230526T205524Z
UID:10016344-1687521600-1687716000@neighbur.net
SUMMARY:BeaverTails Pop-Up Mobile: June 23-25
DESCRIPTION:BeaverTails will be doing a mobile pop-up at Stock Yards Village from June 23 to 25 in front of Nations. Stop by for delicious BeaverTails pastries\, treats and drinks.  \nFriday\, June 23: 12 p.m. – 8 p.m.\nSaturday\, June 24: 12 p.m. – 6 p.m.\nSunday\, June 25: 12 p.m. – 6 p.m.\nVisit BeaverTails Facebook @BeaverTails and Instagram @BeaverTails.
URL:https://neighbur.net/event/beavertails-pop-up-mobile-june-23-25/2023-06-23/2/
LOCATION:Stock Yards Village\, 1980 St Clair Ave West\, Toronto
ATTACH;FMTTYPE=image/jpeg:https://neighbur.net/wp-content/uploads/2023/05/PAT8313.jpg
END:VEVENT
BEGIN:VEVENT
DTSTART;TZID=America/Toronto:20230623T080000
DTEND;TZID=America/Toronto:20230623T170000
DTSTAMP:20260423T190916
CREATED:20230526T181759Z
LAST-MODIFIED:20230526T205524Z
UID:10016343-1687507200-1687539600@neighbur.net
SUMMARY:BeaverTails Pop-Up Mobile: June 23-25
DESCRIPTION:BeaverTails will be doing a mobile pop-up at Stock Yards Village from June 23 to 25 in front of Nations. Stop by for delicious BeaverTails pastries\, treats and drinks.  \nFriday\, June 23: 12 p.m. – 8 p.m.\nSaturday\, June 24: 12 p.m. – 6 p.m.\nSunday\, June 25: 12 p.m. – 6 p.m.\nVisit BeaverTails Facebook @BeaverTails and Instagram @BeaverTails.
URL:https://neighbur.net/event/beavertails-pop-up-mobile-june-23-25/2023-06-23/1/
LOCATION:Stock Yards Village\, 1980 St Clair Ave West\, Toronto
ATTACH;FMTTYPE=image/jpeg:https://neighbur.net/wp-content/uploads/2023/05/PAT8313.jpg
END:VEVENT
BEGIN:VEVENT
DTSTART;TZID=America/Toronto:20230601T090000
DTEND;TZID=America/Toronto:20230604T190000
DTSTAMP:20260423T190916
CREATED:20230526T181409Z
LAST-MODIFIED:20230529T133745Z
UID:10016341-1685610000-1685905200@neighbur.net
SUMMARY:Healthy Planet: Healthy Days
DESCRIPTION:Healthy Days from June 1 to 4: 15 to 60% off the entire store. \nIn-store contest: Enter to win a Vitamix or Dyson Hair Dryer or a gift basket. \nVisit Healthyplanetcanada.com to shop online. \nCheck out their Facebook @healthyplanetstore and Instagram @healthyplanet.
URL:https://neighbur.net/event/healthy-planet-healthy-days/
LOCATION:Stock Yards Village\, 1980 St Clair Ave West\, Toronto
ATTACH;FMTTYPE=image/jpeg:https://neighbur.net/wp-content/uploads/2023/05/Artwork_HP-CA-Poster-2x3-F-scaled.jpg
END:VEVENT
BEGIN:VEVENT
DTSTART;TZID=America/Toronto:20230506T080000
DTEND;TZID=America/Toronto:20230515T220000
DTSTAMP:20260423T190916
CREATED:20230417T185238Z
LAST-MODIFIED:20230417T185308Z
UID:10014789-1683360000-1684188000@neighbur.net
SUMMARY:Mother’s Day Photo Contest at Stock Yards Village
DESCRIPTION:Visit Stock Yards Village\, find our photo booth display\, take a photo with mom and tag us for a chance to win a $250 gift card.
URL:https://neighbur.net/event/mothers-day-photo-contest-at-stock-yards-village/
LOCATION:Stock Yards Village\, 1980 St Clair Ave West\, Toronto
END:VEVENT
BEGIN:VEVENT
DTSTART;TZID=America/Toronto:20230411T090000
DTEND;TZID=America/Toronto:20230411T210000
DTSTAMP:20260423T190916
CREATED:20230324T162023Z
LAST-MODIFIED:20230324T162024Z
UID:10014061-1681203600-1681246800@neighbur.net
SUMMARY:Easter Bunny Contest at Stock Yards Village
DESCRIPTION:
URL:https://neighbur.net/event/easter-bunny-contest-at-stock-yards-village-2/2023-04-11/
LOCATION:Stock Yards Village\, 1980 St Clair Ave West\, Toronto
END:VEVENT
BEGIN:VEVENT
DTSTART;TZID=America/Toronto:20230410T090000
DTEND;TZID=America/Toronto:20230410T210000
DTSTAMP:20260423T190916
CREATED:20230324T162023Z
LAST-MODIFIED:20230324T162024Z
UID:10014060-1681117200-1681160400@neighbur.net
SUMMARY:Easter Bunny Contest at Stock Yards Village
DESCRIPTION:
URL:https://neighbur.net/event/easter-bunny-contest-at-stock-yards-village-2/2023-04-10/
LOCATION:Stock Yards Village\, 1980 St Clair Ave West\, Toronto
END:VEVENT
BEGIN:VEVENT
DTSTART;TZID=America/Toronto:20230409T090000
DTEND;TZID=America/Toronto:20230409T210000
DTSTAMP:20260423T190916
CREATED:20230324T162023Z
LAST-MODIFIED:20230324T162024Z
UID:10014059-1681030800-1681074000@neighbur.net
SUMMARY:Easter Bunny Contest at Stock Yards Village
DESCRIPTION:
URL:https://neighbur.net/event/easter-bunny-contest-at-stock-yards-village-2/2023-04-09/
LOCATION:Stock Yards Village\, 1980 St Clair Ave West\, Toronto
END:VEVENT
BEGIN:VEVENT
DTSTART;TZID=America/Toronto:20230408T090000
DTEND;TZID=America/Toronto:20230408T210000
DTSTAMP:20260423T190916
CREATED:20230324T162023Z
LAST-MODIFIED:20230324T162024Z
UID:10014058-1680944400-1680987600@neighbur.net
SUMMARY:Easter Bunny Contest at Stock Yards Village
DESCRIPTION:
URL:https://neighbur.net/event/easter-bunny-contest-at-stock-yards-village-2/2023-04-08/
LOCATION:Stock Yards Village\, 1980 St Clair Ave West\, Toronto
END:VEVENT
END:VCALENDAR