BEGIN:VCALENDAR
VERSION:2.0
PRODID:-//Neighbur - ECPv6.15.20//NONSGML v1.0//EN
CALSCALE:GREGORIAN
METHOD:PUBLISH
X-ORIGINAL-URL:https://neighbur.net
X-WR-CALDESC:Events for Neighbur
REFRESH-INTERVAL;VALUE=DURATION:PT1H
X-Robots-Tag:noindex
X-PUBLISHED-TTL:PT1H
BEGIN:VTIMEZONE
TZID:America/Toronto
BEGIN:DAYLIGHT
TZOFFSETFROM:-0500
TZOFFSETTO:-0400
TZNAME:EDT
DTSTART:20220313T070000
END:DAYLIGHT
BEGIN:STANDARD
TZOFFSETFROM:-0400
TZOFFSETTO:-0500
TZNAME:EST
DTSTART:20221106T060000
END:STANDARD
BEGIN:DAYLIGHT
TZOFFSETFROM:-0500
TZOFFSETTO:-0400
TZNAME:EDT
DTSTART:20230312T070000
END:DAYLIGHT
BEGIN:STANDARD
TZOFFSETFROM:-0400
TZOFFSETTO:-0500
TZNAME:EST
DTSTART:20231105T060000
END:STANDARD
BEGIN:DAYLIGHT
TZOFFSETFROM:-0500
TZOFFSETTO:-0400
TZNAME:EDT
DTSTART:20240310T070000
END:DAYLIGHT
BEGIN:STANDARD
TZOFFSETFROM:-0400
TZOFFSETTO:-0500
TZNAME:EST
DTSTART:20241103T060000
END:STANDARD
END:VTIMEZONE
BEGIN:VEVENT
DTSTART;TZID=America/Toronto:20230321T090000
DTEND;TZID=America/Toronto:20230321T210000
DTSTAMP:20260423T203956
CREATED:20230324T162023Z
LAST-MODIFIED:20230324T162024Z
UID:10014040-1679389200-1679432400@neighbur.net
SUMMARY:Easter Bunny Contest at Stock Yards Village
DESCRIPTION:
URL:https://neighbur.net/event/easter-bunny-contest-at-stock-yards-village-2/2023-03-21/
LOCATION:Stock Yards Village\, 1980 St Clair Ave West\, Toronto
END:VEVENT
BEGIN:VEVENT
DTSTART;TZID=America/Toronto:20230320T090000
DTEND;TZID=America/Toronto:20230320T210000
DTSTAMP:20260423T203956
CREATED:20230324T162023Z
LAST-MODIFIED:20230324T162024Z
UID:10014039-1679302800-1679346000@neighbur.net
SUMMARY:Easter Bunny Contest at Stock Yards Village
DESCRIPTION:
URL:https://neighbur.net/event/easter-bunny-contest-at-stock-yards-village-2/2023-03-20/
LOCATION:Stock Yards Village\, 1980 St Clair Ave West\, Toronto
END:VEVENT
BEGIN:VEVENT
DTSTART;TZID=America/Toronto:20230320T080000
DTEND;TZID=America/Toronto:20230320T200000
DTSTAMP:20260423T203956
CREATED:20230131T150953Z
LAST-MODIFIED:20230131T150954Z
UID:10012498-1679299200-1679342400@neighbur.net
SUMMARY:Walk-In Vaccine & Immunization Clinic at Stock Yards Village
DESCRIPTION:New location for Pop-Up Vaccination Clinic as of November 1\, 2022. The pop-up clinic will operate until March 31\, 2023. \n\n\n\nVaccination clinic is located on the main level beside Ardene in Unit #A127.The address is 1980 St Clair Av. West\, Building A. \n\n\n\nThe clinic is hosted by City of Toronto on Thursday\, Friday and Saturday.  \n\n\n\nHost – Toronto Public Health: \n\n\n\nCovid-19 vaccine available. 1st\, 2nd\, and booster (including bivalent). COVID-19 doses are available to eligible residents aged five and up.Flu vaccines are available for eligible residents aged five and up.Walk-ins are welcome.Health card is not needed.Click here for more information.Toronto Public Health Clinic Hours: \n\n\n\nThursday: 1:00 p.m. to 8:00 p.m.Friday: 1:00 p.m. to 8:00 p.m.Saturday: 11:00 a.m. to 6:00 p.m.
URL:https://neighbur.net/event/walk-in-vaccine-immunization-clinic-at-stock-yards-village-3/2023-03-20/
LOCATION:Stock Yards Village\, 1980 St Clair Ave West\, Toronto
ATTACH;FMTTYPE=image/jpeg:https://neighbur.net/wp-content/uploads/2023/01/COVID19Clinic-1.jpeg
END:VEVENT
BEGIN:VEVENT
DTSTART;TZID=America/Toronto:20230319T090000
DTEND;TZID=America/Toronto:20230319T210000
DTSTAMP:20260423T203956
CREATED:20230324T162023Z
LAST-MODIFIED:20230324T162024Z
UID:10014038-1679216400-1679259600@neighbur.net
SUMMARY:Easter Bunny Contest at Stock Yards Village
DESCRIPTION:
URL:https://neighbur.net/event/easter-bunny-contest-at-stock-yards-village-2/2023-03-19/
LOCATION:Stock Yards Village\, 1980 St Clair Ave West\, Toronto
END:VEVENT
BEGIN:VEVENT
DTSTART;TZID=America/Toronto:20230318T090000
DTEND;TZID=America/Toronto:20230318T210000
DTSTAMP:20260423T203956
CREATED:20230324T162023Z
LAST-MODIFIED:20230324T162024Z
UID:10014037-1679130000-1679173200@neighbur.net
SUMMARY:Easter Bunny Contest at Stock Yards Village
DESCRIPTION:
URL:https://neighbur.net/event/easter-bunny-contest-at-stock-yards-village-2/2023-03-18/
LOCATION:Stock Yards Village\, 1980 St Clair Ave West\, Toronto
END:VEVENT
BEGIN:VEVENT
DTSTART;TZID=America/Toronto:20230317T090000
DTEND;TZID=America/Toronto:20230317T210000
DTSTAMP:20260423T203956
CREATED:20230324T162023Z
LAST-MODIFIED:20230324T162024Z
UID:10014036-1679043600-1679086800@neighbur.net
SUMMARY:Easter Bunny Contest at Stock Yards Village
DESCRIPTION:
URL:https://neighbur.net/event/easter-bunny-contest-at-stock-yards-village-2/2023-03-17/
LOCATION:Stock Yards Village\, 1980 St Clair Ave West\, Toronto
END:VEVENT
BEGIN:VEVENT
DTSTART;TZID=America/Toronto:20230317T080000
DTEND;TZID=America/Toronto:20230317T200000
DTSTAMP:20260423T203956
CREATED:20230131T150953Z
LAST-MODIFIED:20230131T150954Z
UID:10012497-1679040000-1679083200@neighbur.net
SUMMARY:Walk-In Vaccine & Immunization Clinic at Stock Yards Village
DESCRIPTION:New location for Pop-Up Vaccination Clinic as of November 1\, 2022. The pop-up clinic will operate until March 31\, 2023. \n\n\n\nVaccination clinic is located on the main level beside Ardene in Unit #A127.The address is 1980 St Clair Av. West\, Building A. \n\n\n\nThe clinic is hosted by City of Toronto on Thursday\, Friday and Saturday.  \n\n\n\nHost – Toronto Public Health: \n\n\n\nCovid-19 vaccine available. 1st\, 2nd\, and booster (including bivalent). COVID-19 doses are available to eligible residents aged five and up.Flu vaccines are available for eligible residents aged five and up.Walk-ins are welcome.Health card is not needed.Click here for more information.Toronto Public Health Clinic Hours: \n\n\n\nThursday: 1:00 p.m. to 8:00 p.m.Friday: 1:00 p.m. to 8:00 p.m.Saturday: 11:00 a.m. to 6:00 p.m.
URL:https://neighbur.net/event/walk-in-vaccine-immunization-clinic-at-stock-yards-village-3/2023-03-17/
LOCATION:Stock Yards Village\, 1980 St Clair Ave West\, Toronto
ATTACH;FMTTYPE=image/jpeg:https://neighbur.net/wp-content/uploads/2023/01/COVID19Clinic-1.jpeg
END:VEVENT
BEGIN:VEVENT
DTSTART;TZID=America/Toronto:20230316T090000
DTEND;TZID=America/Toronto:20230316T210000
DTSTAMP:20260423T203956
CREATED:20230324T162023Z
LAST-MODIFIED:20230324T162024Z
UID:10014035-1678957200-1679000400@neighbur.net
SUMMARY:Easter Bunny Contest at Stock Yards Village
DESCRIPTION:
URL:https://neighbur.net/event/easter-bunny-contest-at-stock-yards-village-2/2023-03-16/
LOCATION:Stock Yards Village\, 1980 St Clair Ave West\, Toronto
END:VEVENT
BEGIN:VEVENT
DTSTART;TZID=America/Toronto:20230315T090000
DTEND;TZID=America/Toronto:20230315T210000
DTSTAMP:20260423T203956
CREATED:20230324T162023Z
LAST-MODIFIED:20230324T162024Z
UID:10014034-1678870800-1678914000@neighbur.net
SUMMARY:Easter Bunny Contest at Stock Yards Village
DESCRIPTION:
URL:https://neighbur.net/event/easter-bunny-contest-at-stock-yards-village-2/2023-03-15/
LOCATION:Stock Yards Village\, 1980 St Clair Ave West\, Toronto
END:VEVENT
BEGIN:VEVENT
DTSTART;TZID=America/Toronto:20230314T090000
DTEND;TZID=America/Toronto:20230314T210000
DTSTAMP:20260423T203956
CREATED:20230324T162023Z
LAST-MODIFIED:20230324T162024Z
UID:10014033-1678784400-1678827600@neighbur.net
SUMMARY:Easter Bunny Contest at Stock Yards Village
DESCRIPTION:
URL:https://neighbur.net/event/easter-bunny-contest-at-stock-yards-village-2/2023-03-14/
LOCATION:Stock Yards Village\, 1980 St Clair Ave West\, Toronto
END:VEVENT
BEGIN:VEVENT
DTSTART;TZID=America/Toronto:20230314T080000
DTEND;TZID=America/Toronto:20230314T200000
DTSTAMP:20260423T203956
CREATED:20230131T150953Z
LAST-MODIFIED:20230131T150954Z
UID:10012496-1678780800-1678824000@neighbur.net
SUMMARY:Walk-In Vaccine & Immunization Clinic at Stock Yards Village
DESCRIPTION:New location for Pop-Up Vaccination Clinic as of November 1\, 2022. The pop-up clinic will operate until March 31\, 2023. \n\n\n\nVaccination clinic is located on the main level beside Ardene in Unit #A127.The address is 1980 St Clair Av. West\, Building A. \n\n\n\nThe clinic is hosted by City of Toronto on Thursday\, Friday and Saturday.  \n\n\n\nHost – Toronto Public Health: \n\n\n\nCovid-19 vaccine available. 1st\, 2nd\, and booster (including bivalent). COVID-19 doses are available to eligible residents aged five and up.Flu vaccines are available for eligible residents aged five and up.Walk-ins are welcome.Health card is not needed.Click here for more information.Toronto Public Health Clinic Hours: \n\n\n\nThursday: 1:00 p.m. to 8:00 p.m.Friday: 1:00 p.m. to 8:00 p.m.Saturday: 11:00 a.m. to 6:00 p.m.
URL:https://neighbur.net/event/walk-in-vaccine-immunization-clinic-at-stock-yards-village-3/2023-03-14/
LOCATION:Stock Yards Village\, 1980 St Clair Ave West\, Toronto
ATTACH;FMTTYPE=image/jpeg:https://neighbur.net/wp-content/uploads/2023/01/COVID19Clinic-1.jpeg
END:VEVENT
BEGIN:VEVENT
DTSTART;TZID=America/Toronto:20230313T090000
DTEND;TZID=America/Toronto:20230313T210000
DTSTAMP:20260423T203956
CREATED:20230324T162023Z
LAST-MODIFIED:20230324T162024Z
UID:10014032-1678698000-1678741200@neighbur.net
SUMMARY:Easter Bunny Contest at Stock Yards Village
DESCRIPTION:
URL:https://neighbur.net/event/easter-bunny-contest-at-stock-yards-village-2/2023-03-13/
LOCATION:Stock Yards Village\, 1980 St Clair Ave West\, Toronto
END:VEVENT
BEGIN:VEVENT
DTSTART;TZID=America/Toronto:20230312T090000
DTEND;TZID=America/Toronto:20230312T210000
DTSTAMP:20260423T203956
CREATED:20230324T162023Z
LAST-MODIFIED:20230324T162024Z
UID:10014031-1678611600-1678654800@neighbur.net
SUMMARY:Easter Bunny Contest at Stock Yards Village
DESCRIPTION:
URL:https://neighbur.net/event/easter-bunny-contest-at-stock-yards-village-2/2023-03-12/
LOCATION:Stock Yards Village\, 1980 St Clair Ave West\, Toronto
END:VEVENT
BEGIN:VEVENT
DTSTART;TZID=America/Toronto:20230311T110000
DTEND;TZID=America/Toronto:20230319T190000
DTSTAMP:20260423T203956
CREATED:20230310T202859Z
LAST-MODIFIED:20230310T202859Z
UID:10013456-1678532400-1679252400@neighbur.net
SUMMARY:March Break at Happy Kingdom Entertainment at Stock Yards
DESCRIPTION:Spend your March Break with family fun activities and entertainment at Happy Kingdom Entertainment Playground and Arcade. Open daily at 11 a.m. to 7 p.m. Daily and monthly passes\, and birthday parties are available. Located inside Nations Experience.
URL:https://neighbur.net/event/march-break-at-happy-kingdom-entertainment-at-stock-yards/
LOCATION:Stock Yards Village\, 1980 St Clair Ave West\, Toronto
END:VEVENT
BEGIN:VEVENT
DTSTART;TZID=America/Toronto:20230311T090000
DTEND;TZID=America/Toronto:20230311T210000
DTSTAMP:20260423T203956
CREATED:20230324T162023Z
LAST-MODIFIED:20230324T162024Z
UID:10014030-1678525200-1678568400@neighbur.net
SUMMARY:Easter Bunny Contest at Stock Yards Village
DESCRIPTION:
URL:https://neighbur.net/event/easter-bunny-contest-at-stock-yards-village-2/2023-03-11/
LOCATION:Stock Yards Village\, 1980 St Clair Ave West\, Toronto
END:VEVENT
BEGIN:VEVENT
DTSTART;TZID=America/Toronto:20230311T080000
DTEND;TZID=America/Toronto:20230311T200000
DTSTAMP:20260423T203956
CREATED:20230131T150953Z
LAST-MODIFIED:20230131T150954Z
UID:10012495-1678521600-1678564800@neighbur.net
SUMMARY:Walk-In Vaccine & Immunization Clinic at Stock Yards Village
DESCRIPTION:New location for Pop-Up Vaccination Clinic as of November 1\, 2022. The pop-up clinic will operate until March 31\, 2023. \n\n\n\nVaccination clinic is located on the main level beside Ardene in Unit #A127.The address is 1980 St Clair Av. West\, Building A. \n\n\n\nThe clinic is hosted by City of Toronto on Thursday\, Friday and Saturday.  \n\n\n\nHost – Toronto Public Health: \n\n\n\nCovid-19 vaccine available. 1st\, 2nd\, and booster (including bivalent). COVID-19 doses are available to eligible residents aged five and up.Flu vaccines are available for eligible residents aged five and up.Walk-ins are welcome.Health card is not needed.Click here for more information.Toronto Public Health Clinic Hours: \n\n\n\nThursday: 1:00 p.m. to 8:00 p.m.Friday: 1:00 p.m. to 8:00 p.m.Saturday: 11:00 a.m. to 6:00 p.m.
URL:https://neighbur.net/event/walk-in-vaccine-immunization-clinic-at-stock-yards-village-3/2023-03-11/
LOCATION:Stock Yards Village\, 1980 St Clair Ave West\, Toronto
ATTACH;FMTTYPE=image/jpeg:https://neighbur.net/wp-content/uploads/2023/01/COVID19Clinic-1.jpeg
END:VEVENT
BEGIN:VEVENT
DTSTART;TZID=America/Toronto:20230308T080000
DTEND;TZID=America/Toronto:20230308T200000
DTSTAMP:20260423T203956
CREATED:20230131T150953Z
LAST-MODIFIED:20230131T150954Z
UID:10012494-1678262400-1678305600@neighbur.net
SUMMARY:Walk-In Vaccine & Immunization Clinic at Stock Yards Village
DESCRIPTION:New location for Pop-Up Vaccination Clinic as of November 1\, 2022. The pop-up clinic will operate until March 31\, 2023. \n\n\n\nVaccination clinic is located on the main level beside Ardene in Unit #A127.The address is 1980 St Clair Av. West\, Building A. \n\n\n\nThe clinic is hosted by City of Toronto on Thursday\, Friday and Saturday.  \n\n\n\nHost – Toronto Public Health: \n\n\n\nCovid-19 vaccine available. 1st\, 2nd\, and booster (including bivalent). COVID-19 doses are available to eligible residents aged five and up.Flu vaccines are available for eligible residents aged five and up.Walk-ins are welcome.Health card is not needed.Click here for more information.Toronto Public Health Clinic Hours: \n\n\n\nThursday: 1:00 p.m. to 8:00 p.m.Friday: 1:00 p.m. to 8:00 p.m.Saturday: 11:00 a.m. to 6:00 p.m.
URL:https://neighbur.net/event/walk-in-vaccine-immunization-clinic-at-stock-yards-village-3/2023-03-08/
LOCATION:Stock Yards Village\, 1980 St Clair Ave West\, Toronto
ATTACH;FMTTYPE=image/jpeg:https://neighbur.net/wp-content/uploads/2023/01/COVID19Clinic-1.jpeg
END:VEVENT
BEGIN:VEVENT
DTSTART;TZID=America/Toronto:20230305T080000
DTEND;TZID=America/Toronto:20230305T200000
DTSTAMP:20260423T203956
CREATED:20230131T150953Z
LAST-MODIFIED:20230131T150954Z
UID:10012493-1678003200-1678046400@neighbur.net
SUMMARY:Walk-In Vaccine & Immunization Clinic at Stock Yards Village
DESCRIPTION:New location for Pop-Up Vaccination Clinic as of November 1\, 2022. The pop-up clinic will operate until March 31\, 2023. \n\n\n\nVaccination clinic is located on the main level beside Ardene in Unit #A127.The address is 1980 St Clair Av. West\, Building A. \n\n\n\nThe clinic is hosted by City of Toronto on Thursday\, Friday and Saturday.  \n\n\n\nHost – Toronto Public Health: \n\n\n\nCovid-19 vaccine available. 1st\, 2nd\, and booster (including bivalent). COVID-19 doses are available to eligible residents aged five and up.Flu vaccines are available for eligible residents aged five and up.Walk-ins are welcome.Health card is not needed.Click here for more information.Toronto Public Health Clinic Hours: \n\n\n\nThursday: 1:00 p.m. to 8:00 p.m.Friday: 1:00 p.m. to 8:00 p.m.Saturday: 11:00 a.m. to 6:00 p.m.
URL:https://neighbur.net/event/walk-in-vaccine-immunization-clinic-at-stock-yards-village-3/2023-03-05/
LOCATION:Stock Yards Village\, 1980 St Clair Ave West\, Toronto
ATTACH;FMTTYPE=image/jpeg:https://neighbur.net/wp-content/uploads/2023/01/COVID19Clinic-1.jpeg
END:VEVENT
BEGIN:VEVENT
DTSTART;TZID=America/Toronto:20230302T080000
DTEND;TZID=America/Toronto:20230302T200000
DTSTAMP:20260423T203956
CREATED:20230131T150953Z
LAST-MODIFIED:20230131T150954Z
UID:10012492-1677744000-1677787200@neighbur.net
SUMMARY:Walk-In Vaccine & Immunization Clinic at Stock Yards Village
DESCRIPTION:New location for Pop-Up Vaccination Clinic as of November 1\, 2022. The pop-up clinic will operate until March 31\, 2023. \n\n\n\nVaccination clinic is located on the main level beside Ardene in Unit #A127.The address is 1980 St Clair Av. West\, Building A. \n\n\n\nThe clinic is hosted by City of Toronto on Thursday\, Friday and Saturday.  \n\n\n\nHost – Toronto Public Health: \n\n\n\nCovid-19 vaccine available. 1st\, 2nd\, and booster (including bivalent). COVID-19 doses are available to eligible residents aged five and up.Flu vaccines are available for eligible residents aged five and up.Walk-ins are welcome.Health card is not needed.Click here for more information.Toronto Public Health Clinic Hours: \n\n\n\nThursday: 1:00 p.m. to 8:00 p.m.Friday: 1:00 p.m. to 8:00 p.m.Saturday: 11:00 a.m. to 6:00 p.m.
URL:https://neighbur.net/event/walk-in-vaccine-immunization-clinic-at-stock-yards-village-3/2023-03-02/
LOCATION:Stock Yards Village\, 1980 St Clair Ave West\, Toronto
ATTACH;FMTTYPE=image/jpeg:https://neighbur.net/wp-content/uploads/2023/01/COVID19Clinic-1.jpeg
END:VEVENT
BEGIN:VEVENT
DTSTART;TZID=America/Toronto:20230227T080000
DTEND;TZID=America/Toronto:20230227T200000
DTSTAMP:20260423T203956
CREATED:20230131T150953Z
LAST-MODIFIED:20230131T150954Z
UID:10012491-1677484800-1677528000@neighbur.net
SUMMARY:Walk-In Vaccine & Immunization Clinic at Stock Yards Village
DESCRIPTION:New location for Pop-Up Vaccination Clinic as of November 1\, 2022. The pop-up clinic will operate until March 31\, 2023. \n\n\n\nVaccination clinic is located on the main level beside Ardene in Unit #A127.The address is 1980 St Clair Av. West\, Building A. \n\n\n\nThe clinic is hosted by City of Toronto on Thursday\, Friday and Saturday.  \n\n\n\nHost – Toronto Public Health: \n\n\n\nCovid-19 vaccine available. 1st\, 2nd\, and booster (including bivalent). COVID-19 doses are available to eligible residents aged five and up.Flu vaccines are available for eligible residents aged five and up.Walk-ins are welcome.Health card is not needed.Click here for more information.Toronto Public Health Clinic Hours: \n\n\n\nThursday: 1:00 p.m. to 8:00 p.m.Friday: 1:00 p.m. to 8:00 p.m.Saturday: 11:00 a.m. to 6:00 p.m.
URL:https://neighbur.net/event/walk-in-vaccine-immunization-clinic-at-stock-yards-village-3/2023-02-27/
LOCATION:Stock Yards Village\, 1980 St Clair Ave West\, Toronto
ATTACH;FMTTYPE=image/jpeg:https://neighbur.net/wp-content/uploads/2023/01/COVID19Clinic-1.jpeg
END:VEVENT
BEGIN:VEVENT
DTSTART;TZID=America/Toronto:20230224T080000
DTEND;TZID=America/Toronto:20230224T200000
DTSTAMP:20260423T203956
CREATED:20230131T150953Z
LAST-MODIFIED:20230131T150954Z
UID:10012490-1677225600-1677268800@neighbur.net
SUMMARY:Walk-In Vaccine & Immunization Clinic at Stock Yards Village
DESCRIPTION:New location for Pop-Up Vaccination Clinic as of November 1\, 2022. The pop-up clinic will operate until March 31\, 2023. \n\n\n\nVaccination clinic is located on the main level beside Ardene in Unit #A127.The address is 1980 St Clair Av. West\, Building A. \n\n\n\nThe clinic is hosted by City of Toronto on Thursday\, Friday and Saturday.  \n\n\n\nHost – Toronto Public Health: \n\n\n\nCovid-19 vaccine available. 1st\, 2nd\, and booster (including bivalent). COVID-19 doses are available to eligible residents aged five and up.Flu vaccines are available for eligible residents aged five and up.Walk-ins are welcome.Health card is not needed.Click here for more information.Toronto Public Health Clinic Hours: \n\n\n\nThursday: 1:00 p.m. to 8:00 p.m.Friday: 1:00 p.m. to 8:00 p.m.Saturday: 11:00 a.m. to 6:00 p.m.
URL:https://neighbur.net/event/walk-in-vaccine-immunization-clinic-at-stock-yards-village-3/2023-02-24/
LOCATION:Stock Yards Village\, 1980 St Clair Ave West\, Toronto
ATTACH;FMTTYPE=image/jpeg:https://neighbur.net/wp-content/uploads/2023/01/COVID19Clinic-1.jpeg
END:VEVENT
BEGIN:VEVENT
DTSTART;TZID=America/Toronto:20230221T080000
DTEND;TZID=America/Toronto:20230221T210000
DTSTAMP:20260423T203956
CREATED:20230131T151436Z
LAST-MODIFIED:20230131T151437Z
UID:10012512-1676966400-1677013200@neighbur.net
SUMMARY:Family Day Gift Card Contest at Stock Yards Village
DESCRIPTION:Celebrate Family Day with us. \n\n\n\nFrom February 15 to 21\, visit Stock Yards Village and snap a photo in front of any store with your family\, and follow and tag us on Instagram (@stockyardsvillage) for a chance to win a $200 prepaid gift card.
URL:https://neighbur.net/event/family-day-gift-card-contest-at-stock-yards-village-2/2023-02-21/
LOCATION:Stock Yards Village\, 1980 St Clair Ave West\, Toronto
ATTACH;FMTTYPE=image/jpeg:https://neighbur.net/wp-content/uploads/2023/01/FamilyDay2023-eblast_610.jpg
END:VEVENT
BEGIN:VEVENT
DTSTART;TZID=America/Toronto:20230221T080000
DTEND;TZID=America/Toronto:20230221T200000
DTSTAMP:20260423T203957
CREATED:20230131T150953Z
LAST-MODIFIED:20230131T150954Z
UID:10012489-1676966400-1677009600@neighbur.net
SUMMARY:Walk-In Vaccine & Immunization Clinic at Stock Yards Village
DESCRIPTION:New location for Pop-Up Vaccination Clinic as of November 1\, 2022. The pop-up clinic will operate until March 31\, 2023. \n\n\n\nVaccination clinic is located on the main level beside Ardene in Unit #A127.The address is 1980 St Clair Av. West\, Building A. \n\n\n\nThe clinic is hosted by City of Toronto on Thursday\, Friday and Saturday.  \n\n\n\nHost – Toronto Public Health: \n\n\n\nCovid-19 vaccine available. 1st\, 2nd\, and booster (including bivalent). COVID-19 doses are available to eligible residents aged five and up.Flu vaccines are available for eligible residents aged five and up.Walk-ins are welcome.Health card is not needed.Click here for more information.Toronto Public Health Clinic Hours: \n\n\n\nThursday: 1:00 p.m. to 8:00 p.m.Friday: 1:00 p.m. to 8:00 p.m.Saturday: 11:00 a.m. to 6:00 p.m.
URL:https://neighbur.net/event/walk-in-vaccine-immunization-clinic-at-stock-yards-village-3/2023-02-21/
LOCATION:Stock Yards Village\, 1980 St Clair Ave West\, Toronto
ATTACH;FMTTYPE=image/jpeg:https://neighbur.net/wp-content/uploads/2023/01/COVID19Clinic-1.jpeg
END:VEVENT
BEGIN:VEVENT
DTSTART;TZID=America/Toronto:20230220T080000
DTEND;TZID=America/Toronto:20230220T210000
DTSTAMP:20260423T203957
CREATED:20230131T151436Z
LAST-MODIFIED:20230131T151437Z
UID:10012511-1676880000-1676926800@neighbur.net
SUMMARY:Family Day Gift Card Contest at Stock Yards Village
DESCRIPTION:Celebrate Family Day with us. \n\n\n\nFrom February 15 to 21\, visit Stock Yards Village and snap a photo in front of any store with your family\, and follow and tag us on Instagram (@stockyardsvillage) for a chance to win a $200 prepaid gift card.
URL:https://neighbur.net/event/family-day-gift-card-contest-at-stock-yards-village-2/2023-02-20/
LOCATION:Stock Yards Village\, 1980 St Clair Ave West\, Toronto
ATTACH;FMTTYPE=image/jpeg:https://neighbur.net/wp-content/uploads/2023/01/FamilyDay2023-eblast_610.jpg
END:VEVENT
BEGIN:VEVENT
DTSTART;TZID=America/Toronto:20230219T080000
DTEND;TZID=America/Toronto:20230219T210000
DTSTAMP:20260423T203957
CREATED:20230131T151436Z
LAST-MODIFIED:20230131T151437Z
UID:10012510-1676793600-1676840400@neighbur.net
SUMMARY:Family Day Gift Card Contest at Stock Yards Village
DESCRIPTION:Celebrate Family Day with us. \n\n\n\nFrom February 15 to 21\, visit Stock Yards Village and snap a photo in front of any store with your family\, and follow and tag us on Instagram (@stockyardsvillage) for a chance to win a $200 prepaid gift card.
URL:https://neighbur.net/event/family-day-gift-card-contest-at-stock-yards-village-2/2023-02-19/
LOCATION:Stock Yards Village\, 1980 St Clair Ave West\, Toronto
ATTACH;FMTTYPE=image/jpeg:https://neighbur.net/wp-content/uploads/2023/01/FamilyDay2023-eblast_610.jpg
END:VEVENT
BEGIN:VEVENT
DTSTART;TZID=America/Toronto:20230218T080000
DTEND;TZID=America/Toronto:20230218T210000
DTSTAMP:20260423T203957
CREATED:20230131T151436Z
LAST-MODIFIED:20230131T151437Z
UID:10012509-1676707200-1676754000@neighbur.net
SUMMARY:Family Day Gift Card Contest at Stock Yards Village
DESCRIPTION:Celebrate Family Day with us. \n\n\n\nFrom February 15 to 21\, visit Stock Yards Village and snap a photo in front of any store with your family\, and follow and tag us on Instagram (@stockyardsvillage) for a chance to win a $200 prepaid gift card.
URL:https://neighbur.net/event/family-day-gift-card-contest-at-stock-yards-village-2/2023-02-18/
LOCATION:Stock Yards Village\, 1980 St Clair Ave West\, Toronto
ATTACH;FMTTYPE=image/jpeg:https://neighbur.net/wp-content/uploads/2023/01/FamilyDay2023-eblast_610.jpg
END:VEVENT
BEGIN:VEVENT
DTSTART;TZID=America/Toronto:20230218T080000
DTEND;TZID=America/Toronto:20230218T200000
DTSTAMP:20260423T203957
CREATED:20230131T150953Z
LAST-MODIFIED:20230131T150954Z
UID:10012488-1676707200-1676750400@neighbur.net
SUMMARY:Walk-In Vaccine & Immunization Clinic at Stock Yards Village
DESCRIPTION:New location for Pop-Up Vaccination Clinic as of November 1\, 2022. The pop-up clinic will operate until March 31\, 2023. \n\n\n\nVaccination clinic is located on the main level beside Ardene in Unit #A127.The address is 1980 St Clair Av. West\, Building A. \n\n\n\nThe clinic is hosted by City of Toronto on Thursday\, Friday and Saturday.  \n\n\n\nHost – Toronto Public Health: \n\n\n\nCovid-19 vaccine available. 1st\, 2nd\, and booster (including bivalent). COVID-19 doses are available to eligible residents aged five and up.Flu vaccines are available for eligible residents aged five and up.Walk-ins are welcome.Health card is not needed.Click here for more information.Toronto Public Health Clinic Hours: \n\n\n\nThursday: 1:00 p.m. to 8:00 p.m.Friday: 1:00 p.m. to 8:00 p.m.Saturday: 11:00 a.m. to 6:00 p.m.
URL:https://neighbur.net/event/walk-in-vaccine-immunization-clinic-at-stock-yards-village-3/2023-02-18/
LOCATION:Stock Yards Village\, 1980 St Clair Ave West\, Toronto
ATTACH;FMTTYPE=image/jpeg:https://neighbur.net/wp-content/uploads/2023/01/COVID19Clinic-1.jpeg
END:VEVENT
BEGIN:VEVENT
DTSTART;TZID=America/Toronto:20230217T080000
DTEND;TZID=America/Toronto:20230217T210000
DTSTAMP:20260423T203957
CREATED:20230131T151436Z
LAST-MODIFIED:20230131T151437Z
UID:10012508-1676620800-1676667600@neighbur.net
SUMMARY:Family Day Gift Card Contest at Stock Yards Village
DESCRIPTION:Celebrate Family Day with us. \n\n\n\nFrom February 15 to 21\, visit Stock Yards Village and snap a photo in front of any store with your family\, and follow and tag us on Instagram (@stockyardsvillage) for a chance to win a $200 prepaid gift card.
URL:https://neighbur.net/event/family-day-gift-card-contest-at-stock-yards-village-2/2023-02-17/
LOCATION:Stock Yards Village\, 1980 St Clair Ave West\, Toronto
ATTACH;FMTTYPE=image/jpeg:https://neighbur.net/wp-content/uploads/2023/01/FamilyDay2023-eblast_610.jpg
END:VEVENT
BEGIN:VEVENT
DTSTART;TZID=America/Toronto:20230216T080000
DTEND;TZID=America/Toronto:20230216T210000
DTSTAMP:20260423T203957
CREATED:20230131T151436Z
LAST-MODIFIED:20230131T151437Z
UID:10012507-1676534400-1676581200@neighbur.net
SUMMARY:Family Day Gift Card Contest at Stock Yards Village
DESCRIPTION:Celebrate Family Day with us. \n\n\n\nFrom February 15 to 21\, visit Stock Yards Village and snap a photo in front of any store with your family\, and follow and tag us on Instagram (@stockyardsvillage) for a chance to win a $200 prepaid gift card.
URL:https://neighbur.net/event/family-day-gift-card-contest-at-stock-yards-village-2/2023-02-16/
LOCATION:Stock Yards Village\, 1980 St Clair Ave West\, Toronto
ATTACH;FMTTYPE=image/jpeg:https://neighbur.net/wp-content/uploads/2023/01/FamilyDay2023-eblast_610.jpg
END:VEVENT
BEGIN:VEVENT
DTSTART;TZID=America/Toronto:20230215T080000
DTEND;TZID=America/Toronto:20230215T210000
DTSTAMP:20260423T203957
CREATED:20230131T151436Z
LAST-MODIFIED:20230131T151437Z
UID:10012506-1676448000-1676494800@neighbur.net
SUMMARY:Family Day Gift Card Contest at Stock Yards Village
DESCRIPTION:Celebrate Family Day with us. \n\n\n\nFrom February 15 to 21\, visit Stock Yards Village and snap a photo in front of any store with your family\, and follow and tag us on Instagram (@stockyardsvillage) for a chance to win a $200 prepaid gift card.
URL:https://neighbur.net/event/family-day-gift-card-contest-at-stock-yards-village-2/2023-02-15/
LOCATION:Stock Yards Village\, 1980 St Clair Ave West\, Toronto
ATTACH;FMTTYPE=image/jpeg:https://neighbur.net/wp-content/uploads/2023/01/FamilyDay2023-eblast_610.jpg
END:VEVENT
END:VCALENDAR