BEGIN:VCALENDAR
VERSION:2.0
PRODID:-//Neighbur - ECPv6.15.20//NONSGML v1.0//EN
CALSCALE:GREGORIAN
METHOD:PUBLISH
X-WR-CALNAME:Neighbur
X-ORIGINAL-URL:https://neighbur.net
X-WR-CALDESC:Events for Neighbur
REFRESH-INTERVAL;VALUE=DURATION:PT1H
X-Robots-Tag:noindex
X-PUBLISHED-TTL:PT1H
BEGIN:VTIMEZONE
TZID:America/Toronto
BEGIN:DAYLIGHT
TZOFFSETFROM:-0500
TZOFFSETTO:-0400
TZNAME:EDT
DTSTART:20220313T070000
END:DAYLIGHT
BEGIN:STANDARD
TZOFFSETFROM:-0400
TZOFFSETTO:-0500
TZNAME:EST
DTSTART:20221106T060000
END:STANDARD
BEGIN:DAYLIGHT
TZOFFSETFROM:-0500
TZOFFSETTO:-0400
TZNAME:EDT
DTSTART:20230312T070000
END:DAYLIGHT
BEGIN:STANDARD
TZOFFSETFROM:-0400
TZOFFSETTO:-0500
TZNAME:EST
DTSTART:20231105T060000
END:STANDARD
BEGIN:DAYLIGHT
TZOFFSETFROM:-0500
TZOFFSETTO:-0400
TZNAME:EDT
DTSTART:20240310T070000
END:DAYLIGHT
BEGIN:STANDARD
TZOFFSETFROM:-0400
TZOFFSETTO:-0500
TZNAME:EST
DTSTART:20241103T060000
END:STANDARD
END:VTIMEZONE
BEGIN:VEVENT
DTSTART;TZID=America/Toronto:20230317T190000
DTEND;TZID=America/Toronto:20230317T220000
DTSTAMP:20260424T162701
CREATED:20230224T125016Z
LAST-MODIFIED:20230224T125017Z
UID:10012913-1679079600-1679090400@neighbur.net
SUMMARY:Pysanka (Easter Egg) BINGO
DESCRIPTION:Bingo evening with PYSANKAs (decorated Easter eggs as bingo prizes
URL:https://neighbur.net/event/pysanka-easter-egg-bingo/
LOCATION:Ukrainian Orthodox Church of St. Demetrius\, 3338 Lakeshore Blvd West\, Etobicoke\, M8W 1M9
ATTACH;FMTTYPE=image/jpeg:https://neighbur.net/wp-content/uploads/2023/02/image0.jpeg
ORGANIZER;CN="St. Demetrius Church Women's Organization":MAILTO:stdemetriusuoc.ca
END:VEVENT
END:VCALENDAR