BEGIN:VCALENDAR
VERSION:2.0
PRODID:-//Neighbur - ECPv6.15.18//NONSGML v1.0//EN
CALSCALE:GREGORIAN
METHOD:PUBLISH
X-ORIGINAL-URL:https://neighbur.net
X-WR-CALDESC:Events for Neighbur
REFRESH-INTERVAL;VALUE=DURATION:PT1H
X-Robots-Tag:noindex
X-PUBLISHED-TTL:PT1H
BEGIN:VTIMEZONE
TZID:America/Toronto
BEGIN:DAYLIGHT
TZOFFSETFROM:-0500
TZOFFSETTO:-0400
TZNAME:EDT
DTSTART:20220313T070000
END:DAYLIGHT
BEGIN:STANDARD
TZOFFSETFROM:-0400
TZOFFSETTO:-0500
TZNAME:EST
DTSTART:20221106T060000
END:STANDARD
BEGIN:DAYLIGHT
TZOFFSETFROM:-0500
TZOFFSETTO:-0400
TZNAME:EDT
DTSTART:20230312T070000
END:DAYLIGHT
BEGIN:STANDARD
TZOFFSETFROM:-0400
TZOFFSETTO:-0500
TZNAME:EST
DTSTART:20231105T060000
END:STANDARD
BEGIN:DAYLIGHT
TZOFFSETFROM:-0500
TZOFFSETTO:-0400
TZNAME:EDT
DTSTART:20240310T070000
END:DAYLIGHT
BEGIN:STANDARD
TZOFFSETFROM:-0400
TZOFFSETTO:-0500
TZNAME:EST
DTSTART:20241103T060000
END:STANDARD
BEGIN:DAYLIGHT
TZOFFSETFROM:-0500
TZOFFSETTO:-0400
TZNAME:EDT
DTSTART:20250309T070000
END:DAYLIGHT
BEGIN:STANDARD
TZOFFSETFROM:-0400
TZOFFSETTO:-0500
TZNAME:EST
DTSTART:20251102T060000
END:STANDARD
END:VTIMEZONE
BEGIN:VEVENT
DTSTART;TZID=America/Toronto:20240508T100000
DTEND;TZID=America/Toronto:20240508T210000
DTSTAMP:20260420T185750
CREATED:20240410T201658Z
LAST-MODIFIED:20240410T201658Z
UID:10027628-1715162400-1715202000@neighbur.net
SUMMARY:Fleurs de Villes ARTISTE in Bloor-Yorkville
DESCRIPTION:Fleurs de Villes returns to Toronto’s Bloor-Yorkville neighbourhood from May 8th-12th with their 100th show Fleurs de Villes ARTISTE. Hosted by the Bloor-Yorkville Business Improvement Area (BY BIA) this five-day activation will take the public on a self-guided floral journey honouring accomplished artists through history while featuring the works of top local florists.
URL:https://neighbur.net/event/fleurs-de-villes-artiste-in-bloor-yorkville/
LOCATION:W Hotel Toronto\, 90 Bloor St E\, Toronto\, ON\, Ontario\, M4W 1A7\, Canada
ATTACH;FMTTYPE=image/png:https://neighbur.net/wp-content/uploads/2024/04/FVD_ARTISTE.png
END:VEVENT
BEGIN:VEVENT
DTSTART;TZID=America/Toronto:20230510T100000
DTEND;TZID=America/Toronto:20230514T180000
DTSTAMP:20260420T185750
CREATED:20230429T173413Z
LAST-MODIFIED:20230429T173414Z
UID:10014876-1683712800-1684087200@neighbur.net
SUMMARY:Fleurs de Villes VOYAGE
DESCRIPTION:A floral trail of discovery and global destinations\, created by Toronto’s favourite florists. A five-day activation honouring timeless monuments and diverse traditions\, festivals\, fashion and notable people from cities around the world. \nFleurs de Villes VOYAGE will take place as a self-guided floral trail through Bloor-Yorkville featuring 35 stops throughout the neighbourhood\, including the Anndore House Hotel\, 2 Bloor East\, The Colonnade\, Eataly Toronto\, the Hazelton Hotel\, Holt Renfrew Centre\, Holt Renfrew\, Manulife Centre\, Park Hyatt Toronto\, Village Orthodontics\, W Toronto\, Yorkville Lane\, Yorkville Village\, Slate Asset Management / Canderel at 151 Bloor West and more. The event will highlight iconic global destinations such as the Canadian Rocky Mountains and Dutch tulip fields\, through spectacular installations and mannequins that will take visitors on an experience of discovery and cultural storytelling.
URL:https://neighbur.net/event/fleurs-de-villes-voyage/
LOCATION:W Hotel Toronto\, 90 Bloor St E\, Toronto\, ON\, Ontario\, M4W 1A7\, Canada
END:VEVENT
BEGIN:VEVENT
DTSTART;TZID=America/Toronto:20230510T100000
DTEND;TZID=America/Toronto:20230510T180000
DTSTAMP:20260420T185750
CREATED:20230502T001914Z
LAST-MODIFIED:20230502T001915Z
UID:10015090-1683712800-1683741600@neighbur.net
SUMMARY:Fleurs de Villes VOYAGE Bloor-Yorkville
DESCRIPTION:I wanted to bring to your attention an event happening from May 10-14th\, 2023. Fleurs de Villes VOYAGE Bloor-Yorkville is a floral trail of discovery and global destinations\, created by Toronto’s favourite florists. \nFleurs de Villes VOYAGE will take place as a self-guided floral trail through Bloor-Yorkville featuring 35 stops throughout the neighbourhood\, including the Anndore House Hotel\, 2 Bloor East\, The Colonnade\, Eataly Toronto\, the Hazelton Hotel\, Holt Renfrew Centre\, Holt Renfrew\, Manulife Centre\, Park Hyatt Toronto\, Village Orthodontics\, W Toronto\, Yorkville Lane\, Yorkville Village\, Slate Asset Management / Canderel at 151 Bloor West and more.  \nThe event will highlight iconic global destinations such as the Canadian Rocky Mountains and Dutch tulip fields\, through spectacular installations and mannequins that will take visitors on an experience of discovery and cultural storytelling.
URL:https://neighbur.net/event/fleurs-de-villes-voyage-bloor-yorkville/
LOCATION:W Hotel Toronto\, 90 Bloor St E\, Toronto\, ON\, Ontario\, M4W 1A7\, Canada
END:VEVENT
END:VCALENDAR